BEGIN:VCALENDAR
VERSION:2.0
PRODID:-//Fairfield County Fair - ECPv6.15.20//NONSGML v1.0//EN
CALSCALE:GREGORIAN
METHOD:PUBLISH
X-ORIGINAL-URL:https://fairfieldcountyfair.org
X-WR-CALDESC:Events for Fairfield County Fair
REFRESH-INTERVAL;VALUE=DURATION:PT1H
X-Robots-Tag:noindex
X-PUBLISHED-TTL:PT1H
BEGIN:VTIMEZONE
TZID:America/Detroit
BEGIN:DAYLIGHT
TZOFFSETFROM:-0500
TZOFFSETTO:-0400
TZNAME:EDT
DTSTART:20250309T070000
END:DAYLIGHT
BEGIN:STANDARD
TZOFFSETFROM:-0400
TZOFFSETTO:-0500
TZNAME:EST
DTSTART:20251102T060000
END:STANDARD
BEGIN:DAYLIGHT
TZOFFSETFROM:-0500
TZOFFSETTO:-0400
TZNAME:EDT
DTSTART:20260308T070000
END:DAYLIGHT
BEGIN:STANDARD
TZOFFSETFROM:-0400
TZOFFSETTO:-0500
TZNAME:EST
DTSTART:20261101T060000
END:STANDARD
BEGIN:DAYLIGHT
TZOFFSETFROM:-0500
TZOFFSETTO:-0400
TZNAME:EDT
DTSTART:20270314T070000
END:DAYLIGHT
BEGIN:STANDARD
TZOFFSETFROM:-0400
TZOFFSETTO:-0500
TZNAME:EST
DTSTART:20271107T060000
END:STANDARD
END:VTIMEZONE
BEGIN:VEVENT
DTSTART;TZID=America/Detroit:20260317T190000
DTEND;TZID=America/Detroit:20260317T213000
DTSTAMP:20260424T002714
CREATED:20250107T223309Z
LAST-MODIFIED:20250107T224141Z
UID:10000955-1773774000-1773783000@fairfieldcountyfair.org
SUMMARY:Fairfield County Ag Society (FCAS) Board Meeting
DESCRIPTION:
URL:https://fairfieldcountyfair.org/event/fairfield-county-ag-society-fcas-board-meeting/2026-03-17/
LOCATION:Ricketts Hall
CATEGORIES:Board Meetings
ATTACH;FMTTYPE=image/jpeg:https://fairfieldcountyfair.org/wp-content/uploads/2022/11/FairfieldCountyFairBoardofDirectorsMeeting.jpg
END:VEVENT
END:VCALENDAR