BEGIN:VCALENDAR
VERSION:2.0
PRODID:-//Fairfield County Fair - ECPv6.15.20//NONSGML v1.0//EN
CALSCALE:GREGORIAN
METHOD:PUBLISH
X-WR-CALNAME:Fairfield County Fair
X-ORIGINAL-URL:https://fairfieldcountyfair.org
X-WR-CALDESC:Events for Fairfield County Fair
REFRESH-INTERVAL;VALUE=DURATION:PT1H
X-Robots-Tag:noindex
X-PUBLISHED-TTL:PT1H
BEGIN:VTIMEZONE
TZID:America/Detroit
BEGIN:DAYLIGHT
TZOFFSETFROM:-0500
TZOFFSETTO:-0400
TZNAME:EDT
DTSTART:20250309T070000
END:DAYLIGHT
BEGIN:STANDARD
TZOFFSETFROM:-0400
TZOFFSETTO:-0500
TZNAME:EST
DTSTART:20251102T060000
END:STANDARD
BEGIN:DAYLIGHT
TZOFFSETFROM:-0500
TZOFFSETTO:-0400
TZNAME:EDT
DTSTART:20260308T070000
END:DAYLIGHT
BEGIN:STANDARD
TZOFFSETFROM:-0400
TZOFFSETTO:-0500
TZNAME:EST
DTSTART:20261101T060000
END:STANDARD
BEGIN:DAYLIGHT
TZOFFSETFROM:-0500
TZOFFSETTO:-0400
TZNAME:EDT
DTSTART:20270314T070000
END:DAYLIGHT
BEGIN:STANDARD
TZOFFSETFROM:-0400
TZOFFSETTO:-0500
TZNAME:EST
DTSTART:20271107T060000
END:STANDARD
END:VTIMEZONE
BEGIN:VEVENT
DTSTART;TZID=America/Detroit:20260411T160000
DTEND;TZID=America/Detroit:20260412T160000
DTSTAMP:20260423T224920
CREATED:20260128T154049Z
LAST-MODIFIED:20260403T191108Z
UID:10001161-1775923200-1776009600@fairfieldcountyfair.org
SUMMARY:All American Circus
DESCRIPTION:All American Circus \nSaturday April 11 – Sunday April 12\, 2026 \nSaturday 4/11 4:00 P.M.\, 7:00 P.M. \nSunday 4/12 4:00 P.M. \nAAA Building \n 
URL:https://fairfieldcountyfair.org/event/all-american-circus-2/
LOCATION:OH
CATEGORIES:Family Fun
ATTACH;FMTTYPE=image/png:https://fairfieldcountyfair.org/wp-content/uploads/2026/01/AAC-Logo-228.png
END:VEVENT
END:VCALENDAR