BEGIN:VCALENDAR
VERSION:2.0
PRODID:-//Fairfield County Fair - ECPv6.15.20//NONSGML v1.0//EN
CALSCALE:GREGORIAN
METHOD:PUBLISH
X-WR-CALNAME:Fairfield County Fair
X-ORIGINAL-URL:https://fairfieldcountyfair.org
X-WR-CALDESC:Events for Fairfield County Fair
REFRESH-INTERVAL;VALUE=DURATION:PT1H
X-Robots-Tag:noindex
X-PUBLISHED-TTL:PT1H
BEGIN:VTIMEZONE
TZID:America/Detroit
BEGIN:DAYLIGHT
TZOFFSETFROM:-0500
TZOFFSETTO:-0400
TZNAME:EDT
DTSTART:20250309T070000
END:DAYLIGHT
BEGIN:STANDARD
TZOFFSETFROM:-0400
TZOFFSETTO:-0500
TZNAME:EST
DTSTART:20251102T060000
END:STANDARD
BEGIN:DAYLIGHT
TZOFFSETFROM:-0500
TZOFFSETTO:-0400
TZNAME:EDT
DTSTART:20260308T070000
END:DAYLIGHT
BEGIN:STANDARD
TZOFFSETFROM:-0400
TZOFFSETTO:-0500
TZNAME:EST
DTSTART:20261101T060000
END:STANDARD
BEGIN:DAYLIGHT
TZOFFSETFROM:-0500
TZOFFSETTO:-0400
TZNAME:EDT
DTSTART:20270314T070000
END:DAYLIGHT
BEGIN:STANDARD
TZOFFSETFROM:-0400
TZOFFSETTO:-0500
TZNAME:EST
DTSTART:20271107T060000
END:STANDARD
END:VTIMEZONE
BEGIN:VEVENT
DTSTART;TZID=America/Detroit:20260424T080000
DTEND;TZID=America/Detroit:20260425T170000
DTSTAMP:20260423T224923
CREATED:20260311T153720Z
LAST-MODIFIED:20260311T153720Z
UID:10001172-1777017600-1777136400@fairfieldcountyfair.org
SUMMARY:Spring at the Round Barn
DESCRIPTION:Spring at the Round Barn \nFriday April 24 – 4:00 P.M. – 8:00 P.M. \nSaturday April 25 – 9:00 A.M. – 5:00 P.M. \nRound Cattle Barn
URL:https://fairfieldcountyfair.org/event/spring-at-the-round-barn/
LOCATION:Round Barn\, 157 East Fair Avenue\, Lancaster\, 43130\, United States
CATEGORIES:Single Event
END:VEVENT
END:VCALENDAR