BEGIN:VCALENDAR
VERSION:2.0
PRODID:-//Fairfield County Fair - ECPv6.15.20//NONSGML v1.0//EN
CALSCALE:GREGORIAN
METHOD:PUBLISH
X-WR-CALNAME:Fairfield County Fair
X-ORIGINAL-URL:https://fairfieldcountyfair.org
X-WR-CALDESC:Events for Fairfield County Fair
REFRESH-INTERVAL;VALUE=DURATION:PT1H
X-Robots-Tag:noindex
X-PUBLISHED-TTL:PT1H
BEGIN:VTIMEZONE
TZID:America/Detroit
BEGIN:DAYLIGHT
TZOFFSETFROM:-0500
TZOFFSETTO:-0400
TZNAME:EDT
DTSTART:20240310T070000
END:DAYLIGHT
BEGIN:STANDARD
TZOFFSETFROM:-0400
TZOFFSETTO:-0500
TZNAME:EST
DTSTART:20241103T060000
END:STANDARD
BEGIN:DAYLIGHT
TZOFFSETFROM:-0500
TZOFFSETTO:-0400
TZNAME:EDT
DTSTART:20250309T070000
END:DAYLIGHT
BEGIN:STANDARD
TZOFFSETFROM:-0400
TZOFFSETTO:-0500
TZNAME:EST
DTSTART:20251102T060000
END:STANDARD
BEGIN:DAYLIGHT
TZOFFSETFROM:-0500
TZOFFSETTO:-0400
TZNAME:EDT
DTSTART:20260308T070000
END:DAYLIGHT
BEGIN:STANDARD
TZOFFSETFROM:-0400
TZOFFSETTO:-0500
TZNAME:EST
DTSTART:20261101T060000
END:STANDARD
BEGIN:DAYLIGHT
TZOFFSETFROM:-0500
TZOFFSETTO:-0400
TZNAME:EDT
DTSTART:20270314T070000
END:DAYLIGHT
BEGIN:STANDARD
TZOFFSETFROM:-0400
TZOFFSETTO:-0500
TZNAME:EST
DTSTART:20271107T060000
END:STANDARD
END:VTIMEZONE
BEGIN:VEVENT
DTSTART;TZID=America/Detroit:20260207T100000
DTEND;TZID=America/Detroit:20260207T170000
DTSTAMP:20260424T044241
CREATED:20260123T153221Z
LAST-MODIFIED:20260123T153439Z
UID:10001149-1770458400-1770483600@fairfieldcountyfair.org
SUMMARY:DAF Auction
DESCRIPTION:Date of Event: Saturday\, February 7\, 2026 \nTime of Event: 10:00 A.M \nLocation: AAA Building \nDAF Website
URL:https://fairfieldcountyfair.org/event/daf-auction/2026-02-07/
LOCATION:AAA Bldg.\, 157 E. Fair Ave.\, Lancaster\, OH\, 43130\, United States
CATEGORIES:Single Event
ATTACH;FMTTYPE=image/jpeg:https://fairfieldcountyfair.org/wp-content/uploads/2026/01/Resized-DAF.jpg
END:VEVENT
BEGIN:VEVENT
DTSTART;TZID=America/Detroit:20260120T190000
DTEND;TZID=America/Detroit:20260120T213000
DTSTAMP:20260424T044241
CREATED:20250107T223309Z
LAST-MODIFIED:20250107T224141Z
UID:10000953-1768935600-1768944600@fairfieldcountyfair.org
SUMMARY:Fairfield County Ag Society (FCAS) Board Meeting
DESCRIPTION:
URL:https://fairfieldcountyfair.org/event/fairfield-county-ag-society-fcas-board-meeting/2026-01-20/
LOCATION:Ricketts Hall
CATEGORIES:Board Meetings
ATTACH;FMTTYPE=image/jpeg:https://fairfieldcountyfair.org/wp-content/uploads/2022/11/FairfieldCountyFairBoardofDirectorsMeeting.jpg
END:VEVENT
BEGIN:VEVENT
DTSTART;TZID=America/Detroit:20251216T190000
DTEND;TZID=America/Detroit:20251216T213000
DTSTAMP:20260424T044241
CREATED:20250107T221654Z
LAST-MODIFIED:20250107T224747Z
UID:10000973-1765911600-1765920600@fairfieldcountyfair.org
SUMMARY:FCAS Board Meeting
DESCRIPTION:Please join us for our Fairfield County Ag Society meeting.
URL:https://fairfieldcountyfair.org/event/fcas-board-meeting/2025-12-16/
LOCATION:Ricketts Hall
CATEGORIES:Board Meetings
ATTACH;FMTTYPE=image/jpeg:https://fairfieldcountyfair.org/wp-content/uploads/2022/11/FairfieldCountyFairBoardofDirectorsMeeting.jpg
END:VEVENT
BEGIN:VEVENT
DTSTART;TZID=America/Detroit:20251101T100000
DTEND;TZID=America/Detroit:20251101T160000
DTSTAMP:20260424T044241
CREATED:20251022T172340Z
LAST-MODIFIED:20251022T172515Z
UID:10000944-1761991200-1762012800@fairfieldcountyfair.org
SUMMARY:Fairfield County Ag. Society Board Meeting and Reorganization Meeting
DESCRIPTION:We will begin with a report from all 2025 Directors on their recommendations for changes for the 2026 fair. After the Directors are sworn in for terms from November 2025 through 2027\, we will hold our reorganization meeting.
URL:https://fairfieldcountyfair.org/event/fairfield-county-ag-society-reorganization-meeting-2/
LOCATION:Ricketts Hall
CATEGORIES:Board Meetings
ATTACH;FMTTYPE=image/jpeg:https://fairfieldcountyfair.org/wp-content/uploads/2022/11/FairfieldCountyFairBoardofDirectorsMeeting.jpg
END:VEVENT
BEGIN:VEVENT
DTSTART;TZID=America/Detroit:20251025T090000
DTEND;TZID=America/Detroit:20251025T130000
DTSTAMP:20260424T044241
CREATED:20251017T183716Z
LAST-MODIFIED:20251017T183934Z
UID:10001148-1761382800-1761397200@fairfieldcountyfair.org
SUMMARY:Fairfield Co. Ag. Society Annual Election
DESCRIPTION:NOTICE OF ELECTION \nTo Members of the Fairfield County Agricultural Society. The annual election will be held at the office of the Society\, Fairgrounds\, Lancaster\, Ohio on Saturday\, October 25\, 2025\, from 9:00 a.m. to 1:00 p.m. \nSix Directors to be elected for terms of office starting November 1\, 2025 are as follows: One Director from Bloom Township to serve three years\, One Director from Greenfield Township to serve three years\, One Director from Lancaster City to serve three years\, One Director from Liberty Township to serve three years\, One Director from Rushcreek to serve three years and One Director from County-at-Large to serve three years. \nMembers of the Fairfield County Agricultural Society must declare their candidacy for office of Director by filing a petition with the Secretary or Fair Manager of the Fairfield County Agricultural Society. All candidates for members of the Board must be members of the Fairfield County Agricultural Society.  All petitions must be filed at the office of the Society by 4:00 p.m. Friday\, October 10\, 2025. \nFAIRFIELD COUNTY AGRICULTURAL SOCIETY–Doug Leith\, President \nNOTE:  Bring a valid proof of identity \nProposed Amendment to the By-laws of the Fairfield County Agriculture Society–Provision Permitting the Sale of Alcohol on Fairgrounds under Specified Conditions\nSection X: Limited Authorization for Alcohol Sales on Fairgrounds \n\nPurpose: This amendment is established to allow the regulated sale of alcoholic beverages on the premises of the Fairfield County fairgrounds strictly under the terms and conditions set forth herein.\nScope of Authorization–The sale of alcoholic beverages on the fairgrounds is permitted solely during periods when the Lancaster Music Festival is held on the premises as part of an agreement for music entertainment purposes.\nNo other events\, activities\, or periods shall permit the sale of alcohol unless specifically authorized by subsequent amendment to these by-laws.\n\nCompliance with Laws:\nAll sales and distribution of alcoholic beverages must comply fully with all applicable state and local laws\, rules\, and regulations governing such activity.\nAll permits\, licenses\, and insurance required by law must be obtained by the Lancaster Music Festival prior to any sale of alcohol on the fairgrounds.\nDuration and Review:\nThis authorization is effective only for the duration of the Lancaster Music Festival agreement and may be reviewed\, modified\, or revoked by a majority vote of the Fairfield County Agriculture Society’s Board of Directors at any time.\nThis amendment is to be incorporated into the existing by-laws of the Fairfield County Agriculture Society and shall take effect immediately upon passage at the annual election in October 2025.
URL:https://fairfieldcountyfair.org/event/fairfield-co-ag-society-annual-election/
LOCATION:Sr. Fair Administration Office\, 157 E. Fair Ave.\, Lancaster\, OH\, 43130\, United States
ATTACH;FMTTYPE=image/png:https://fairfieldcountyfair.org/wp-content/uploads/2022/11/cropped-FairfieldCountyFairLogo-removebg-preview.png
END:VEVENT
BEGIN:VEVENT
DTSTART;TZID=America/Detroit:20251011T193000
DTEND;TZID=America/Detroit:20251011T223000
DTSTAMP:20260424T044241
CREATED:20230428T144159Z
LAST-MODIFIED:20250806T162827Z
UID:10001080-1760211000-1760221800@fairfieldcountyfair.org
SUMMARY:Auto Demolition Derby
DESCRIPTION:Tickets available online.  Get yours early before they sell out\nTime: 7:30 p.m.\nLocation: Grandstand\nClasses for Friday (subject to change):\n\n\nProstock\n\n\nSmash It Mini\n\n\nStreet Stock Full\n\n\nStreet Stock Mini\n\n\nPower Wheels\n\n\nClasses for Saturday (subject to change):\n\n\nProstock\n\n\nStreet Stock Full\n\n\nStreet Stock Mini\n\n\nStreet Stock Mini Van / Mini Truck / SUV\n\n\nPower Wheels\n\n\nFor rules\, please visit https://smashitderby.com/county-fair-rules/.
URL:https://fairfieldcountyfair.org/event/auto-demolition-derby-2/2025-10-11/
LOCATION:Grandstand
CATEGORIES:Contests,Fair Week,Grandstand Entertainment
ATTACH;FMTTYPE=image/jpeg:https://fairfieldcountyfair.org/wp-content/uploads/2022/12/auto-derpy-01.jpg
END:VEVENT
BEGIN:VEVENT
DTSTART;TZID=America/Detroit:20251011T150000
DTEND;TZID=America/Detroit:20251011T163000
DTSTAMP:20260424T044241
CREATED:20250107T221654Z
LAST-MODIFIED:20250107T224747Z
UID:10000972-1760194800-1760200200@fairfieldcountyfair.org
SUMMARY:FCAS Board Meeting
DESCRIPTION:Please join us for our Fairfield County Ag Society meeting.
URL:https://fairfieldcountyfair.org/event/fcas-board-meeting/2025-10-11/
LOCATION:Ricketts Hall
CATEGORIES:Board Meetings
ATTACH;FMTTYPE=image/jpeg:https://fairfieldcountyfair.org/wp-content/uploads/2022/11/FairfieldCountyFairBoardofDirectorsMeeting.jpg
END:VEVENT
BEGIN:VEVENT
DTSTART;TZID=America/Detroit:20251011T123000
DTEND;TZID=America/Detroit:20251011T123000
DTSTAMP:20260424T044241
CREATED:20250920T185909Z
LAST-MODIFIED:20250920T192229Z
UID:10001120-1760185800-1760185800@fairfieldcountyfair.org
SUMMARY:Kiddie Pedal Pull: Free Show
DESCRIPTION:Our three to eight year old contestants compete in pedal tractor pulls.  Registration is available on-site for their age group.\nLocation: Round Cattle Barn on South side of Fairgrounds\nAges: 3 to 8 years old
URL:https://fairfieldcountyfair.org/event/kiddie-pedal-pull-free-show/
LOCATION:Round Barn\, 157 East Fair Avenue\, Lancaster\, 43130\, United States
ATTACH;FMTTYPE=image/png:https://fairfieldcountyfair.org/wp-content/uploads/2022/12/Kiddie-Pedal-Puller-2022.png
END:VEVENT
BEGIN:VEVENT
DTSTART;TZID=America/Detroit:20251011T120000
DTEND;TZID=America/Detroit:20251011T140000
DTSTAMP:20260424T044241
CREATED:20250920T184812Z
LAST-MODIFIED:20250926T022858Z
UID:10001119-1760184000-1760191200@fairfieldcountyfair.org
SUMMARY:175th Anniversary Special Concert: Free Show
DESCRIPTION:Debbie Wright and Friends and Hillbilly Deluxe will delight you with a free show to celebrate the community’s support of our fair for 175 years.  These two high energy groups are crowd favorites where ever they go. \nDebbie Wright and Friends fill the Art Hall whenever they perform so we decided to have them perform in a larger venue. \nStarted by two cousins from Baltimore\, Ohio\, Hillbilly Deluxe has been performing for nearly two decades. They bring a diverse mix of songs. As they once said\, ““We do anything from classic country to modern country to rock ‘n’ roll\, southern rock\, AC/DC to Skynyrd to Merle Haggard to Luke Bryan.” \n 
URL:https://fairfieldcountyfair.org/event/175th-anniversary-special-concert-free-show/
CATEGORIES:175th Anniversary Event,Fair Week,Family Fun,Grandstand Entertainment
ATTACH;FMTTYPE=image/png:https://fairfieldcountyfair.org/wp-content/uploads/2025/09/Hillbilly-Deluxe.png
END:VEVENT
BEGIN:VEVENT
DTSTART;TZID=America/Detroit:20251010T193000
DTEND;TZID=America/Detroit:20251010T223000
DTSTAMP:20260424T044241
CREATED:20230428T144159Z
LAST-MODIFIED:20250806T162827Z
UID:10001079-1760124600-1760135400@fairfieldcountyfair.org
SUMMARY:Auto Demolition Derby
DESCRIPTION:Tickets available online.  Get yours early before they sell out\nTime: 7:30 p.m.\nLocation: Grandstand\nClasses for Friday (subject to change):\n\n\nProstock\n\n\nSmash It Mini\n\n\nStreet Stock Full\n\n\nStreet Stock Mini\n\n\nPower Wheels\n\n\nClasses for Saturday (subject to change):\n\n\nProstock\n\n\nStreet Stock Full\n\n\nStreet Stock Mini\n\n\nStreet Stock Mini Van / Mini Truck / SUV\n\n\nPower Wheels\n\n\nFor rules\, please visit https://smashitderby.com/county-fair-rules/.
URL:https://fairfieldcountyfair.org/event/auto-demolition-derby-2/2025-10-10/
LOCATION:Grandstand
CATEGORIES:Contests,Fair Week,Grandstand Entertainment
ATTACH;FMTTYPE=image/jpeg:https://fairfieldcountyfair.org/wp-content/uploads/2022/12/auto-derpy-01.jpg
END:VEVENT
BEGIN:VEVENT
DTSTART;TZID=America/Detroit:20251010T190000
DTEND;TZID=America/Detroit:20251010T193000
DTSTAMP:20260424T044241
CREATED:20250926T024417Z
LAST-MODIFIED:20250926T024417Z
UID:10001123-1760122800-1760124600@fairfieldcountyfair.org
SUMMARY:175th Anniversary Fireworks
DESCRIPTION:Celebrate the 175th Anniversary with us as we enjoy a fireworks show. They will be set off from Mt. Pleasant so they will be visible anywhere on the fairgrounds and the surrounding area. The rain date for the fireworks will be Saturday.
URL:https://fairfieldcountyfair.org/event/175th-anniversary-fireworks/
LOCATION:Grandstand
CATEGORIES:175th Anniversary Event,Fair Week,Family Fun,Grandstand Entertainment
ATTACH;FMTTYPE=image/jpeg:https://fairfieldcountyfair.org/wp-content/uploads/2025/09/fireworks-scaled.jpg
END:VEVENT
BEGIN:VEVENT
DTSTART;TZID=America/Detroit:20251010T130000
DTEND;TZID=America/Detroit:20251010T153000
DTSTAMP:20260424T044241
CREATED:20250806T204226Z
LAST-MODIFIED:20250806T204226Z
UID:10001084-1760101200-1760110200@fairfieldcountyfair.org
SUMMARY:Harness Racing
DESCRIPTION:Date and Times\n\n\nWednesday at 1:00 p.m. — OCRA Races include: 3 year old Colt Pace; 2 year Old Colt Pace; 2 year old Filly Pace; 3 year old Filly Trot; Signature Series: I. J. Collins/Alt Family Trot\n\n\nThursday at 1:30 p.m. —OCRA Races include: 2 year old Filly Trot; 3 year Old Filly Pace; 2 year old Colt Trot; 3 year old Colt Trot; Signature Series: Ricketts Family Pace\n\n\n**Rain Date: Friday at 1:00 p.m.\n\n\nLocation: Grandstands\nPrice: Free to Watch\nBetting windows open: 30 minutes before the first race.
URL:https://fairfieldcountyfair.org/event/harness-racing-2/2025-10-10/
LOCATION:Grandstand
CATEGORIES:Contests,Fair Week,Grandstand Entertainment
ATTACH;FMTTYPE=image/jpeg:https://fairfieldcountyfair.org/wp-content/uploads/2022/12/horseraces.jpg
END:VEVENT
BEGIN:VEVENT
DTSTART;TZID=America/Detroit:20251009T193000
DTEND;TZID=America/Detroit:20251009T223000
DTSTAMP:20260424T044241
CREATED:20250818T115258Z
LAST-MODIFIED:20250818T115258Z
UID:10001090-1760038200-1760049000@fairfieldcountyfair.org
SUMMARY:Combine Derby
DESCRIPTION:Price: Free \nTime: 7:30 p.m. \nLocation: Grandstand
URL:https://fairfieldcountyfair.org/event/combine-derby-2/
LOCATION:Grandstand
CATEGORIES:Contests,Fair Week,Grandstand Entertainment
ATTACH;FMTTYPE=image/jpeg:https://fairfieldcountyfair.org/wp-content/uploads/2022/12/combinederby-01.jpg
END:VEVENT
BEGIN:VEVENT
DTSTART;TZID=America/Detroit:20251009T190000
DTEND;TZID=America/Detroit:20251009T210000
DTSTAMP:20260424T044241
CREATED:20250917T211925Z
LAST-MODIFIED:20250917T211926Z
UID:10001113-1760036400-1760043600@fairfieldcountyfair.org
SUMMARY:Cedar Hill Bluegrass Boys:  Free Show
DESCRIPTION:The Cedar Hill Bluegrass Boys are a local act known for their traditional bluegrass music.  They formed in 2009 and recorded their debut album in 2013.  Come and request one of your favorites!\nThey will perform on the stage where quilts are displayed on the northeast side of the Art Hall.
URL:https://fairfieldcountyfair.org/event/cedar-hill-bluegrass-boys-free-show/
LOCATION:Art Hall
CATEGORIES:Art Hall Entertainment,Fair Week,Family Fun
ATTACH;FMTTYPE=image/jpeg:https://fairfieldcountyfair.org/wp-content/uploads/2023/03/CedarHillBluegrassBoys.jpg
END:VEVENT
BEGIN:VEVENT
DTSTART;TZID=America/Detroit:20251009T133000
DTEND;TZID=America/Detroit:20251009T160000
DTSTAMP:20260424T044241
CREATED:20250806T204226Z
LAST-MODIFIED:20250806T204226Z
UID:10001083-1760016600-1760025600@fairfieldcountyfair.org
SUMMARY:Harness Racing
DESCRIPTION:Date and Times\n\n\nWednesday at 1:00 p.m. — OCRA Races include: 3 year old Colt Pace; 2 year Old Colt Pace; 2 year old Filly Pace; 3 year old Filly Trot; Signature Series: I. J. Collins/Alt Family Trot\n\n\nThursday at 1:30 p.m. —OCRA Races include: 2 year old Filly Trot; 3 year Old Filly Pace; 2 year old Colt Trot; 3 year old Colt Trot; Signature Series: Ricketts Family Pace\n\n\n**Rain Date: Friday at 1:00 p.m.\n\n\nLocation: Grandstands\nPrice: Free to Watch\nBetting windows open: 30 minutes before the first race.
URL:https://fairfieldcountyfair.org/event/harness-racing-2/2025-10-09/
LOCATION:Grandstand
CATEGORIES:Contests,Fair Week,Grandstand Entertainment
ATTACH;FMTTYPE=image/jpeg:https://fairfieldcountyfair.org/wp-content/uploads/2022/12/horseraces.jpg
END:VEVENT
BEGIN:VEVENT
DTSTART;TZID=America/Detroit:20251009T110000
DTEND;TZID=America/Detroit:20251009T160000
DTSTAMP:20260424T044241
CREATED:20251005T184452Z
LAST-MODIFIED:20251005T184452Z
UID:10001146-1760007600-1760025600@fairfieldcountyfair.org
SUMMARY:Jr. Fair: Breeding Rabbit Show
DESCRIPTION:
URL:https://fairfieldcountyfair.org/event/jr-fair-breeding-rabbit-show/
LOCATION:#50 Bldg. – Jr. Fair Show Arena\, 157 E. Fair Ave.\, Lancaster\, OH\, 43130\, United States
CATEGORIES:Contests,Jr. Fair,Livestock competition
ATTACH;FMTTYPE=image/jpeg:https://fairfieldcountyfair.org/wp-content/uploads/2025/10/Breeding-rabbit_online.jpg
END:VEVENT
BEGIN:VEVENT
DTSTART;TZID=America/Detroit:20251009T103000
DTEND;TZID=America/Detroit:20251009T143000
DTSTAMP:20260424T044241
CREATED:20251005T185136Z
LAST-MODIFIED:20251005T185215Z
UID:10001147-1760005800-1760020200@fairfieldcountyfair.org
SUMMARY:Open Class: Beef Show
DESCRIPTION:
URL:https://fairfieldcountyfair.org/event/open-class-beef-show/
LOCATION:Feeder Creek Vet Show Arena\, 157 E Fair Ave\, Lancaster\, OH\, 43130\, United States
CATEGORIES:Contests,Fair Week,Livestock competition
ATTACH;FMTTYPE=image/jpeg:https://fairfieldcountyfair.org/wp-content/uploads/2025/10/Beef-Pee-Wee-Showmanship_2022.jpg
END:VEVENT
BEGIN:VEVENT
DTSTART;TZID=America/Detroit:20251009T090000
DTEND;TZID=America/Detroit:20251009T120000
DTSTAMP:20260424T044241
CREATED:20251005T183845Z
LAST-MODIFIED:20251005T183845Z
UID:10001145-1760000400-1760011200@fairfieldcountyfair.org
SUMMARY:Open Class: Sheep Show
DESCRIPTION:
URL:https://fairfieldcountyfair.org/event/open-class-sheep-show/
LOCATION:Bldg. 45: Open Class Sheep\, 157 E Fair Avenue\, Lancaster\, OH\, 43130\, United States
END:VEVENT
BEGIN:VEVENT
DTSTART;TZID=America/Detroit:20251009T090000
DTEND;TZID=America/Detroit:20251009T120000
DTSTAMP:20260424T044241
CREATED:20250917T213938Z
LAST-MODIFIED:20250917T213938Z
UID:10001114-1760000400-1760011200@fairfieldcountyfair.org
SUMMARY:High School Band Show--Free Show
DESCRIPTION:One of the most popular events at the Fairfield County Fair happens every Thursday morning in front of the Grandstands\,  While it begins at 9:15 am\, you’ll want to arrive early to get a great seat.  The show features local High School Bands demonstrating their high steppin’ marching styles and lively music programs that delight fair goers of all ages. Come early!! The grandstands are always full and this is the place to be if you love to see amazing marching bands!
URL:https://fairfieldcountyfair.org/event/high-school-band-show-free-show/
LOCATION:Grandstand
CATEGORIES:Fair Week,Family Fun,Grandstand Entertainment
ATTACH;FMTTYPE=image/jpeg:https://fairfieldcountyfair.org/wp-content/uploads/2025/09/band-show-scaled.jpg
END:VEVENT
BEGIN:VEVENT
DTSTART;TZID=America/Detroit:20251009T080000
DTEND;TZID=America/Detroit:20251009T100000
DTSTAMP:20260424T044241
CREATED:20251005T183603Z
LAST-MODIFIED:20251005T183603Z
UID:10001144-1759996800-1760004000@fairfieldcountyfair.org
SUMMARY:Jr. Fair Super Showmanship Contest
DESCRIPTION:
URL:https://fairfieldcountyfair.org/event/jr-fair-super-showmanship-contest/
LOCATION:Feeder Creek Vet Show Arena\, 157 E Fair Ave\, Lancaster\, OH\, 43130\, United States
CATEGORIES:Contests,Fair Week,Jr. Fair,Livestock competition
END:VEVENT
BEGIN:VEVENT
DTSTART;TZID=America/Detroit:20251008T190000
DTEND;TZID=America/Detroit:20251008T230000
DTSTAMP:20260424T044241
CREATED:20250818T131929Z
LAST-MODIFIED:20250919T140612Z
UID:10001105-1759950000-1759964400@fairfieldcountyfair.org
SUMMARY:Southeastern Ohio Truck and Tractor Series Pulling Event
DESCRIPTION:Our long-standing classic pull has joined with SEOPS\, the newest Truck and Tractor Pulling series\, for this year’s event.  Don’t miss another exciting evening as talented drivers get the most out of their vehicles. \nBring your family for this free grandstand event. Watch drivers compete for the longest distance in their class. Up to eight different classes of trucks and tractors are scheduled for our Wednesday evening \nSEOPS Class Rules at Southeasterohiopullingseries.com \nNon SEOPS Class Rules: Can be found under View Events or https://sites.google.com/view/mt-pleasant-shootout/rules \n  \n 
URL:https://fairfieldcountyfair.org/event/southeastern-ohio-truck-and-tractor-series-pulling-eent/
CATEGORIES:175th Anniversary Event,Contests,Family Fun,Grandstand Entertainment
ATTACH;FMTTYPE=image/jpeg:https://fairfieldcountyfair.org/wp-content/uploads/2025/08/2024-truck-tractor-pull-2-scaled.jpg
END:VEVENT
BEGIN:VEVENT
DTSTART;TZID=America/Detroit:20251008T190000
DTEND;TZID=America/Detroit:20251008T210000
DTSTAMP:20260424T044241
CREATED:20250917T214543Z
LAST-MODIFIED:20250917T214754Z
UID:10001115-1759950000-1759957200@fairfieldcountyfair.org
SUMMARY:Debbie Wright & Friends: Free Show
DESCRIPTION:Debbie Wright and Friends are back again by popular demand!  Come early because seats fill quickly for this popular group…\n\n\nLocation:  Stage on the Northeast side of the Art Hall where the quilts are displayed
URL:https://fairfieldcountyfair.org/event/debbie-wright-friends-free-show/
LOCATION:Art Hall
CATEGORIES:Art Hall Entertainment,Fair Week,Family Fun
ATTACH;FMTTYPE=image/jpeg:https://fairfieldcountyfair.org/wp-content/uploads/2023/03/DebbieWrightandFriends.jpg
END:VEVENT
BEGIN:VEVENT
DTSTART;TZID=America/Detroit:20251008T183000
DTEND;TZID=America/Detroit:20251008T190000
DTSTAMP:20260424T044241
CREATED:20250907T195801Z
LAST-MODIFIED:20250907T200339Z
UID:10001107-1759948200-1759950000@fairfieldcountyfair.org
SUMMARY:Coloring Contest
DESCRIPTION:AGE GROUPS:3 & 4 Years Old5 & 6 Years Old7 & 8 Years Old \nPrizes \n1st- $20.00\n2nd-$15.00 \n3rd- $10.00 \n4th – $5.00 \nRules\n1. Entrants must be residents of Fairfield County.2. Only one entry per child will be permitted.3. Entries must be on the form printed from the website – DO NOT CHANGE IMAGE SIZE.4. Entries may be delivered to:Fairfield County Fair Officeor mail to: Coloring Contest\, P.O. Box 945\, Lancaster\, OH 43130or 157 E. Fair Ave. Lancaster\, OH 431305. Entries must be received by 4 P.M. on Friday\, September 26th\, 2025. \n2025 Color Contest Page
URL:https://fairfieldcountyfair.org/event/coloring-contest-2/
LOCATION:Fairfield County Fairgrounds\, 157 E Fair Ave\, Lancaster\, OH\, 43130\, United States
CATEGORIES:Contests,Fair Week,Jr. Fair
ATTACH;FMTTYPE=image/jpeg:https://fairfieldcountyfair.org/wp-content/uploads/2023/01/Coloring-page-competition_2025-scaled.jpg
END:VEVENT
BEGIN:VEVENT
DTSTART;TZID=America/Detroit:20251008T181500
DTEND;TZID=America/Detroit:20251008T203000
DTSTAMP:20260424T044241
CREATED:20230220T004405Z
LAST-MODIFIED:20250806T223158Z
UID:10001089-1759947300-1759955400@fairfieldcountyfair.org
SUMMARY:Guys and Gals Sheep Lead Show
DESCRIPTION:Wool is a versatile fiber with endless diverse uses from clothing to industrial insulation.  The purpose of this competition is to celebrate the end product of wool in clothing. The Fairfield County Guys and Gals Sheep Lead Show is open to sheep lovers ages 3 through adults. Entry classes include individuals and pairs in traditional garments as well as a special costume class which can be individual or a pair.    \nEntrants may wear handmade or purchased outfits. They should be a fiber content that is majority wool and may decorate their  lamb to coordinate with their outfit. \nTime:  6:15 pm \nLocation:  Feeder Creek Show Arena \nPrice:  Free to watch
URL:https://fairfieldcountyfair.org/event/guys-and-gals-sheep-lead-show/2025-10-08/
LOCATION:Feeder Creek Vet Show Arena\, 157 E Fair Ave\, Lancaster\, OH\, 43130\, United States
CATEGORIES:Contests,Fair Week
ATTACH;FMTTYPE=image/jpeg:https://fairfieldcountyfair.org/wp-content/uploads/2023/02/sheepfairfieldcountyfair-scaled.jpg
END:VEVENT
BEGIN:VEVENT
DTSTART;TZID=America/Detroit:20251008T130000
DTEND;TZID=America/Detroit:20251008T153000
DTSTAMP:20260424T044241
CREATED:20250806T204226Z
LAST-MODIFIED:20250806T204226Z
UID:10001082-1759928400-1759937400@fairfieldcountyfair.org
SUMMARY:Harness Racing
DESCRIPTION:Date and Times\n\n\nWednesday at 1:00 p.m. — OCRA Races include: 3 year old Colt Pace; 2 year Old Colt Pace; 2 year old Filly Pace; 3 year old Filly Trot; Signature Series: I. J. Collins/Alt Family Trot\n\n\nThursday at 1:30 p.m. —OCRA Races include: 2 year old Filly Trot; 3 year Old Filly Pace; 2 year old Colt Trot; 3 year old Colt Trot; Signature Series: Ricketts Family Pace\n\n\n**Rain Date: Friday at 1:00 p.m.\n\n\nLocation: Grandstands\nPrice: Free to Watch\nBetting windows open: 30 minutes before the first race.
URL:https://fairfieldcountyfair.org/event/harness-racing-2/2025-10-08/
LOCATION:Grandstand
CATEGORIES:Contests,Fair Week,Grandstand Entertainment
ATTACH;FMTTYPE=image/jpeg:https://fairfieldcountyfair.org/wp-content/uploads/2022/12/horseraces.jpg
END:VEVENT
BEGIN:VEVENT
DTSTART;TZID=America/Detroit:20251008T120000
DTEND;TZID=America/Detroit:20251008T173000
DTSTAMP:20260424T044241
CREATED:20251005T183358Z
LAST-MODIFIED:20251005T183358Z
UID:10001143-1759924800-1759944600@fairfieldcountyfair.org
SUMMARY:Jr. Fair: Sheep Showmanship; Breeding & Market Sheep Show
DESCRIPTION:
URL:https://fairfieldcountyfair.org/event/jr-fair-sheep-showmanship-breeding-market-sheep-show/
LOCATION:Feeder Creek Vet Show Arena\, 157 E Fair Ave\, Lancaster\, OH\, 43130\, United States
CATEGORIES:Contests,Fair Week,Jr. Fair,Livestock competition
ATTACH;FMTTYPE=image/jpeg:https://fairfieldcountyfair.org/wp-content/uploads/2025/10/Sheep-show-from-internet.jpg
END:VEVENT
BEGIN:VEVENT
DTSTART;TZID=America/Detroit:20251008T110000
DTEND;TZID=America/Detroit:20251008T131500
DTSTAMP:20260424T044241
CREATED:20251005T182424Z
LAST-MODIFIED:20251005T182424Z
UID:10001141-1759921200-1759929300@fairfieldcountyfair.org
SUMMARY:Adelphi Band: Free Event
DESCRIPTION:The Adelphi Band has been performing at our fair since 1950 and they are a crowd favorite.  They will play before the Wiener Dog final race and until the start of the afternoon harness races
URL:https://fairfieldcountyfair.org/event/adelphi-band-free-event/
LOCATION:Grandstand
CATEGORIES:Fair Week,Family Fun,Grandstand Entertainment
ATTACH;FMTTYPE=image/png:https://fairfieldcountyfair.org/wp-content/uploads/2025/09/Adelphi-band-300x233-2.png
END:VEVENT
BEGIN:VEVENT
DTSTART;TZID=America/Detroit:20251008T110000
DTEND;TZID=America/Detroit:20251008T120000
DTSTAMP:20260424T044241
CREATED:20251005T182837Z
LAST-MODIFIED:20251005T182837Z
UID:10001142-1759921200-1759924800@fairfieldcountyfair.org
SUMMARY:Olivedale Line Dance and Cloggers
DESCRIPTION:
URL:https://fairfieldcountyfair.org/event/olivedale-line-dance-and-cloggers/
LOCATION:Sr. Fair Administration Office\, 157 E. Fair Ave.\, Lancaster\, OH\, 43130\, United States
CATEGORIES:Fair Week,Family Fun
END:VEVENT
BEGIN:VEVENT
DTSTART;TZID=America/Detroit:20251008T100000
DTEND;TZID=America/Detroit:20251008T140000
DTSTAMP:20260424T044241
CREATED:20251005T181951Z
LAST-MODIFIED:20251005T181951Z
UID:10001140-1759917600-1759932000@fairfieldcountyfair.org
SUMMARY:Jr. Fair Dairy Cattle Show and Showmanship
DESCRIPTION:
URL:https://fairfieldcountyfair.org/event/jr-fair-dairy-cattle-show-and-showmanship/
LOCATION:Round Barn\, 157 East Fair Avenue\, Lancaster\, 43130\, United States
CATEGORIES:Contests,Fair Week,Jr. Fair,Livestock competition
ATTACH;FMTTYPE=image/jpeg:https://fairfieldcountyfair.org/wp-content/uploads/2025/10/Jr-Fair-Dairy_2022.jpg
END:VEVENT
BEGIN:VEVENT
DTSTART;TZID=America/Detroit:20251008T100000
DTEND;TZID=America/Detroit:20251008T120000
DTSTAMP:20260424T044241
CREATED:20250926T021047Z
LAST-MODIFIED:20250926T021912Z
UID:10001122-1759917600-1759924800@fairfieldcountyfair.org
SUMMARY:First Annual Wiener Dog Races: Sponsored by Fairfield Area Humane Society
DESCRIPTION:Our first Annual Wiener Dog preliminary races will begin at 10 am and the finalists will race again at 11:30 am. You won’t want to miss the speed and chaos of each race!  It’s exciting and delightful fun! We are delighted that the races are being sponsored by the Fairfield Area Humane Society. \n \n  \n 
URL:https://fairfieldcountyfair.org/event/first-annual-wiener-dog-races-sponsored-by-fairfield-area-humane-society/
LOCATION:Grandstand
CATEGORIES:Contests,Fair Week,Family Fun,Grandstand Entertainment
ATTACH;FMTTYPE=image/png:https://fairfieldcountyfair.org/wp-content/uploads/2025/09/FAHS-Large-Logo_2025-sponsor.png
END:VEVENT
END:VCALENDAR