BEGIN:VCALENDAR
VERSION:2.0
PRODID:-//Fairfield County Fair - ECPv6.15.20//NONSGML v1.0//EN
CALSCALE:GREGORIAN
METHOD:PUBLISH
X-ORIGINAL-URL:https://fairfieldcountyfair.org
X-WR-CALDESC:Events for Fairfield County Fair
REFRESH-INTERVAL;VALUE=DURATION:PT1H
X-Robots-Tag:noindex
X-PUBLISHED-TTL:PT1H
BEGIN:VTIMEZONE
TZID:America/Detroit
BEGIN:DAYLIGHT
TZOFFSETFROM:-0500
TZOFFSETTO:-0400
TZNAME:EDT
DTSTART:20250309T070000
END:DAYLIGHT
BEGIN:STANDARD
TZOFFSETFROM:-0400
TZOFFSETTO:-0500
TZNAME:EST
DTSTART:20251102T060000
END:STANDARD
BEGIN:DAYLIGHT
TZOFFSETFROM:-0500
TZOFFSETTO:-0400
TZNAME:EDT
DTSTART:20260308T070000
END:DAYLIGHT
BEGIN:STANDARD
TZOFFSETFROM:-0400
TZOFFSETTO:-0500
TZNAME:EST
DTSTART:20261101T060000
END:STANDARD
BEGIN:DAYLIGHT
TZOFFSETFROM:-0500
TZOFFSETTO:-0400
TZNAME:EDT
DTSTART:20270314T070000
END:DAYLIGHT
BEGIN:STANDARD
TZOFFSETFROM:-0400
TZOFFSETTO:-0500
TZNAME:EST
DTSTART:20271107T060000
END:STANDARD
BEGIN:DAYLIGHT
TZOFFSETFROM:-0500
TZOFFSETTO:-0400
TZNAME:EDT
DTSTART:20280312T070000
END:DAYLIGHT
BEGIN:STANDARD
TZOFFSETFROM:-0400
TZOFFSETTO:-0500
TZNAME:EST
DTSTART:20281105T060000
END:STANDARD
BEGIN:DAYLIGHT
TZOFFSETFROM:-0500
TZOFFSETTO:-0400
TZNAME:EDT
DTSTART:20290311T070000
END:DAYLIGHT
BEGIN:STANDARD
TZOFFSETFROM:-0400
TZOFFSETTO:-0500
TZNAME:EST
DTSTART:20291104T060000
END:STANDARD
BEGIN:DAYLIGHT
TZOFFSETFROM:-0500
TZOFFSETTO:-0400
TZNAME:EDT
DTSTART:20300310T070000
END:DAYLIGHT
BEGIN:STANDARD
TZOFFSETFROM:-0400
TZOFFSETTO:-0500
TZNAME:EST
DTSTART:20301103T060000
END:STANDARD
BEGIN:DAYLIGHT
TZOFFSETFROM:-0500
TZOFFSETTO:-0400
TZNAME:EDT
DTSTART:20310309T070000
END:DAYLIGHT
BEGIN:STANDARD
TZOFFSETFROM:-0400
TZOFFSETTO:-0500
TZNAME:EST
DTSTART:20311102T060000
END:STANDARD
END:VTIMEZONE
BEGIN:VEVENT
DTSTART;TZID=America/Detroit:20260513T090000
DTEND;TZID=America/Detroit:20260514T140000
DTSTAMP:20260424T032209
CREATED:20260213T142251Z
LAST-MODIFIED:20260213T142251Z
UID:10001166-1778662800-1778767200@fairfieldcountyfair.org
SUMMARY:Eastland Fairfield Discovery Days
DESCRIPTION:EFCTS Discovery Days \nWednesday May 13\, 2026 – Thursday May 14\, 2026 \nEd Sands Building\, AAA Building\, and Ricketts Family Hall \n9:00 A.M. – 2:00 P.M.
URL:https://fairfieldcountyfair.org/event/eastland-fairfield-discovery-days/
LOCATION:Ed Sands – Farm Bureau Bldg.\, 157 E. Fair Ave.\, Lancaster\, OH\, 43130\, United States
CATEGORIES:Single Event
ATTACH;FMTTYPE=image/png:https://fairfieldcountyfair.org/wp-content/uploads/2026/02/Eastland-Fairfield-Logo.png
END:VEVENT
BEGIN:VEVENT
DTSTART;TZID=America/Detroit:20260519T190000
DTEND;TZID=America/Detroit:20260519T213000
DTSTAMP:20260424T032209
CREATED:20250107T223309Z
LAST-MODIFIED:20250107T224141Z
UID:10000957-1779217200-1779226200@fairfieldcountyfair.org
SUMMARY:Fairfield County Ag Society (FCAS) Board Meeting
DESCRIPTION:
URL:https://fairfieldcountyfair.org/event/fairfield-county-ag-society-fcas-board-meeting/2026-05-19/
LOCATION:Ricketts Hall
CATEGORIES:Board Meetings
ATTACH;FMTTYPE=image/jpeg:https://fairfieldcountyfair.org/wp-content/uploads/2022/11/FairfieldCountyFairBoardofDirectorsMeeting.jpg
END:VEVENT
BEGIN:VEVENT
DTSTART;TZID=America/Detroit:20260524T160000
DTEND;TZID=America/Detroit:20260524T220000
DTSTAMP:20260424T032209
CREATED:20260210T143404Z
LAST-MODIFIED:20260210T143404Z
UID:10001165-1779638400-1779660000@fairfieldcountyfair.org
SUMMARY:Nixon Graduation
DESCRIPTION:Nixon Graduation \nSunday\, May 24\, 2026 \n4 P.M. \nEd Sands Building
URL:https://fairfieldcountyfair.org/event/nixon-graduation/
LOCATION:Ed Sands – Farm Bureau Bldg.\, 157 E. Fair Ave.\, Lancaster\, OH\, 43130\, United States
END:VEVENT
BEGIN:VEVENT
DTSTART;TZID=America/Detroit:20260530T090000
DTEND;TZID=America/Detroit:20260530T120000
DTSTAMP:20260424T032209
CREATED:20260220T170333Z
LAST-MODIFIED:20260420T152304Z
UID:10001168-1780131600-1780142400@fairfieldcountyfair.org
SUMMARY:Master Gardener Plant Sale
DESCRIPTION:Master Gardener Plant Sale \n9:00 A.M. – Noon \nEd Sands Building \nSaturday\, May 30
URL:https://fairfieldcountyfair.org/event/master-gardener-plant-sale/
LOCATION:Ed Sands – Farm Bureau Bldg.\, 157 E. Fair Ave.\, Lancaster\, OH\, 43130\, United States
END:VEVENT
BEGIN:VEVENT
DTSTART;TZID=America/Detroit:20260531T100000
DTEND;TZID=America/Detroit:20260531T130000
DTSTAMP:20260424T032209
CREATED:20260130T152654Z
LAST-MODIFIED:20260130T152654Z
UID:10001162-1780221600-1780232400@fairfieldcountyfair.org
SUMMARY:Falvo Graduation
DESCRIPTION:Falvo Graduation \nSunday\, May 31\, 2026 \n10:00 A.M. – 1:00 P.M. \nRicketts Hall
URL:https://fairfieldcountyfair.org/event/falvo-graduation/
LOCATION:Ricketts Hall
CATEGORIES:Single Event
END:VEVENT
BEGIN:VEVENT
DTSTART;TZID=America/Detroit:20260606T080000
DTEND;TZID=America/Detroit:20260607T170000
DTSTAMP:20260424T032209
CREATED:20260202T141309Z
LAST-MODIFIED:20260202T141309Z
UID:10001163-1780732800-1780851600@fairfieldcountyfair.org
SUMMARY:Lancaster Old Car Club Spring Car Show & Swap Meet
DESCRIPTION:Lancaster Old Car Club Spring Car Show & Swap Meet \nSaturday\, June 6\, 2026     8:00 A.M. – 5:00 P.M. \nSunday\, June 7\, 2026       8:00 A.M. – 4:00 P.M. \nSouth Side of Grounds \n 
URL:https://fairfieldcountyfair.org/event/lancaster-old-car-club-spring-car-show-swap-meet/
LOCATION:Fairfield County Fairgrounds\, 157 E Fair Ave\, Lancaster\, OH\, 43130\, United States
CATEGORIES:Single Event
ATTACH;FMTTYPE=image/png:https://fairfieldcountyfair.org/wp-content/uploads/2026/02/Lancaster-Old-Car-Club-logo.png
END:VEVENT
BEGIN:VEVENT
DTSTART;TZID=America/Detroit:20260612T080000
DTEND;TZID=America/Detroit:20260613T160000
DTSTAMP:20260424T032209
CREATED:20260422T123321Z
LAST-MODIFIED:20260422T123337Z
UID:10000849-1781251200-1781366400@fairfieldcountyfair.org
SUMMARY:Trash to Treasure
DESCRIPTION:Trash to Treasure\nOrganization – FairHope Hospice \nDate – June 12 – 13\, 2026 \nLocation #50 Bldg. \nContact Person – Twylia Summers \nContact Phone#- 740-475-0657 \n  \ndoc03783220260416110757
URL:https://fairfieldcountyfair.org/event/trash-to-treasure-3-2/
LOCATION:#50 Bldg. – Jr. Fair Show Arena\, 157 E. Fair Ave.\, Lancaster\, OH\, 43130\, United States
CATEGORIES:Single Event
END:VEVENT
BEGIN:VEVENT
DTSTART;TZID=America/Detroit:20260616T190000
DTEND;TZID=America/Detroit:20260616T213000
DTSTAMP:20260424T032209
CREATED:20250107T223309Z
LAST-MODIFIED:20250107T224141Z
UID:10000958-1781636400-1781645400@fairfieldcountyfair.org
SUMMARY:Fairfield County Ag Society (FCAS) Board Meeting
DESCRIPTION:
URL:https://fairfieldcountyfair.org/event/fairfield-county-ag-society-fcas-board-meeting/2026-06-16/
LOCATION:Ricketts Hall
CATEGORIES:Board Meetings
ATTACH;FMTTYPE=image/jpeg:https://fairfieldcountyfair.org/wp-content/uploads/2022/11/FairfieldCountyFairBoardofDirectorsMeeting.jpg
END:VEVENT
BEGIN:VEVENT
DTSTART;TZID=America/Detroit:20260718T093000
DTEND;TZID=America/Detroit:20260718T143000
DTSTAMP:20260424T032209
CREATED:20260402T171941Z
LAST-MODIFIED:20260402T171941Z
UID:10001176-1784367000-1784385000@fairfieldcountyfair.org
SUMMARY:Festival Fair Days
DESCRIPTION:Festival Fair Days \nSaturday\, July 18\, 2026 \n9:30 A.M. – 2:30 P.M. \nSouth Side of the fairgrounds
URL:https://fairfieldcountyfair.org/event/festival-fair-days/
LOCATION:Fairfield County Fairgrounds\, 157 E Fair Ave\, Lancaster\, OH\, 43130\, United States
CATEGORIES:Family Fun
ATTACH;FMTTYPE=image/webp:https://fairfieldcountyfair.org/wp-content/uploads/2026/04/festival_logo_WH_HZ.webp
END:VEVENT
BEGIN:VEVENT
DTSTART;TZID=America/Detroit:20260721T190000
DTEND;TZID=America/Detroit:20260721T213000
DTSTAMP:20260424T032209
CREATED:20250107T223309Z
LAST-MODIFIED:20250107T224141Z
UID:10000959-1784660400-1784669400@fairfieldcountyfair.org
SUMMARY:Fairfield County Ag Society (FCAS) Board Meeting
DESCRIPTION:
URL:https://fairfieldcountyfair.org/event/fairfield-county-ag-society-fcas-board-meeting/2026-07-21/
LOCATION:Ricketts Hall
CATEGORIES:Board Meetings
ATTACH;FMTTYPE=image/jpeg:https://fairfieldcountyfair.org/wp-content/uploads/2022/11/FairfieldCountyFairBoardofDirectorsMeeting.jpg
END:VEVENT
BEGIN:VEVENT
DTSTART;VALUE=DATE:20260725
DTEND;VALUE=DATE:20260726
DTSTAMP:20260424T032209
CREATED:20260128T145337Z
LAST-MODIFIED:20260128T145641Z
UID:10001154-1784937600-1785023999@fairfieldcountyfair.org
SUMMARY:Motorcycle Flat Track Racing
DESCRIPTION:Flat Track Motorcycle Racing \nJuly 25\, 2026 \nGrandstands
URL:https://fairfieldcountyfair.org/event/motorcycle-flat-track-racing/
LOCATION:Grandstand
CATEGORIES:Single Event
ATTACH;FMTTYPE=image/avif:https://fairfieldcountyfair.org/wp-content/uploads/2026/01/RPM.avif
END:VEVENT
BEGIN:VEVENT
DTSTART;TZID=America/Detroit:20260818T190000
DTEND;TZID=America/Detroit:20260818T213000
DTSTAMP:20260424T032209
CREATED:20250107T223309Z
LAST-MODIFIED:20250107T224141Z
UID:10000960-1787079600-1787088600@fairfieldcountyfair.org
SUMMARY:Fairfield County Ag Society (FCAS) Board Meeting
DESCRIPTION:
URL:https://fairfieldcountyfair.org/event/fairfield-county-ag-society-fcas-board-meeting/2026-08-18/
LOCATION:Ricketts Hall
CATEGORIES:Board Meetings
ATTACH;FMTTYPE=image/jpeg:https://fairfieldcountyfair.org/wp-content/uploads/2022/11/FairfieldCountyFairBoardofDirectorsMeeting.jpg
END:VEVENT
BEGIN:VEVENT
DTSTART;TZID=America/Detroit:20260829T170000
DTEND;TZID=America/Detroit:20260829T230000
DTSTAMP:20260424T032209
CREATED:20260218T172618Z
LAST-MODIFIED:20260218T172618Z
UID:10001167-1788022800-1788044400@fairfieldcountyfair.org
SUMMARY:2026 Mt. Pleasant Shootout
DESCRIPTION:2026 Mt. Pleasant Shootout \nSaturday\, August 29 \n5:00 P.M. – 11:00 P.M. \nGrandstands
URL:https://fairfieldcountyfair.org/event/2026-mt-pleasant-shootout/
LOCATION:Grandstand
ATTACH;FMTTYPE=image/jpeg:https://fairfieldcountyfair.org/wp-content/uploads/2026/02/Mt-Pleasant-Shoot-Out-Logo.jpg
END:VEVENT
BEGIN:VEVENT
DTSTART;TZID=America/Detroit:20260912T080000
DTEND;TZID=America/Detroit:20260913T170000
DTSTAMP:20260424T032209
CREATED:20260227T164754Z
LAST-MODIFIED:20260227T164754Z
UID:10001169-1789200000-1789318800@fairfieldcountyfair.org
SUMMARY:Randy Lee Memorial Hog Show 2026
DESCRIPTION:2026 Randy Lee Memorial Hog Show \nSaturday\, September 12\, 2026 – Sunday\, September 13\, 2026 \nStarts on Saturday at 8:00 A.M. \nFairfield Cunty Fairgrounds
URL:https://fairfieldcountyfair.org/event/randy-lee-memorial-hog-show-2026/
LOCATION:Build 48: Swine Barn\, 157 E Fair Avenue\, Lancaster\, OH\, 43130\, United States
CATEGORIES:Single Event
ATTACH;FMTTYPE=image/jpeg:https://fairfieldcountyfair.org/wp-content/uploads/2026/02/Randy-Lee-Memorial-Image.jpg
END:VEVENT
BEGIN:VEVENT
DTSTART;TZID=America/Detroit:20260915T190000
DTEND;TZID=America/Detroit:20260915T213000
DTSTAMP:20260424T032209
CREATED:20250107T223309Z
LAST-MODIFIED:20250107T224141Z
UID:10000961-1789498800-1789507800@fairfieldcountyfair.org
SUMMARY:Fairfield County Ag Society (FCAS) Board Meeting
DESCRIPTION:
URL:https://fairfieldcountyfair.org/event/fairfield-county-ag-society-fcas-board-meeting/2026-09-15/
LOCATION:Ricketts Hall
CATEGORIES:Board Meetings
ATTACH;FMTTYPE=image/jpeg:https://fairfieldcountyfair.org/wp-content/uploads/2022/11/FairfieldCountyFairBoardofDirectorsMeeting.jpg
END:VEVENT
BEGIN:VEVENT
DTSTART;TZID=America/Detroit:20261011T090000
DTEND;TZID=America/Detroit:20261011T100000
DTSTAMP:20260424T032209
CREATED:20231227T154217Z
LAST-MODIFIED:20250803T194633Z
UID:10001063-1791709200-1791712800@fairfieldcountyfair.org
SUMMARY:Fairfield County Ag Society Board Meeting
DESCRIPTION:
URL:https://fairfieldcountyfair.org/event/sr-fair-board-meeting/2026-10-11/
LOCATION:Dining Hall\, OH\, United States
CATEGORIES:Board Meetings
ATTACH;FMTTYPE=image/jpeg:https://fairfieldcountyfair.org/wp-content/uploads/2022/11/FairfieldCountyFairBoardofDirectorsMeeting.jpg
END:VEVENT
BEGIN:VEVENT
DTSTART;TZID=America/Detroit:20261011T140000
DTEND;TZID=America/Detroit:20261011T170000
DTSTAMP:20260424T032209
CREATED:20230108T180352Z
LAST-MODIFIED:20250803T202226Z
UID:10001068-1791727200-1791738000@fairfieldcountyfair.org
SUMMARY:Gospel Music Concert
DESCRIPTION:If you love gospel music\, join us in the Huddle Church for this wonderful concert showcasing multiple talented individuals and groups on Sunday afternoon.  \nDate:  October 6\, 2024\nTime:  2:00 pm\nLocation:  Huddle Church\nPrice: Free
URL:https://fairfieldcountyfair.org/event/gospel/2026-10-11/
LOCATION:Huddle Church
CATEGORIES:Fair Week
ATTACH;FMTTYPE=image/jpeg:https://fairfieldcountyfair.org/wp-content/uploads/2023/01/GospelMusicFairfieldCountyFair.jpg
END:VEVENT
BEGIN:VEVENT
DTSTART;TZID=America/Detroit:20261011T140000
DTEND;TZID=America/Detroit:20261011T170000
DTSTAMP:20260424T032209
CREATED:20250803T205326Z
LAST-MODIFIED:20250803T205326Z
UID:10001070-1791727200-1791738000@fairfieldcountyfair.org
SUMMARY:Gospel Music Concert
DESCRIPTION:If you love gospel music\, join us in the Huddle Church for this wonderful concert showcasing multiple talented individuals and groups on Sunday afternoon.\nDate:  October 6\, 2024\nTime:  2:00 pm\nLocation:  Huddle Church\nPrice: Free
URL:https://fairfieldcountyfair.org/event/gospel-music-concert/2026-10-11/
LOCATION:Huddle Church
CATEGORIES:Fair Week
ATTACH;FMTTYPE=image/jpeg:https://fairfieldcountyfair.org/wp-content/uploads/2023/01/GospelMusicFairfieldCountyFair.jpg
END:VEVENT
BEGIN:VEVENT
DTSTART;TZID=America/Detroit:20261012T140000
DTEND;TZID=America/Detroit:20261012T170000
DTSTAMP:20260424T032209
CREATED:20230312T164946Z
LAST-MODIFIED:20250803T230233Z
UID:10001073-1791813600-1791824400@fairfieldcountyfair.org
SUMMARY:Veterans Recognition at the Fairfield County Fair
DESCRIPTION:Be sure to stop by the WLOH Tent on Monday of fair week at 2:00 p.m. for the Fairfield County Fair’s Veteran’s Day Recognition.  Our veterans’  dedication and service to our community and Country will be celebrated and recognized during the event.  All are welcome and encouraged to participate in this popular yearly tribute. \nTime:  2 pm \nLocation:  In the WLOH tent which is next to the Pioneer Cabin at the front gate at the corner of Broad and Fair Avenue. While you are in the area\, stop next door to see the recently restored Pioneer Log Cabin.
URL:https://fairfieldcountyfair.org/event/veterans-events/2026-10-12/
LOCATION:Fairfield County Fairgrounds\, 157 E Fair Ave\, Lancaster\, OH\, 43130\, United States
CATEGORIES:Fair Week
ATTACH;FMTTYPE=image/jpeg:https://fairfieldcountyfair.org/wp-content/uploads/2023/03/veteranseventsfairfieldcountyfair-copy.jpg
END:VEVENT
BEGIN:VEVENT
DTSTART;TZID=America/Detroit:20261012T173000
DTEND;TZID=America/Detroit:20261012T190000
DTSTAMP:20260424T032209
CREATED:20241007T195056Z
LAST-MODIFIED:20250803T230544Z
UID:10001075-1791826200-1791831600@fairfieldcountyfair.org
SUMMARY:Blue Ribbon Auction
DESCRIPTION:The Blue Ribbon Auction is your chance to celebrate the exhibitors who were selected as the top baker in 35+ categories.  Join us as we auction off the creations of our award winning youth and adults. The pies\, cakes\, cookies\, and candies are simply mouth watering delicious!!!\nThe Blue Ribbon Auction is held in the quilt exhibit area of Art Hall (Northeast side of the building.) The exhibitor receives 60% of the auction price and 40% is used for upgrades to the Art Hall. The auction is in memory of Dick Keller\, the Senior Fair Director who was in charge of Food for the Homes for decades.
URL:https://fairfieldcountyfair.org/event/blue-ribbon-auction/2026-10-12/
LOCATION:Art Hall
CATEGORIES:Art Hall Entertainment,Fair Week
ATTACH;FMTTYPE=image/jpeg:https://fairfieldcountyfair.org/wp-content/uploads/2024/10/Blue-Ribbon-Auction-2-scaled.jpg
END:VEVENT
BEGIN:VEVENT
DTSTART;TZID=America/Detroit:20261107T100000
DTEND;TZID=America/Detroit:20261107T160000
DTSTAMP:20260424T032209
CREATED:20231227T154843Z
LAST-MODIFIED:20250107T223457Z
UID:10000945-1794045600-1794067200@fairfieldcountyfair.org
SUMMARY:Fairfield County Ag. Society Reorganization Meeting
DESCRIPTION:Membership Meeting followed by General Meeting
URL:https://fairfieldcountyfair.org/event/fairfield-county-ag-society-reorganization-meeting/2026-11-07/
LOCATION:Ricketts Hall
CATEGORIES:Board Meetings
ATTACH;FMTTYPE=image/jpeg:https://fairfieldcountyfair.org/wp-content/uploads/2022/11/FairfieldCountyFairBoardofDirectorsMeeting.jpg
END:VEVENT
BEGIN:VEVENT
DTSTART;TZID=America/Detroit:20261107T100000
DTEND;TZID=America/Detroit:20261107T170000
DTSTAMP:20260424T032209
CREATED:20260123T153221Z
LAST-MODIFIED:20260123T153439Z
UID:10001152-1794045600-1794070800@fairfieldcountyfair.org
SUMMARY:DAF Auction
DESCRIPTION:Date of Event: Saturday\, February 7\, 2026 \nTime of Event: 10:00 A.M \nLocation: AAA Building \nDAF Website
URL:https://fairfieldcountyfair.org/event/daf-auction/2026-11-07/
LOCATION:AAA Bldg.\, 157 E. Fair Ave.\, Lancaster\, OH\, 43130\, United States
CATEGORIES:Single Event
ATTACH;FMTTYPE=image/jpeg:https://fairfieldcountyfair.org/wp-content/uploads/2026/01/Resized-DAF.jpg
END:VEVENT
BEGIN:VEVENT
DTSTART;VALUE=DATE:20261114
DTEND;VALUE=DATE:20261115
DTSTAMP:20260424T032209
CREATED:20260209T173052Z
LAST-MODIFIED:20260209T173052Z
UID:10001164-1794614400-1794700799@fairfieldcountyfair.org
SUMMARY:United Way 5k
DESCRIPTION:United Way 5K \nRegistration Starts at 7:30 A.M. with Race Starting at 8:00 A.M. \nAt the Fairfield County Fairgrounds Grandstand
URL:https://fairfieldcountyfair.org/event/united-way-5k/
LOCATION:Grandstand
CATEGORIES:Single Event
ATTACH;FMTTYPE=image/png:https://fairfieldcountyfair.org/wp-content/uploads/2026/02/United-Way-Logo.png
END:VEVENT
BEGIN:VEVENT
DTSTART;TZID=America/Detroit:20261215T190000
DTEND;TZID=America/Detroit:20261215T213000
DTSTAMP:20260424T032209
CREATED:20250107T223309Z
LAST-MODIFIED:20250107T224141Z
UID:10000962-1797361200-1797370200@fairfieldcountyfair.org
SUMMARY:Fairfield County Ag Society (FCAS) Board Meeting
DESCRIPTION:
URL:https://fairfieldcountyfair.org/event/fairfield-county-ag-society-fcas-board-meeting/2026-12-15/
LOCATION:Ricketts Hall
CATEGORIES:Board Meetings
ATTACH;FMTTYPE=image/jpeg:https://fairfieldcountyfair.org/wp-content/uploads/2022/11/FairfieldCountyFairBoardofDirectorsMeeting.jpg
END:VEVENT
BEGIN:VEVENT
DTSTART;TZID=America/Detroit:20270514T070000
DTEND;TZID=America/Detroit:20270515T180000
DTSTAMP:20260424T032209
CREATED:20260305T173620Z
LAST-MODIFIED:20260305T173620Z
UID:10001170-1810278000-1810404000@fairfieldcountyfair.org
SUMMARY:Spring S Spree Model Train Convention
DESCRIPTION:Spring S Spree Model Train Convention \nMay 14-15\, 2027 \n7:00 A.M. – 6:00 P.M. \nAAA Building
URL:https://fairfieldcountyfair.org/event/spring-s-spree-model-train-convention/
CATEGORIES:Single Event
END:VEVENT
BEGIN:VEVENT
DTSTART;TZID=America/Detroit:20271010T090000
DTEND;TZID=America/Detroit:20271010T100000
DTSTAMP:20260424T032209
CREATED:20231227T154217Z
LAST-MODIFIED:20250803T194633Z
UID:10001064-1823158800-1823162400@fairfieldcountyfair.org
SUMMARY:Fairfield County Ag Society Board Meeting
DESCRIPTION:
URL:https://fairfieldcountyfair.org/event/sr-fair-board-meeting/2027-10-10/
LOCATION:Dining Hall\, OH\, United States
CATEGORIES:Board Meetings
ATTACH;FMTTYPE=image/jpeg:https://fairfieldcountyfair.org/wp-content/uploads/2022/11/FairfieldCountyFairBoardofDirectorsMeeting.jpg
END:VEVENT
BEGIN:VEVENT
DTSTART;TZID=America/Detroit:20271106T100000
DTEND;TZID=America/Detroit:20271106T160000
DTSTAMP:20260424T032209
CREATED:20231227T154843Z
LAST-MODIFIED:20250107T223457Z
UID:10000946-1825495200-1825516800@fairfieldcountyfair.org
SUMMARY:Fairfield County Ag. Society Reorganization Meeting
DESCRIPTION:Membership Meeting followed by General Meeting
URL:https://fairfieldcountyfair.org/event/fairfield-county-ag-society-reorganization-meeting/2027-11-06/
LOCATION:Ricketts Hall
CATEGORIES:Board Meetings
ATTACH;FMTTYPE=image/jpeg:https://fairfieldcountyfair.org/wp-content/uploads/2022/11/FairfieldCountyFairBoardofDirectorsMeeting.jpg
END:VEVENT
BEGIN:VEVENT
DTSTART;TZID=America/Detroit:20281104T100000
DTEND;TZID=America/Detroit:20281104T160000
DTSTAMP:20260424T032209
CREATED:20231227T154843Z
LAST-MODIFIED:20250107T223457Z
UID:10000947-1856944800-1856966400@fairfieldcountyfair.org
SUMMARY:Fairfield County Ag. Society Reorganization Meeting
DESCRIPTION:Membership Meeting followed by General Meeting
URL:https://fairfieldcountyfair.org/event/fairfield-county-ag-society-reorganization-meeting/2028-11-04/
LOCATION:Ricketts Hall
CATEGORIES:Board Meetings
ATTACH;FMTTYPE=image/jpeg:https://fairfieldcountyfair.org/wp-content/uploads/2022/11/FairfieldCountyFairBoardofDirectorsMeeting.jpg
END:VEVENT
BEGIN:VEVENT
DTSTART;TZID=America/Detroit:20291103T100000
DTEND;TZID=America/Detroit:20291103T160000
DTSTAMP:20260424T032209
CREATED:20231227T154843Z
LAST-MODIFIED:20250107T223457Z
UID:10000948-1888394400-1888416000@fairfieldcountyfair.org
SUMMARY:Fairfield County Ag. Society Reorganization Meeting
DESCRIPTION:Membership Meeting followed by General Meeting
URL:https://fairfieldcountyfair.org/event/fairfield-county-ag-society-reorganization-meeting/2029-11-03/
LOCATION:Ricketts Hall
CATEGORIES:Board Meetings
ATTACH;FMTTYPE=image/jpeg:https://fairfieldcountyfair.org/wp-content/uploads/2022/11/FairfieldCountyFairBoardofDirectorsMeeting.jpg
END:VEVENT
BEGIN:VEVENT
DTSTART;TZID=America/Detroit:20301102T100000
DTEND;TZID=America/Detroit:20301102T160000
DTSTAMP:20260424T032209
CREATED:20231227T154843Z
LAST-MODIFIED:20250107T223457Z
UID:10000949-1919844000-1919865600@fairfieldcountyfair.org
SUMMARY:Fairfield County Ag. Society Reorganization Meeting
DESCRIPTION:Membership Meeting followed by General Meeting
URL:https://fairfieldcountyfair.org/event/fairfield-county-ag-society-reorganization-meeting/2030-11-02/
LOCATION:Ricketts Hall
CATEGORIES:Board Meetings
ATTACH;FMTTYPE=image/jpeg:https://fairfieldcountyfair.org/wp-content/uploads/2022/11/FairfieldCountyFairBoardofDirectorsMeeting.jpg
END:VEVENT
END:VCALENDAR