BEGIN:VCALENDAR
VERSION:2.0
PRODID:-//Fairfield County Fair - ECPv6.15.20//NONSGML v1.0//EN
CALSCALE:GREGORIAN
METHOD:PUBLISH
X-WR-CALNAME:Fairfield County Fair
X-ORIGINAL-URL:https://fairfieldcountyfair.org
X-WR-CALDESC:Events for Fairfield County Fair
REFRESH-INTERVAL;VALUE=DURATION:PT1H
X-Robots-Tag:noindex
X-PUBLISHED-TTL:PT1H
BEGIN:VTIMEZONE
TZID:America/Detroit
BEGIN:DAYLIGHT
TZOFFSETFROM:-0500
TZOFFSETTO:-0400
TZNAME:EDT
DTSTART:20220313T070000
END:DAYLIGHT
BEGIN:STANDARD
TZOFFSETFROM:-0400
TZOFFSETTO:-0500
TZNAME:EST
DTSTART:20221106T060000
END:STANDARD
BEGIN:DAYLIGHT
TZOFFSETFROM:-0500
TZOFFSETTO:-0400
TZNAME:EDT
DTSTART:20230312T070000
END:DAYLIGHT
BEGIN:STANDARD
TZOFFSETFROM:-0400
TZOFFSETTO:-0500
TZNAME:EST
DTSTART:20231105T060000
END:STANDARD
BEGIN:DAYLIGHT
TZOFFSETFROM:-0500
TZOFFSETTO:-0400
TZNAME:EDT
DTSTART:20240310T070000
END:DAYLIGHT
BEGIN:STANDARD
TZOFFSETFROM:-0400
TZOFFSETTO:-0500
TZNAME:EST
DTSTART:20241103T060000
END:STANDARD
BEGIN:DAYLIGHT
TZOFFSETFROM:-0500
TZOFFSETTO:-0400
TZNAME:EDT
DTSTART:20250309T070000
END:DAYLIGHT
BEGIN:STANDARD
TZOFFSETFROM:-0400
TZOFFSETTO:-0500
TZNAME:EST
DTSTART:20251102T060000
END:STANDARD
END:VTIMEZONE
BEGIN:VEVENT
DTSTART;TZID=America/Detroit:20240310T120000
DTEND;TZID=America/Detroit:20240310T120000
DTSTAMP:20260425T102555
CREATED:20240212T132504Z
LAST-MODIFIED:20240212T132534Z
UID:10000828-1710072000-1710072000@fairfieldcountyfair.org
SUMMARY:Antique & Collectibles Auction
DESCRIPTION:Antique & Collectibles Auction\nDate- March 10\, 2024\nTime – 12:00 p.m. (noon)\nContact Person – Linda Boling\nContact Phone #- 740-654-4993\n 
URL:https://fairfieldcountyfair.org/event/antique-collectibles-auction-5/
LOCATION:AAA Bldg.\, 157 E. Fair Ave.\, Lancaster\, OH\, 43130\, United States
END:VEVENT
BEGIN:VEVENT
DTSTART;TZID=America/Detroit:20240309T100000
DTEND;TZID=America/Detroit:20240309T150000
DTSTAMP:20260425T102555
CREATED:20240117T163135Z
LAST-MODIFIED:20240117T163136Z
UID:10000824-1709978400-1709996400@fairfieldcountyfair.org
SUMMARY:Antique and Collectibles Auction
DESCRIPTION:Antique & Collectibles Auction \nTime – 10:00 A.M.\nLocation – Ed Sands-Farm Bureau Bldg.\nContact Person – David Flood\nContact Phone# – 614-783-8339
URL:https://fairfieldcountyfair.org/event/antique-and-collectibles-auction/
LOCATION:Ed Sands – Farm Bureau Bldg.\, 157 E. Fair Ave.\, Lancaster\, OH\, 43130\, United States
CATEGORIES:Single Event
END:VEVENT
BEGIN:VEVENT
DTSTART;TZID=America/Detroit:20240225T130000
DTEND;TZID=America/Detroit:20240225T130000
DTSTAMP:20260425T102555
CREATED:20240220T132851Z
LAST-MODIFIED:20240220T132851Z
UID:10000832-1708866000-1708866000@fairfieldcountyfair.org
SUMMARY:Shoff Garage Door Auction
DESCRIPTION:Garage Door & Opener Inventory Reduction Auction\n100+ garage doors & openers offered in this inventory reduction auction! Overhead Haas and Shoff garage door sections\, 1-sided steel and 1-sided steel insulated doors\, several insulated doors w/glass tops\, track\, torsion springs\, trim\, 300′ hanging angle\, premium door hardware\, 1/2hp LiftMaster & Genie residential & commercial garage door openers\, and much more! Sizes may include but not limited to 8×6’6″\, 8×7\, 8×7’6″\, 8×8\, 9×6’6″\, 9×7\, 9×7’6″\, 9×8\, 9×9\, 10×6’6″\, 10×7’\, 10×7’6”\, 10×8\, 10×9\, 10×10\, 10×11\, 10×12\, 10×14\, 12×7\, 12×8\, 12×10\, 12×11\, 12×12\, 12×14\, 14×7\, 14×8\, 14×10\, 14×12\, 14×14\, 16×6’6″\, 16×7\, 16×7’6″\, 16×8\, 16×10\, 16×12\, 16×14\, commercial and residential doors- many additional sizes to choose from. Purchase door sections only or hardware\, track\, springs\, etc. For a different size or style door to be added to this auction call 1-614-833-1110. We can also quote a custom door including colors\, window styles\, door styles\, 2-sided steel and much more at a special low price at the auction only. Open for preview 2 hours before auction starts. DON’T MISS THIS SALE! Bring a truck or a trailer! ALL SALES FINAL AND SOLD “AS-IS”. TERMS: Cash\, check\, credit card with valid ID. 10% buyer’s premium will be charged. Tax will be charged unless you have a vendor’s number. All doors must be removed within 2 hours of auction completion.\nAuctioneer: Jack Goodbar Complete Auction Service\nOwner: Shoff Door Co.\, Inc. www.shoffdoorcoinc.com\nManufacturer: Haas Door www.haasdoor.com\nSunday\, February 25th\, at 1pm\nFairfield County Fairgrounds\, Lancaster\, OH 43130\nFairgrounds are located at 157 E. Fair Avenue (Ed Sands Bldg)
URL:https://fairfieldcountyfair.org/event/shoff-garage-door-auction-2/
CATEGORIES:Single Event
ATTACH;FMTTYPE=image/jpeg:https://fairfieldcountyfair.org/wp-content/uploads/2023/12/Shoff-Door-Co.-Inc.-Logo.jpg
END:VEVENT
BEGIN:VEVENT
DTSTART;TZID=America/Detroit:20240224T080000
DTEND;TZID=America/Detroit:20240224T170000
DTSTAMP:20260425T102555
CREATED:20231212T153310Z
LAST-MODIFIED:20231212T153322Z
UID:10000755-1708761600-1708794000@fairfieldcountyfair.org
SUMMARY:Antique & Collectibles Auction
DESCRIPTION:Antique & Collectibles Auction\nTime- 10:00 A.M. \nLocation – AAA Bldg. \nContact Person – David Flood \nContact Phone # – 614-783-8339
URL:https://fairfieldcountyfair.org/event/antique-collectibles-auction-4/2024-02-24/
LOCATION:AAA Bldg.\, 157 E. Fair Ave.\, Lancaster\, OH\, 43130\, United States
END:VEVENT
BEGIN:VEVENT
DTSTART;TZID=America/Detroit:20240220T190000
DTEND;TZID=America/Detroit:20240220T213000
DTSTAMP:20260425T102555
CREATED:20231108T145809Z
LAST-MODIFIED:20231227T152314Z
UID:10000759-1708455600-1708464600@fairfieldcountyfair.org
SUMMARY:Fairfield County Ag Society Board Meeting
DESCRIPTION:
URL:https://fairfieldcountyfair.org/event/fairfield-county-ag-society-board-meeting-2/2024-02-20/
LOCATION:Ricketts Hall
CATEGORIES:Board Meetings
ATTACH;FMTTYPE=image/jpeg:https://fairfieldcountyfair.org/wp-content/uploads/2022/11/FairfieldCountyFairBoardofDirectorsMeeting.jpg
END:VEVENT
BEGIN:VEVENT
DTSTART;TZID=America/Detroit:20240218T090000
DTEND;TZID=America/Detroit:20240218T150000
DTSTAMP:20260425T102555
CREATED:20231205T154655Z
LAST-MODIFIED:20240212T132121Z
UID:10000752-1708246800-1708268400@fairfieldcountyfair.org
SUMMARY:Toy Sale & Show
DESCRIPTION:Organization – Fairfield Co. Antique Tractor Club \nDate – February 18\, 2024 \nTime – 9:00 A.M. to 3:00 P.M. \nLocation – AAA & Ed Sands- Farm Bureau Bldg. \nContact Person – Teresa Brudzinski \nContact Phone # – 614-571-7136
URL:https://fairfieldcountyfair.org/event/toy-sale-show/
LOCATION:AAA Bldg.\, 157 E. Fair Ave.\, Lancaster\, OH\, 43130\, United States
ATTACH;FMTTYPE=image/jpeg:https://fairfieldcountyfair.org/wp-content/uploads/2023/12/Fairfield-Co.-Antique-Tractor-Club-Logo.jpg
ORGANIZER;CN="Fairfield County Antique Tractor Club":MAILTO:info@fairfieldcountytractorclub.com
END:VEVENT
BEGIN:VEVENT
DTSTART;TZID=America/Detroit:20240212T183000
DTEND;TZID=America/Detroit:20240212T183000
DTSTAMP:20260425T102555
CREATED:20240131T143536Z
LAST-MODIFIED:20240131T143646Z
UID:10000826-1707762600-1707762600@fairfieldcountyfair.org
SUMMARY:Fairfield County Ag. Society - Special Board Meeting
DESCRIPTION:The purpose of this special meeting is to discuss online ticketing.
URL:https://fairfieldcountyfair.org/event/fairfield-county-ag-society-special-board-meeting/
LOCATION:Ricketts Hall
ATTACH;FMTTYPE=image/jpeg:https://fairfieldcountyfair.org/wp-content/uploads/2022/11/FairfieldCountyFairBoardofDirectorsMeeting.jpg
END:VEVENT
BEGIN:VEVENT
DTSTART;TZID=America/Detroit:20240210T100000
DTEND;TZID=America/Detroit:20240210T160000
DTSTAMP:20260425T102555
CREATED:20231212T153310Z
LAST-MODIFIED:20231212T153322Z
UID:10000754-1707559200-1707580800@fairfieldcountyfair.org
SUMMARY:Antique & Collectibles Auction
DESCRIPTION:Antique & Collectibles Auction\nTime- 10:00 A.M. \nLocation – AAA Bldg. \nContact Person – David Flood \nContact Phone # – 614-783-8339
URL:https://fairfieldcountyfair.org/event/antique-collectibles-auction-4/2024-02-10/
LOCATION:AAA Bldg.\, 157 E. Fair Ave.\, Lancaster\, OH\, 43130\, United States
END:VEVENT
BEGIN:VEVENT
DTSTART;TZID=America/Detroit:20240127T100000
DTEND;TZID=America/Detroit:20240127T160000
DTSTAMP:20260425T102555
CREATED:20231205T153123Z
LAST-MODIFIED:20231205T153123Z
UID:10000751-1706349600-1706371200@fairfieldcountyfair.org
SUMMARY:Antique & Collectibles Auction
DESCRIPTION:Date – January 27\, 2024 \nTime – 10:00 a.m. \nLocation – AAA Bldg. \nContact Person – David Flood \nContact Phone # – 614-783-8339
URL:https://fairfieldcountyfair.org/event/antique-collectibles-auction-3/
LOCATION:AAA Bldg.\, 157 E. Fair Ave.\, Lancaster\, OH\, 43130\, United States
END:VEVENT
BEGIN:VEVENT
DTSTART;TZID=America/Detroit:20240116T190000
DTEND;TZID=America/Detroit:20240116T213000
DTSTAMP:20260425T102555
CREATED:20231108T145809Z
LAST-MODIFIED:20231227T152314Z
UID:10000758-1705431600-1705440600@fairfieldcountyfair.org
SUMMARY:Fairfield County Ag Society Board Meeting
DESCRIPTION:
URL:https://fairfieldcountyfair.org/event/fairfield-county-ag-society-board-meeting-2/2024-01-16/
LOCATION:Ricketts Hall
CATEGORIES:Board Meetings
ATTACH;FMTTYPE=image/jpeg:https://fairfieldcountyfair.org/wp-content/uploads/2022/11/FairfieldCountyFairBoardofDirectorsMeeting.jpg
END:VEVENT
BEGIN:VEVENT
DTSTART;TZID=America/Detroit:20240113T100000
DTEND;TZID=America/Detroit:20240113T160000
DTSTAMP:20260425T102555
CREATED:20231205T152754Z
LAST-MODIFIED:20231205T152818Z
UID:10000750-1705140000-1705161600@fairfieldcountyfair.org
SUMMARY:Antiques & Collectibles Auction
DESCRIPTION:Date – January 13\, 2024 \nTime – 10:00 AM \nLocation – AAA Bldg. \nContact Person – David Flood \nContact Phone# – 614-783-8339
URL:https://fairfieldcountyfair.org/event/antiques-collectibles-auction/
LOCATION:AAA Bldg.\, 157 E. Fair Ave.\, Lancaster\, OH\, 43130\, United States
END:VEVENT
BEGIN:VEVENT
DTSTART;TZID=America/Detroit:20240107T120000
DTEND;TZID=America/Detroit:20240107T160000
DTSTAMP:20260425T102555
CREATED:20231205T152300Z
LAST-MODIFIED:20231205T152418Z
UID:10000749-1704628800-1704643200@fairfieldcountyfair.org
SUMMARY:Coin Auction
DESCRIPTION:Date – January 7\, 2024 \nTime – 12:00 Noon \nLocation – Ricketts Family Hall (attached to the Ed Sands-Farm Bureau Bldg.) \nContact Person – Linda Boling \nContact Phone# – 740-654-4993
URL:https://fairfieldcountyfair.org/event/coin-auction/
LOCATION:Ricketts Hall
END:VEVENT
BEGIN:VEVENT
DTSTART;VALUE=DATE:20240102
DTEND;VALUE=DATE:20240103
DTSTAMP:20260425T102555
CREATED:20231229T153128Z
LAST-MODIFIED:20231229T153128Z
UID:10000823-1704153600-1704239999@fairfieldcountyfair.org
SUMMARY:Office Closed.
DESCRIPTION:The office will be closed today in observation of the New Year’s Holiday.
URL:https://fairfieldcountyfair.org/event/office-closed-4/
LOCATION:Sr. Fair Administration Office\, 157 E. Fair Ave.\, Lancaster\, OH\, 43130\, United States
CATEGORIES:Single Event
END:VEVENT
BEGIN:VEVENT
DTSTART;VALUE=DATE:20240101
DTEND;VALUE=DATE:20240102
DTSTAMP:20260425T102555
CREATED:20231229T153043Z
LAST-MODIFIED:20231229T153226Z
UID:10000822-1704067200-1704153599@fairfieldcountyfair.org
SUMMARY:Office Closed.
DESCRIPTION:The office will be closed today in observation of the New Year’s Holiday.
URL:https://fairfieldcountyfair.org/event/office-closed-3/
LOCATION:Sr. Fair Administration Office\, 157 E. Fair Ave.\, Lancaster\, OH\, 43130\, United States
CATEGORIES:Single Event
END:VEVENT
BEGIN:VEVENT
DTSTART;VALUE=DATE:20231226
DTEND;VALUE=DATE:20231227
DTSTAMP:20260425T102555
CREATED:20231222T145711Z
LAST-MODIFIED:20231222T145711Z
UID:10000757-1703548800-1703635199@fairfieldcountyfair.org
SUMMARY:Office Closed.
DESCRIPTION:The office will be closed today in observation of the Christmas Holiday.
URL:https://fairfieldcountyfair.org/event/office-closed-2/
END:VEVENT
BEGIN:VEVENT
DTSTART;VALUE=DATE:20231225
DTEND;VALUE=DATE:20231226
DTSTAMP:20260425T102555
CREATED:20231222T145455Z
LAST-MODIFIED:20231222T145455Z
UID:10000756-1703462400-1703548799@fairfieldcountyfair.org
SUMMARY:Office Closed.
DESCRIPTION:The office will be closed today in observation of the Christmas Holiday.
URL:https://fairfieldcountyfair.org/event/office-closed/
END:VEVENT
BEGIN:VEVENT
DTSTART;TZID=America/Detroit:20231220T173000
DTEND;TZID=America/Detroit:20231220T210000
DTSTAMP:20260425T102555
CREATED:20231206T150855Z
LAST-MODIFIED:20231206T150855Z
UID:10000753-1703093400-1703106000@fairfieldcountyfair.org
SUMMARY:Shoff Garage Door Auction
DESCRIPTION:Date – December 20\, 2023 \nTime – 5:30 P.M. – 9:00 P.M. \nLocation – AAA Bldg. \nContact Person – Wayne Shoff \nContact Phone # – 614-833-1110
URL:https://fairfieldcountyfair.org/event/shoff-garage-door-auction/
LOCATION:AAA Bldg.\, 157 E. Fair Ave.\, Lancaster\, OH\, 43130\, United States
ATTACH;FMTTYPE=image/jpeg:https://fairfieldcountyfair.org/wp-content/uploads/2023/12/Shoff-Door-Co.-Inc.-Logo.jpg
END:VEVENT
BEGIN:VEVENT
DTSTART;TZID=America/Detroit:20231212T193000
DTEND;TZID=America/Detroit:20231212T213000
DTSTAMP:20260425T102555
CREATED:20230924T032620Z
LAST-MODIFIED:20231108T145649Z
UID:10000593-1702409400-1702416600@fairfieldcountyfair.org
SUMMARY:Fairfield County Ag Society Board Meeting
DESCRIPTION:
URL:https://fairfieldcountyfair.org/event/fairfield-county-ag-society-board-meeting/
LOCATION:Ricketts Hall
CATEGORIES:Board Meetings
ATTACH;FMTTYPE=image/jpeg:https://fairfieldcountyfair.org/wp-content/uploads/2022/11/FairfieldCountyFairBoardofDirectorsMeeting.jpg
END:VEVENT
BEGIN:VEVENT
DTSTART;TZID=America/Detroit:20231210T120000
DTEND;TZID=America/Detroit:20231210T160000
DTSTAMP:20260425T102555
CREATED:20231113T150010Z
LAST-MODIFIED:20231113T150010Z
UID:10000715-1702209600-1702224000@fairfieldcountyfair.org
SUMMARY:Auction
DESCRIPTION:Auction\nOrganization – Certified Appraisers of Ohio \nContact Person – Dale Devore \nContact Phone Number – 614-206-3155
URL:https://fairfieldcountyfair.org/event/auction/
LOCATION:AAA Bldg.\, 157 E. Fair Ave.\, Lancaster\, OH\, 43130\, United States
END:VEVENT
BEGIN:VEVENT
DTSTART;TZID=America/Detroit:20231123T180000
DTEND;TZID=America/Detroit:20231123T180000
DTSTAMP:20260425T102555
CREATED:20231113T150832Z
LAST-MODIFIED:20231113T150851Z
UID:10000716-1700762400-1700762400@fairfieldcountyfair.org
SUMMARY:Festival of Lights
DESCRIPTION:Fairfield County Fairgrounds – Festival of Lights\nTHANKSGIVING thru CHRISTMAS!\nHours:  \nSunday – Wednesday — 6:00 p.m. – 9:00 p.m. \nThursday – Saturday — 6:00 p.m. – 10:00 p.m. \nAdmission cost – $10 per car \nWhat to expect this year:  \n\nVisits with Santa (dates TBD)\nKettle Corn\nDesserts\nConcession Stand\n\n 
URL:https://fairfieldcountyfair.org/event/festival-of-lights/
ATTACH;FMTTYPE=image/jpeg:https://fairfieldcountyfair.org/wp-content/uploads/2023/11/festival-of-lights-logo.jpg
END:VEVENT
BEGIN:VEVENT
DTSTART;TZID=America/Detroit:20231119T090000
DTEND;TZID=America/Detroit:20231119T170000
DTSTAMP:20260425T102555
CREATED:20231113T145635Z
LAST-MODIFIED:20231113T150028Z
UID:10000714-1700384400-1700413200@fairfieldcountyfair.org
SUMMARY:Tri-County Rabbit Show
DESCRIPTION:Date – November 19\, 2023 \nJudging starts at 9:00 a.m. \nContact Person – Travis West \nContact Phone # – 740-591-7423
URL:https://fairfieldcountyfair.org/event/tri-county-rabbit-show/
LOCATION:Ed Sands – Farm Bureau Bldg.\, 157 E. Fair Ave.\, Lancaster\, OH\, 43130\, United States
END:VEVENT
BEGIN:VEVENT
DTSTART;TZID=America/Detroit:20231111T083000
DTEND;TZID=America/Detroit:20231111T103000
DTSTAMP:20260425T102555
CREATED:20231108T150850Z
LAST-MODIFIED:20231108T150850Z
UID:10000712-1699691400-1699698600@fairfieldcountyfair.org
SUMMARY:Fairfield Co. United Way 5-K Run
DESCRIPTION:5K and Fun Walk\nFairfield County Fairgrounds\nThis year’s race will be on Saturday\, November 11\, 2023. So mark your calendars and register now for early bird prices!\n\n\n\n\n\n\n\nSource:: https://runsignup.com/uwfairfield5k
URL:https://fairfieldcountyfair.org/event/fairfield-co-united-way-5-k-run/
LOCATION:Grandstand
ATTACH;FMTTYPE=image/jpeg:https://fairfieldcountyfair.org/wp-content/uploads/2023/11/United-Way.jpg
END:VEVENT
BEGIN:VEVENT
DTSTART;TZID=America/Detroit:20231105T090000
DTEND;TZID=America/Detroit:20231105T090000
DTSTAMP:20260425T102555
CREATED:20231030T190611Z
LAST-MODIFIED:20231030T190624Z
UID:10000592-1699174800-1699174800@fairfieldcountyfair.org
SUMMARY:Freedom's Never Free
DESCRIPTION:Sunday\, November 5th\, 9:00 a.m. Field of Heroes Takedown\n\nWe need volunteers to help takedown the Field of Heroes. Those interested\, please meet us at the Ed Sands building at 9:00 A.M. All are welcome!
URL:https://fairfieldcountyfair.org/event/freedoms-never-free-5/
LOCATION:Ed Sands – Farm Bureau Bldg.\, 157 E. Fair Ave.\, Lancaster\, OH\, 43130\, United States
ATTACH;FMTTYPE=image/jpeg:https://fairfieldcountyfair.org/wp-content/uploads/2023/10/FNF.jpg
END:VEVENT
BEGIN:VEVENT
DTSTART;TZID=America/Detroit:20231104T120000
DTEND;TZID=America/Detroit:20231104T183000
DTSTAMP:20260425T102555
CREATED:20231030T190311Z
LAST-MODIFIED:20231030T190648Z
UID:10000591-1699099200-1699122600@fairfieldcountyfair.org
SUMMARY:Freedom's Never Free
DESCRIPTION:Saturday\, November 4th\, 12:00-6:00 p.m. Main Ceremonies \n11:00 a.m.-12:00 p.m. – Registration for the Patriotic Pet Parade \n12:00-3:00 p.m. Those who have torn or tattered flags are encouraged to bring them to have them properly and respectfully retired at the Flag Retirement Ceremony starting at noon. \n1:00-2:00 p.m. The Pet Parade will be in the Ed Sands building. To participate\, pets must have a patriotic costume. \n3:30-4:30 p.m. The official appreciation celebration will begin and the youth poster contest winners will be announced. At the celebration you will enjoy special guest speakers\, the McClain Silent Drill Corp and more!\n \n6:00-6:30 p.m. At the Closing Ceremony\, two Flags will be presented; One for a military Veteran\, and one for a First Responder. Participant are encouraged to nominate a Veteran or 1st Responder to receive the Flag by clicking here. \n 
URL:https://fairfieldcountyfair.org/event/freedoms-never-free-4/
LOCATION:Ed Sands – Farm Bureau Bldg.\, 157 E. Fair Ave.\, Lancaster\, OH\, 43130\, United States
ATTACH;FMTTYPE=image/jpeg:https://fairfieldcountyfair.org/wp-content/uploads/2023/10/FNF.jpg
END:VEVENT
BEGIN:VEVENT
DTSTART;TZID=America/Detroit:20231104T100000
DTEND;TZID=America/Detroit:20231104T163000
DTSTAMP:20260425T102555
CREATED:20230924T031521Z
LAST-MODIFIED:20230924T031521Z
UID:10000526-1699092000-1699115400@fairfieldcountyfair.org
SUMMARY:Fairfield County Ag. Society Board of Directors
DESCRIPTION:The Board will meet to review results of the 2023 fair and discuss changes for 2024.  The reorganization portion of the meeting with all 2024 Directors will begin at 2 pm.
URL:https://fairfieldcountyfair.org/event/fairfield-county-ag-society-board-of-directors-meeting-2-2/2023-11-04/
CATEGORIES:Board Meetings
ATTACH;FMTTYPE=image/jpeg:https://fairfieldcountyfair.org/wp-content/uploads/2022/11/FairfieldCountyFairBoardofDirectorsMeeting.jpg
END:VEVENT
BEGIN:VEVENT
DTSTART;TZID=America/Detroit:20231104T090000
DTEND;TZID=America/Detroit:20231104T130000
DTSTAMP:20260425T102555
CREATED:20231024T164322Z
LAST-MODIFIED:20231031T152306Z
UID:10000587-1699088400-1699102800@fairfieldcountyfair.org
SUMMARY:Fairfield County Ag. Society - Annual Election
DESCRIPTION:To Members of the Fairfield County Agricultural Society. The annual election will be held at the office of the Society\, Fairgrounds\, Lancaster\, Ohio on Saturday\, November 4\, 2023 from 9:00 a.m. to 1:00 p.m. \nFive Directors to be elected for terms of office starting November 4\, 2023 are as follows: One Director from Amanda Township to serve three years\, One Director from Clearcreek Township to serve three years\, One Director from Hocking Township to serve three years\, One Director from Pleasant Township to serve three years\, and One Director from Violet Township to serve three years. \nThe members of the society will also be asked to vote on changes to the Fairfield County Ag. Society Constitution. Click the link below for a complete list of changes: \n2023 – Fairfield Co. Ag. Society Constitution Changes \n 
URL:https://fairfieldcountyfair.org/event/fairfield-county-ag-society-annual-election/
LOCATION:Sr. Fair Administration Office\, 157 E. Fair Ave.\, Lancaster\, OH\, 43130\, United States
END:VEVENT
BEGIN:VEVENT
DTSTART;TZID=America/Detroit:20231103T190000
DTEND;TZID=America/Detroit:20231103T220000
DTSTAMP:20260425T102555
CREATED:20231030T185934Z
LAST-MODIFIED:20231030T185935Z
UID:10000590-1699038000-1699048800@fairfieldcountyfair.org
SUMMARY:Freedom's Never Free
DESCRIPTION:Friday\, November 3rd\, 7:00 p.m. USO Dance\n \nThe USO dance will kickoff at 7:00 P.M. with the big dance band\, The Nostalgics. Join us for an evening in the 20th century. We will have our Poster Contest for Middle School thru High School Students too!  Posters need to be submitted no later than Wednesday\, Nov. 1st at the Ed Sands building\, Fairfield County Fairgrounds\, to Jeannie Ignash.  We will have 1st\, 2nd & 3rd place winners who will receive a monetary prize.  Winners will be announced Saturday at the Appreciation Celebration.
URL:https://fairfieldcountyfair.org/event/freedoms-never-free-3/
LOCATION:Ed Sands – Farm Bureau Bldg.\, 157 E. Fair Ave.\, Lancaster\, OH\, 43130\, United States
ATTACH;FMTTYPE=image/jpeg:https://fairfieldcountyfair.org/wp-content/uploads/2023/10/FNF.jpg
END:VEVENT
BEGIN:VEVENT
DTSTART;TZID=America/Detroit:20231102T120000
DTEND;TZID=America/Detroit:20231102T190000
DTSTAMP:20260425T102555
CREATED:20231030T180132Z
LAST-MODIFIED:20231030T180224Z
UID:10000589-1698926400-1698951600@fairfieldcountyfair.org
SUMMARY:Freedom's Never Free
DESCRIPTION:Thursday\, November 2nd\, 12:00 p.m. Traveling Memorial Escort Arrives\n \nThe escort for the travelling memorials (Traveling Korean Memorial\, Gold Star Families Memorial\, Small Wars & Conflicts Traveling Memorial\, & 1st Responder Traveling Memorial\,  arrive at the Fairfield County Fairgrounds at 12 noon. \nThose participating in the escort need to meet at the staging area\, the north bound rest area between Rockbridge and Logan\, Ohio\, no later than 11:00 A.M. Kickstands up at 11:45 p.m.  We’ll arrive at the Fairfield County Fairgrounds in Lancaster at 12:00 p.m. We welcome anyone who can come to help unload and setup the memorial.\n \nThursday\, November 2nd\, 4:00 p.m. Opening Ceremony\n \nThe Opening Ceremony begins with the Posting of the Colors in the Field of Heroes. Those who have sponsored a Flag for their Hero(es) are invited to come post their respective flags.  Afterwards\, we will make our way to the Ed Sands building at the top of the hill where the McClain Silent Drill Corp will perform a demonstration. Afterwards\, we will have a Veteran’s Pinning Ceremony and invite our guest speakers to speak. \n​\n \nTo sponsor a Flag for your hero\, click here\, or pickup a Field of Heroes Flag Form from Les Reynolds at the Veterans Services office at 3044 Columbus-Lancaster Rd NW\, Lancaster\, OH.
URL:https://fairfieldcountyfair.org/event/freedoms-never-free-2/
LOCATION:Ed Sands – Farm Bureau Bldg.\, 157 E. Fair Ave.\, Lancaster\, OH\, 43130\, United States
ATTACH;FMTTYPE=image/jpeg:https://fairfieldcountyfair.org/wp-content/uploads/2023/10/FNF.jpg
END:VEVENT
BEGIN:VEVENT
DTSTART;TZID=America/Detroit:20231101T090000
DTEND;TZID=America/Detroit:20231101T170000
DTSTAMP:20260425T102555
CREATED:20231030T175818Z
LAST-MODIFIED:20231030T180304Z
UID:10000588-1698829200-1698858000@fairfieldcountyfair.org
SUMMARY:Freedom's Never Free
DESCRIPTION:Wednesday\, November 1st \, 9:00 a.m. Field of Heroes Setup\n \nWe need as many volunteers as we can get to help setup the Field of Heroes. Those interested\, please meet us at the Ed Sands Building at the Fairfield County Fairgrounds at 9:00 a.m. Wednesday\, November 1st. \nAll are welcome!
URL:https://fairfieldcountyfair.org/event/freedoms-never-free/
LOCATION:Ed Sands – Farm Bureau Bldg.\, 157 E. Fair Ave.\, Lancaster\, OH\, 43130\, United States
ATTACH;FMTTYPE=image/jpeg:https://fairfieldcountyfair.org/wp-content/uploads/2023/10/FNF.jpg
END:VEVENT
BEGIN:VEVENT
DTSTART;TZID=America/Detroit:20231028T090000
DTEND;TZID=America/Detroit:20231028T150000
DTSTAMP:20260425T102555
CREATED:20230601T143955Z
LAST-MODIFIED:20230601T143955Z
UID:10000118-1698483600-1698505200@fairfieldcountyfair.org
SUMMARY:Vendor & Craft Show
DESCRIPTION:Vendor & Craft Show\nLocation – AAA & Ed Sands -Farm Bureau Bldg.\nTime- 9 am to 3 pm \nContact Name – Tonya Shaffer\nContact Phone #- 740-503-7576
URL:https://fairfieldcountyfair.org/event/vendor-craft-show/
LOCATION:Fairfield County Fairgrounds\, 157 E Fair Ave\, Lancaster\, OH\, 43130\, United States
CATEGORIES:Single Event
END:VEVENT
END:VCALENDAR