BEGIN:VCALENDAR
VERSION:2.0
PRODID:-//Fairfield County Fair - ECPv6.15.20//NONSGML v1.0//EN
CALSCALE:GREGORIAN
METHOD:PUBLISH
X-WR-CALNAME:Fairfield County Fair
X-ORIGINAL-URL:https://fairfieldcountyfair.org
X-WR-CALDESC:Events for Fairfield County Fair
REFRESH-INTERVAL;VALUE=DURATION:PT1H
X-Robots-Tag:noindex
X-PUBLISHED-TTL:PT1H
BEGIN:VTIMEZONE
TZID:America/Detroit
BEGIN:DAYLIGHT
TZOFFSETFROM:-0500
TZOFFSETTO:-0400
TZNAME:EDT
DTSTART:20220313T070000
END:DAYLIGHT
BEGIN:STANDARD
TZOFFSETFROM:-0400
TZOFFSETTO:-0500
TZNAME:EST
DTSTART:20221106T060000
END:STANDARD
BEGIN:DAYLIGHT
TZOFFSETFROM:-0500
TZOFFSETTO:-0400
TZNAME:EDT
DTSTART:20230312T070000
END:DAYLIGHT
BEGIN:STANDARD
TZOFFSETFROM:-0400
TZOFFSETTO:-0500
TZNAME:EST
DTSTART:20231105T060000
END:STANDARD
BEGIN:DAYLIGHT
TZOFFSETFROM:-0500
TZOFFSETTO:-0400
TZNAME:EDT
DTSTART:20240310T070000
END:DAYLIGHT
BEGIN:STANDARD
TZOFFSETFROM:-0400
TZOFFSETTO:-0500
TZNAME:EST
DTSTART:20241103T060000
END:STANDARD
END:VTIMEZONE
BEGIN:VEVENT
DTSTART;TZID=America/Detroit:20230919T193000
DTEND;TZID=America/Detroit:20230919T210000
DTSTAMP:20260425T165927
CREATED:20230131T180811Z
LAST-MODIFIED:20230211T143915Z
UID:10000060-1695151800-1695157200@fairfieldcountyfair.org
SUMMARY:Fairfield County Ag. Society Board of Directors Meeting
DESCRIPTION:
URL:https://fairfieldcountyfair.org/event/fairfield-county-ag-society-board-of-directors-meeting-2/2023-09-19/
LOCATION:OH
CATEGORIES:Board Meetings
ATTACH;FMTTYPE=image/jpeg:https://fairfieldcountyfair.org/wp-content/uploads/2022/11/FairfieldCountyFairBoardofDirectorsMeeting.jpg
END:VEVENT
BEGIN:VEVENT
DTSTART;TZID=America/Detroit:20230910T123000
DTEND;TZID=America/Detroit:20230910T130000
DTSTAMP:20260425T165927
CREATED:20230606T031448Z
LAST-MODIFIED:20230612T193804Z
UID:10000138-1694349000-1694350800@fairfieldcountyfair.org
SUMMARY:MQP Market Lamb Final Weigh-In
DESCRIPTION:Final Weigh in for Market Lamb Muscle Quality Performance Competition \nFor details\, contact Stan Smith at smith.263@osu.edu or 740-277-4633
URL:https://fairfieldcountyfair.org/event/lamb-mqp-final-weigh-in/
LOCATION:Feeder Creek Vet Show Arena\, 157 E Fair Ave\, Lancaster\, OH\, 43130\, United States
CATEGORIES:Jr. Fair
ATTACH;FMTTYPE=image/jpeg:https://fairfieldcountyfair.org/wp-content/uploads/2023/06/Jr-Fair-Emblem-002.jpg
END:VEVENT
BEGIN:VEVENT
DTSTART;TZID=America/Detroit:20230910T120000
DTEND;TZID=America/Detroit:20230910T170000
DTSTAMP:20260425T165927
CREATED:20230601T142732Z
LAST-MODIFIED:20230905T165618Z
UID:10000114-1694347200-1694365200@fairfieldcountyfair.org
SUMMARY:Antique & Collectibles Auction
DESCRIPTION:Antiques & Collectibles Auction\nLocation: AAA Bldg.\nStart Time of Event: 12:00 PM\nContact Person: John Bakitis\nContact Phone: 614-833-6302
URL:https://fairfieldcountyfair.org/event/antique-collectibles-auction-2/
LOCATION:AAA Bldg.\, 157 E. Fair Ave.\, Lancaster\, OH\, 43130\, United States
END:VEVENT
BEGIN:VEVENT
DTSTART;TZID=America/Detroit:20230909T120000
DTEND;TZID=America/Detroit:20230909T170000
DTSTAMP:20260425T165927
CREATED:20230907T162109Z
LAST-MODIFIED:20230907T162109Z
UID:10000524-1694260800-1694278800@fairfieldcountyfair.org
SUMMARY:Hocking Twp. Firefighters Association Car Show
DESCRIPTION:Hocking Township Firefighters Association Car Show\nDate: Saturday\, September 9\nTime: 12 noon to 5:00 p.m.\n$5.00 parking for non show cars.\n80+ trophies\, food trucks\, vendors\, 50/50\nHelp support local firefighters!
URL:https://fairfieldcountyfair.org/event/hocking-twp-firefighters-association-car-show/
LOCATION:Grandstand
ATTACH;FMTTYPE=image/jpeg:https://fairfieldcountyfair.org/wp-content/uploads/2023/09/hocking-twp-fire.jpg
END:VEVENT
BEGIN:VEVENT
DTSTART;TZID=America/Detroit:20230909T090000
DTEND;TZID=America/Detroit:20230909T170000
DTSTAMP:20260425T165927
CREATED:20230601T142254Z
LAST-MODIFIED:20230606T224346Z
UID:10000113-1694250000-1694278800@fairfieldcountyfair.org
SUMMARY:Reality Dreams Open Horse Show
DESCRIPTION:Reality Dreams Open Horse Show\nLocation- Outdoor Arena\nStart Time for the Event: 9:00 AM \nContact Person: Karen Sarver\nPhone Number: 740-385-3431
URL:https://fairfieldcountyfair.org/event/reality-dreams-open-horse-show-2/
LOCATION:Outdoor Arena\, 157 E. Fair Ave.\, Lancaster\, OH\, 43130\, United States
CATEGORIES:Single Event
ATTACH;FMTTYPE=image/jpeg:https://fairfieldcountyfair.org/wp-content/uploads/2023/05/Reality-Dreams-Horse-Show.jpg
END:VEVENT
BEGIN:VEVENT
DTSTART;TZID=America/Detroit:20230909T090000
DTEND;TZID=America/Detroit:20230909T150000
DTSTAMP:20260425T165927
CREATED:20230606T030812Z
LAST-MODIFIED:20230608T195325Z
UID:10000136-1694250000-1694271600@fairfieldcountyfair.org
SUMMARY:Mandatory County Skillathon by appointment only
DESCRIPTION:Skillathon required  for Beef\, Dairy Cattle\, Dairy Feeders\, Meat Goats\, Swine\, Sheep \nFor details contact OSU Extension at 740-653-5419
URL:https://fairfieldcountyfair.org/event/county-skillathon-by-appointment-only/
LOCATION:Ed Sands – Farm Bureau Bldg.\, 157 E. Fair Ave.\, Lancaster\, OH\, 43130\, United States
CATEGORIES:Jr. Fair
ATTACH;FMTTYPE=image/jpeg:https://fairfieldcountyfair.org/wp-content/uploads/2023/06/Jr-Fair-Emblem-002.jpg
END:VEVENT
BEGIN:VEVENT
DTSTART;TZID=America/Detroit:20230909T090000
DTEND;TZID=America/Detroit:20230909T110000
DTSTAMP:20260425T165927
CREATED:20230606T031136Z
LAST-MODIFIED:20230607T211911Z
UID:10000137-1694250000-1694257200@fairfieldcountyfair.org
SUMMARY:Market Rabbit Tattooing (Home Grown Only)
DESCRIPTION:
URL:https://fairfieldcountyfair.org/event/market-rabbit-tattooing-home-grown-only/
LOCATION:Fairfield County Fairgrounds\, 157 E Fair Ave\, Lancaster\, OH\, 43130\, United States
CATEGORIES:Jr. Fair
END:VEVENT
BEGIN:VEVENT
DTSTART;VALUE=DATE:20230908
DTEND;VALUE=DATE:20230909
DTSTAMP:20260425T165927
CREATED:20230606T030355Z
LAST-MODIFIED:20230612T192733Z
UID:10000135-1694131200-1694217599@fairfieldcountyfair.org
SUMMARY:County Possession Deadline for Market Rabbits
DESCRIPTION:For Junior fair details\, contact Junior Fair Director\, Doug Shell at  lshell71@gmail.com
URL:https://fairfieldcountyfair.org/event/county-possession-deadline-for-market-rabbits/
LOCATION:OH
CATEGORIES:Jr. Fair
ATTACH;FMTTYPE=image/jpeg:https://fairfieldcountyfair.org/wp-content/uploads/2023/06/Jr-Fair-Emblem-002.jpg
END:VEVENT
BEGIN:VEVENT
DTSTART;VALUE=DATE:20230904
DTEND;VALUE=DATE:20230905
DTSTAMP:20260425T165927
CREATED:20230901T182932Z
LAST-MODIFIED:20230901T184202Z
UID:10000522-1693785600-1693871999@fairfieldcountyfair.org
SUMMARY:Labor Day - Sr. Fair Office is Closed.
DESCRIPTION:The Sr. Fair Office will be closed on Monday\, September 4th for Labor Day. We will reopen for normal business hours on Tuesday\, September 5th at 8:30 a.m. Thank you!\n 
URL:https://fairfieldcountyfair.org/event/labor-day-sr-fair-office-is-closed/
LOCATION:Sr. Fair Administration Office\, 157 E. Fair Ave.\, Lancaster\, OH\, 43130\, United States
ATTACH;FMTTYPE=image/png:https://fairfieldcountyfair.org/wp-content/uploads/2023/09/blue-and-Red-Simple-Labor-Day-Instagram-Post-.png
END:VEVENT
BEGIN:VEVENT
DTSTART;TZID=America/Detroit:20230903T090000
DTEND;TZID=America/Detroit:20230903T170000
DTSTAMP:20260425T165927
CREATED:20230601T141552Z
LAST-MODIFIED:20230601T141653Z
UID:10000112-1693731600-1693760400@fairfieldcountyfair.org
SUMMARY:Ohio Standardbred & Friends Open Horse Show
DESCRIPTION:Horse Show\nOrganization – Ohio Standardbreds & Friends\nTime- 9:00 A.M.\nLocation- Outdoor Arena\nContact Person – Debbie Schiff\nContact Phone#- (740) 207-0852
URL:https://fairfieldcountyfair.org/event/ohio-standardbred-friends-open-horse-show/
LOCATION:Outdoor Arena\, 157 E. Fair Ave.\, Lancaster\, OH\, 43130\, United States
CATEGORIES:Single Event
END:VEVENT
BEGIN:VEVENT
DTSTART;TZID=America/Detroit:20230902T130000
DTEND;TZID=America/Detroit:20230902T160000
DTSTAMP:20260425T165927
CREATED:20230828T145729Z
LAST-MODIFIED:20230828T145946Z
UID:10000521-1693659600-1693670400@fairfieldcountyfair.org
SUMMARY:Mario Kart Banana Foster Cup
DESCRIPTION:Mario Kart Banana Foster Cup\nDate- September 2\, 2023\nTime – 1:00 p.m. to 4:00 p.m.\nLocation – Ed Sands – Farm Bureau Building\n 
URL:https://fairfieldcountyfair.org/event/mario-kart-banana-foster-cup/
LOCATION:Ed Sands – Farm Bureau Bldg.\, 157 E. Fair Ave.\, Lancaster\, OH\, 43130\, United States
CATEGORIES:Family Fun
END:VEVENT
BEGIN:VEVENT
DTSTART;VALUE=DATE:20230901
DTEND;VALUE=DATE:20230902
DTSTAMP:20260425T165927
CREATED:20230606T030210Z
LAST-MODIFIED:20230612T192511Z
UID:10000134-1693526400-1693612799@fairfieldcountyfair.org
SUMMARY:County Possession Deadline for Market Chickens and Market Ducks
DESCRIPTION:For Junior Fair Information contact Junior fair Director\, Doug Shell at lshell71@gmail.com 
URL:https://fairfieldcountyfair.org/event/county-possession-deadline-for-market-chickens-and-market-ducks/
LOCATION:OH
CATEGORIES:Jr. Fair
ATTACH;FMTTYPE=image/jpeg:https://fairfieldcountyfair.org/wp-content/uploads/2023/06/Jr-Fair-Emblem-002.jpg
END:VEVENT
BEGIN:VEVENT
DTSTART;TZID=America/Detroit:20230827T153000
DTEND;TZID=America/Detroit:20230827T170000
DTSTAMP:20260425T165927
CREATED:20230607T195049Z
LAST-MODIFIED:20230612T192834Z
UID:10000142-1693150200-1693155600@fairfieldcountyfair.org
SUMMARY:MQP Market Goat Final Weigh In
DESCRIPTION:Final Weigh-in for conclusion of MQP Market Goat Competition \nFor more information contact Stan Smith at smith.263@osu.edu or via phone 740-277-4633
URL:https://fairfieldcountyfair.org/event/mqp-market-goat-final-weigh-in/
LOCATION:Beef Barn – # 4\, 157 E Fair Ave\, Lancaster\, OH\, 43130\, United States
CATEGORIES:Jr. Fair
ATTACH;FMTTYPE=image/jpeg:https://fairfieldcountyfair.org/wp-content/uploads/2023/06/Jr-Fair-Emblem-002.jpg
END:VEVENT
BEGIN:VEVENT
DTSTART;TZID=America/Detroit:20230826T170000
DTEND;TZID=America/Detroit:20230826T223000
DTSTAMP:20260425T165927
CREATED:20230803T151715Z
LAST-MODIFIED:20230803T152503Z
UID:10000518-1693069200-1693089000@fairfieldcountyfair.org
SUMMARY:Mt. Pleasant Shootout Truck & Tractor Pull
DESCRIPTION:Mt. Pleasant Shoot Out Truck & Tractor Pull\nDate: August 26\, 2023 \nTime: Starts at 5:00 P.M. \nTicket: \n\nAdvance Tickets – $8.00 for adult\, children 6 to 12 $3.00\, children under 6 free.\nDay of the pull – $10.00 for adult\, children $5.00 and under 6 free.\n\n  \nContact: Fair Office 740-653-3041 / Dean Throckmorton 740-215-9962 \n Rules: Dean Throckmorton 740-215-9962 \nPayout Flyer – Mt. Pleasant Shootout Truck & Tractor Pull (see link below): \nhttps://drive.google.com/file/d/19OD9Npgm6UyepgnnCZolWEEA4yyd0HKp/view?usp=sharing \n2023 Rules – Mt Pleasant Shootout Truck & Tractor Pull (see link below): \nhttps://drive.google.com/file/d/14rrmE35JGZSHJVDECWEpcW-Vv6UIahkp/view?usp=sharing \n 
URL:https://fairfieldcountyfair.org/event/mt-pleasant-shootout-truck-tractor-pull/
LOCATION:Grandstand
CATEGORIES:Family Fun,Single Event
ATTACH;FMTTYPE=image/jpeg:https://fairfieldcountyfair.org/wp-content/uploads/2023/08/Mt-Pleasant-Shoot-Out-Logo.jpg
END:VEVENT
BEGIN:VEVENT
DTSTART;TZID=America/Detroit:20230826T100000
DTEND;TZID=America/Detroit:20230826T120000
DTSTAMP:20260425T165927
CREATED:20230607T194216Z
LAST-MODIFIED:20230608T192201Z
UID:10000141-1693044000-1693051200@fairfieldcountyfair.org
SUMMARY:Junior Fair Dog Check-In Day
DESCRIPTION:Dog Skillathon \nYou and Your Dog Interview Judging
URL:https://fairfieldcountyfair.org/event/junior-fair-dog-check-in-day/
LOCATION:Feeder Creek Vet Show Arena\, 157 E Fair Ave\, Lancaster\, OH\, 43130\, United States
CATEGORIES:Jr. Fair
ATTACH;FMTTYPE=image/jpeg:https://fairfieldcountyfair.org/wp-content/uploads/2023/06/Jr-Fair-Emblem-002.jpg
END:VEVENT
BEGIN:VEVENT
DTSTART;TZID=America/Detroit:20230825T100000
DTEND;TZID=America/Detroit:20230825T150000
DTSTAMP:20260425T165927
CREATED:20230823T144836Z
LAST-MODIFIED:20230823T144837Z
UID:10000520-1692957600-1692975600@fairfieldcountyfair.org
SUMMARY:Fairfield Co. Senior Expo
DESCRIPTION:Fairfield Co. Senior Expo\nDate of Event – Friday\, August 25\nTime- 10:00 a.m. to 3:00 p.m.\nLocation – #14 Ed Sands-Farm Bureau Building\nContact Person – Brenda Carney\nContact Phone Number – 740-974-5536
URL:https://fairfieldcountyfair.org/event/fairfield-co-senior-expo/
LOCATION:Ed Sands – Farm Bureau Bldg.\, 157 E. Fair Ave.\, Lancaster\, OH\, 43130\, United States
END:VEVENT
BEGIN:VEVENT
DTSTART;VALUE=DATE:20230825
DTEND;VALUE=DATE:20230826
DTSTAMP:20260425T165927
CREATED:20230606T025953Z
LAST-MODIFIED:20230608T191759Z
UID:10000133-1692921600-1693007999@fairfieldcountyfair.org
SUMMARY:Junior Fair Entries Due via Fair Entry Program
DESCRIPTION:
URL:https://fairfieldcountyfair.org/event/junior-fair-entries-due-via-fair-entry-program/
LOCATION:OH
CATEGORIES:Jr. Fair
ATTACH;FMTTYPE=image/jpeg:https://fairfieldcountyfair.org/wp-content/uploads/2023/06/Jr-Fair-Emblem-002.jpg
END:VEVENT
BEGIN:VEVENT
DTSTART;VALUE=DATE:20230820
DTEND;VALUE=DATE:20230821
DTSTAMP:20260425T165927
CREATED:20230606T025808Z
LAST-MODIFIED:20230612T193005Z
UID:10000132-1692489600-1692575999@fairfieldcountyfair.org
SUMMARY:Jr. Fair Beef Feeder Identification Paperwork Submission Deadline
DESCRIPTION:Paperwork to be turned into OSU Extension in Fairfield County located at 831 College Avenue\, Lancaster. \nFor details and information\, contact Junior Fair Director\, Doug Shell at lshell71@gmail.com
URL:https://fairfieldcountyfair.org/event/jr-fair-beef-feeder-identification-paperwork-submitted/
LOCATION:OH
CATEGORIES:Jr. Fair
ATTACH;FMTTYPE=image/jpeg:https://fairfieldcountyfair.org/wp-content/uploads/2023/06/Jr-Fair-Emblem-002.jpg
END:VEVENT
BEGIN:VEVENT
DTSTART;TZID=America/Detroit:20230815T193000
DTEND;TZID=America/Detroit:20230815T210000
DTSTAMP:20260425T165927
CREATED:20230131T180811Z
LAST-MODIFIED:20230211T143915Z
UID:10000059-1692127800-1692133200@fairfieldcountyfair.org
SUMMARY:Fairfield County Ag. Society Board of Directors Meeting
DESCRIPTION:
URL:https://fairfieldcountyfair.org/event/fairfield-county-ag-society-board-of-directors-meeting-2/2023-08-15/
LOCATION:OH
CATEGORIES:Board Meetings
ATTACH;FMTTYPE=image/jpeg:https://fairfieldcountyfair.org/wp-content/uploads/2022/11/FairfieldCountyFairBoardofDirectorsMeeting.jpg
END:VEVENT
BEGIN:VEVENT
DTSTART;VALUE=DATE:20230815
DTEND;VALUE=DATE:20230816
DTSTAMP:20260425T165927
CREATED:20230606T025438Z
LAST-MODIFIED:20230612T193415Z
UID:10000131-1692057600-1692143999@fairfieldcountyfair.org
SUMMARY:County Possession Deadline for Beef Feeder Calves
DESCRIPTION:For details contact Junior Fair Director\, Doug Shell at lshell71@gmail.com
URL:https://fairfieldcountyfair.org/event/county-possession-deadline-for-beef-feeder-calves/
LOCATION:OH
CATEGORIES:Jr. Fair
ATTACH;FMTTYPE=image/jpeg:https://fairfieldcountyfair.org/wp-content/uploads/2023/06/Jr-Fair-Emblem-002.jpg
END:VEVENT
BEGIN:VEVENT
DTSTART;TZID=America/Detroit:20230806T100000
DTEND;TZID=America/Detroit:20230806T170000
DTSTAMP:20260425T165927
CREATED:20230518T152530Z
LAST-MODIFIED:20230518T152811Z
UID:10000099-1691316000-1691341200@fairfieldcountyfair.org
SUMMARY:Blanket Trade Pow-Wow & Cultural Event
DESCRIPTION:Blanket Trade Pow-Wow & Cultural Event\nLocation- Infield\n\n\nStart Time of Event: 10:00 a.m. to 7:00 p.m.\nGrand Entry : 12:00 p.m.Contact Person: Kevin Everhart\nContract Phone: 740-304-9720\nFor more information- https://honoringtraditions.weebly.com/
URL:https://fairfieldcountyfair.org/event/3882/
LOCATION:Infield\, 157 E. Fair Eve.\, Lancaster\, Ohio\, 43130
ATTACH;FMTTYPE=image/jpeg:https://fairfieldcountyfair.org/wp-content/uploads/2023/05/pow-wow-e1684422696737.jpg
END:VEVENT
BEGIN:VEVENT
DTSTART;TZID=America/Detroit:20230805T100000
DTEND;TZID=America/Detroit:20230805T190000
DTSTAMP:20260425T165927
CREATED:20230518T150713Z
LAST-MODIFIED:20230518T152902Z
UID:10000098-1691229600-1691262000@fairfieldcountyfair.org
SUMMARY:Blanket Trade Pow-Wow & Cultural Event
DESCRIPTION:Blanket Trade Pow-Wow & Cultural Event\nLocation- Infield \n\nStart Time of Event: 10:00 a.m. to 7:00 p.m.\nGrand Entry : 12:00 p.m.Contact Person: Kevin Everhart\nContract Phone: 740-304-9720For more information- https://honoringtraditions.weebly.com/
URL:https://fairfieldcountyfair.org/event/blanket-trade-pow-wow-cultural-event/
LOCATION:Infield\, 157 E. Fair Eve.\, Lancaster\, Ohio\, 43130
ATTACH;FMTTYPE=image/jpeg:https://fairfieldcountyfair.org/wp-content/uploads/2023/05/pow-wow-e1684422696737.jpg
END:VEVENT
BEGIN:VEVENT
DTSTART;TZID=America/Detroit:20230729T090000
DTEND;TZID=America/Detroit:20230729T150000
DTSTAMP:20260425T165927
CREATED:20230518T160101Z
LAST-MODIFIED:20230518T160102Z
UID:10000101-1690621200-1690642800@fairfieldcountyfair.org
SUMMARY:4-H Advisory Vendor Sale
DESCRIPTION:4-H Advisory Vendor Sale\n\nDate – Saturday\, July 29\, 2023\nTime of the Event- 9:00 A.M. to 3:00 P.M.\nLocation – AAA & Ed Sands Farm Bureau Buildings \nContact Person – Mark Sharp\nContact Phone# – 740-503-5918
URL:https://fairfieldcountyfair.org/event/4-h-advisory-vendor-sale/
LOCATION:Fairfield County Fairgrounds\, 157 E Fair Ave\, Lancaster\, OH\, 43130\, United States
END:VEVENT
BEGIN:VEVENT
DTSTART;TZID=America/Detroit:20230722T093000
DTEND;TZID=America/Detroit:20230722T150000
DTSTAMP:20260425T165927
CREATED:20230518T154232Z
LAST-MODIFIED:20230518T155025Z
UID:10000100-1690018200-1690038000@fairfieldcountyfair.org
SUMMARY:Lancaster Festival Farm Fair Day
DESCRIPTION:Saturday\, July 22\nTime of the Event: 9:30 AM \nAdmission:\nAdults – $5.00\nKids – FREE\nParking- FREE \nChildren Games\, Crafts\, Food\, Music\, Animals\, and Entertainment for Children \nCall (740) 687-4808 with questions regarding this event.
URL:https://fairfieldcountyfair.org/event/lancaster-festival-farm-fair-day/
LOCATION:Fairfield County Fairgrounds\, 157 E Fair Ave\, Lancaster\, OH\, 43130\, United States
ATTACH;FMTTYPE=image/png:https://fairfieldcountyfair.org/wp-content/uploads/2023/05/festival-fair-day.png
END:VEVENT
BEGIN:VEVENT
DTSTART;TZID=America/Detroit:20230718T193000
DTEND;TZID=America/Detroit:20230718T210000
DTSTAMP:20260425T165927
CREATED:20230131T180811Z
LAST-MODIFIED:20230211T143915Z
UID:10000058-1689708600-1689714000@fairfieldcountyfair.org
SUMMARY:Fairfield County Ag. Society Board of Directors Meeting
DESCRIPTION:
URL:https://fairfieldcountyfair.org/event/fairfield-county-ag-society-board-of-directors-meeting-2/2023-07-18/
LOCATION:OH
CATEGORIES:Board Meetings
ATTACH;FMTTYPE=image/jpeg:https://fairfieldcountyfair.org/wp-content/uploads/2022/11/FairfieldCountyFairBoardofDirectorsMeeting.jpg
END:VEVENT
BEGIN:VEVENT
DTSTART;TZID=America/Detroit:20230715T190000
DTEND;TZID=America/Detroit:20230715T220000
DTSTAMP:20260425T165927
CREATED:20230518T145347Z
LAST-MODIFIED:20230606T222158Z
UID:10000097-1689447600-1689458400@fairfieldcountyfair.org
SUMMARY:PWA Wrestling
DESCRIPTION:PWA Wrestling\nDate- Saturday\, July 15\, 2023\nShowtime – 7:00 pm\nLocation – AAA Bldg. \nContact Person – Chris Cruit\nContact Phone#- 740-407-5720
URL:https://fairfieldcountyfair.org/event/pwa-wrestling/
LOCATION:OH
ATTACH;FMTTYPE=image/jpeg:https://fairfieldcountyfair.org/wp-content/uploads/2023/05/PWA-Wrestling-2023-scaled.jpg
END:VEVENT
BEGIN:VEVENT
DTSTART;TZID=America/Detroit:20230713T110000
DTEND;TZID=America/Detroit:20230713T163000
DTSTAMP:20260425T165927
CREATED:20230606T024854Z
LAST-MODIFIED:20230608T191612Z
UID:10000130-1689246000-1689265800@fairfieldcountyfair.org
SUMMARY:4-H Summer Judging by appointment only
DESCRIPTION:All Clothing Projects will be evaluated \nContact OSU Extension-Fairfield County details at 740-653-5419
URL:https://fairfieldcountyfair.org/event/4-h-summer-judging-3/
LOCATION:Ed Sands – Farm Bureau Bldg.\, 157 E. Fair Ave.\, Lancaster\, OH\, 43130\, United States
CATEGORIES:Jr. Fair
ATTACH;FMTTYPE=image/jpeg:https://fairfieldcountyfair.org/wp-content/uploads/2023/06/4HClover.2020.jpg
END:VEVENT
BEGIN:VEVENT
DTSTART;TZID=America/Detroit:20230712T120000
DTEND;TZID=America/Detroit:20230712T180000
DTSTAMP:20260425T165927
CREATED:20230606T024436Z
LAST-MODIFIED:20230608T191419Z
UID:10000129-1689163200-1689184800@fairfieldcountyfair.org
SUMMARY:4-H Summer Judging by appointment only
DESCRIPTION:Communications\, Engineering\, Environmental Science and Leadership Projects will be be evaluated \nFor details contact\, OSU Extension – Fairfield County at 740-653-5419
URL:https://fairfieldcountyfair.org/event/4-h-summer-judging-2/
LOCATION:Ed Sands – Farm Bureau Bldg.\, 157 E. Fair Ave.\, Lancaster\, OH\, 43130\, United States
CATEGORIES:Jr. Fair
ATTACH;FMTTYPE=image/jpeg:https://fairfieldcountyfair.org/wp-content/uploads/2023/06/4HClover.2020.jpg
END:VEVENT
BEGIN:VEVENT
DTSTART;TZID=America/Detroit:20230711T120000
DTEND;TZID=America/Detroit:20230711T180000
DTSTAMP:20260425T165927
CREATED:20230606T023648Z
LAST-MODIFIED:20230608T191316Z
UID:10000128-1689076800-1689098400@fairfieldcountyfair.org
SUMMARY:4-H Summer Judging by appointment only
DESCRIPTION:All Food and Nutrition Projects\, Family & Consumer Science and Self Determined Projects will be evaluated.\nCall OSU Extension in Fairfield County for details at 740-653-5419
URL:https://fairfieldcountyfair.org/event/4-h-summer-judging/
LOCATION:Ed Sands – Farm Bureau Bldg.\, 157 E. Fair Ave.\, Lancaster\, OH\, 43130\, United States
CATEGORIES:Jr. Fair
ATTACH;FMTTYPE=image/jpeg:https://fairfieldcountyfair.org/wp-content/uploads/2023/06/4HClover.2020.jpg
END:VEVENT
BEGIN:VEVENT
DTSTART;TZID=America/Detroit:20230708T083000
DTEND;TZID=America/Detroit:20230708T150000
DTSTAMP:20260425T165927
CREATED:20230518T143855Z
LAST-MODIFIED:20230518T144649Z
UID:10000096-1688805000-1688828400@fairfieldcountyfair.org
SUMMARY:The 2023 Hank Kabel Sarcoma 5K Walk/Run
DESCRIPTION:Hank Kabel Sarcoma 5K Walk/Run\n  \nWho\nFor dogs and people \nWhat\n5K Walk/Run for Canine Cancer\nPrizes and recognition will be given to teams who raise the most money\, and to the winners of the race. \nWhen\nSaturday\, July 8\,2023\, 8:30 a.m. \nRegistration is from 7:30-8:30 a.m.\, with the opening ceremony at 8:30 a.m. and the race commencing at 9 a.m. The opening ceremony will take place at Hank’s bench\, near where the old grandstand once stood. Participants can enjoy various vendors before and after the race. Join us for the race and stay for a whole day of family fun with entertainment\, food\, raffles\, silent auctions\, exhibits and vendors. \nWhere\nFairfield County Fairgrounds\, located at 157 E. Fair Avenue\, Lancaster\, Ohio 43130 \nWhy\nTo help the Hank Kabel Sarcoma Foundation raise money and awareness for canine cancer and to honor Hank and all other dogs who have lost their battle to this devastating disease. By participating in Hank’s race you\, are not only raising money for dogs with cancer\, but also for people with cancer\, since clinical trials in dogs help decide medicines that are effective in human cancers as well. \nCost\nRegistration is$25/person\, which will go directly to help fund canine cancer research through the foundation. Children 14 and under will be admitted free\, but must be accompanied by a registered adult; children 18 and under must have a guardian sign the form for them. Registration will be accepted the day of the race for$30/person. You may also purchase race-day items – including T-shirts\, bandanas and medals. \nAdditional Information\nAs more information is available\, we will update Hank’s Facebook page. \nFor questions\, contact Amy Kabel at alckphd@gmail.com or call/text 740-974-2811. If you know of anyone who would like to be a sponsor of our virtual event\, please have them contact us for more details.
URL:https://fairfieldcountyfair.org/event/the-2023-hank-kabel-sarcoma-5k-walk-run/
LOCATION:Fairfield County Fairgrounds\, 157 E Fair Ave\, Lancaster\, OH\, 43130\, United States
ATTACH;FMTTYPE=image/jpeg:https://fairfieldcountyfair.org/wp-content/uploads/2023/05/Hank-Kabel.jpg
END:VEVENT
END:VCALENDAR