BEGIN:VCALENDAR
VERSION:2.0
PRODID:-//Fairfield County Fair - ECPv6.15.20//NONSGML v1.0//EN
CALSCALE:GREGORIAN
METHOD:PUBLISH
X-ORIGINAL-URL:https://fairfieldcountyfair.org
X-WR-CALDESC:Events for Fairfield County Fair
REFRESH-INTERVAL;VALUE=DURATION:PT1H
X-Robots-Tag:noindex
X-PUBLISHED-TTL:PT1H
BEGIN:VTIMEZONE
TZID:America/Detroit
BEGIN:DAYLIGHT
TZOFFSETFROM:-0500
TZOFFSETTO:-0400
TZNAME:EDT
DTSTART:20280312T070000
END:DAYLIGHT
BEGIN:STANDARD
TZOFFSETFROM:-0400
TZOFFSETTO:-0500
TZNAME:EST
DTSTART:20281105T060000
END:STANDARD
BEGIN:DAYLIGHT
TZOFFSETFROM:-0500
TZOFFSETTO:-0400
TZNAME:EDT
DTSTART:20290311T070000
END:DAYLIGHT
BEGIN:STANDARD
TZOFFSETFROM:-0400
TZOFFSETTO:-0500
TZNAME:EST
DTSTART:20291104T060000
END:STANDARD
BEGIN:DAYLIGHT
TZOFFSETFROM:-0500
TZOFFSETTO:-0400
TZNAME:EDT
DTSTART:20300310T070000
END:DAYLIGHT
BEGIN:STANDARD
TZOFFSETFROM:-0400
TZOFFSETTO:-0500
TZNAME:EST
DTSTART:20301103T060000
END:STANDARD
BEGIN:DAYLIGHT
TZOFFSETFROM:-0500
TZOFFSETTO:-0400
TZNAME:EDT
DTSTART:20310309T070000
END:DAYLIGHT
BEGIN:STANDARD
TZOFFSETFROM:-0400
TZOFFSETTO:-0500
TZNAME:EST
DTSTART:20311102T060000
END:STANDARD
BEGIN:DAYLIGHT
TZOFFSETFROM:-0500
TZOFFSETTO:-0400
TZNAME:EDT
DTSTART:20320314T070000
END:DAYLIGHT
BEGIN:STANDARD
TZOFFSETFROM:-0400
TZOFFSETTO:-0500
TZNAME:EST
DTSTART:20321107T060000
END:STANDARD
BEGIN:DAYLIGHT
TZOFFSETFROM:-0500
TZOFFSETTO:-0400
TZNAME:EDT
DTSTART:20330313T070000
END:DAYLIGHT
BEGIN:STANDARD
TZOFFSETFROM:-0400
TZOFFSETTO:-0500
TZNAME:EST
DTSTART:20331106T060000
END:STANDARD
BEGIN:DAYLIGHT
TZOFFSETFROM:-0500
TZOFFSETTO:-0400
TZNAME:EDT
DTSTART:20340312T070000
END:DAYLIGHT
BEGIN:STANDARD
TZOFFSETFROM:-0400
TZOFFSETTO:-0500
TZNAME:EST
DTSTART:20341105T060000
END:STANDARD
END:VTIMEZONE
BEGIN:VEVENT
DTSTART;TZID=America/Detroit:20291103T100000
DTEND;TZID=America/Detroit:20291103T160000
DTSTAMP:20260424T044512
CREATED:20231227T154843Z
LAST-MODIFIED:20250107T223457Z
UID:10000948-1888394400-1888416000@fairfieldcountyfair.org
SUMMARY:Fairfield County Ag. Society Reorganization Meeting
DESCRIPTION:Membership Meeting followed by General Meeting
URL:https://fairfieldcountyfair.org/event/fairfield-county-ag-society-reorganization-meeting/2029-11-03/
LOCATION:Ricketts Hall
CATEGORIES:Board Meetings
ATTACH;FMTTYPE=image/jpeg:https://fairfieldcountyfair.org/wp-content/uploads/2022/11/FairfieldCountyFairBoardofDirectorsMeeting.jpg
END:VEVENT
BEGIN:VEVENT
DTSTART;TZID=America/Detroit:20301102T100000
DTEND;TZID=America/Detroit:20301102T160000
DTSTAMP:20260424T044512
CREATED:20231227T154843Z
LAST-MODIFIED:20250107T223457Z
UID:10000949-1919844000-1919865600@fairfieldcountyfair.org
SUMMARY:Fairfield County Ag. Society Reorganization Meeting
DESCRIPTION:Membership Meeting followed by General Meeting
URL:https://fairfieldcountyfair.org/event/fairfield-county-ag-society-reorganization-meeting/2030-11-02/
LOCATION:Ricketts Hall
CATEGORIES:Board Meetings
ATTACH;FMTTYPE=image/jpeg:https://fairfieldcountyfair.org/wp-content/uploads/2022/11/FairfieldCountyFairBoardofDirectorsMeeting.jpg
END:VEVENT
BEGIN:VEVENT
DTSTART;TZID=America/Detroit:20311101T100000
DTEND;TZID=America/Detroit:20311101T160000
DTSTAMP:20260424T044512
CREATED:20231227T154843Z
LAST-MODIFIED:20250107T223457Z
UID:10000950-1951293600-1951315200@fairfieldcountyfair.org
SUMMARY:Fairfield County Ag. Society Reorganization Meeting
DESCRIPTION:Membership Meeting followed by General Meeting
URL:https://fairfieldcountyfair.org/event/fairfield-county-ag-society-reorganization-meeting/2031-11-01/
LOCATION:Ricketts Hall
CATEGORIES:Board Meetings
ATTACH;FMTTYPE=image/jpeg:https://fairfieldcountyfair.org/wp-content/uploads/2022/11/FairfieldCountyFairBoardofDirectorsMeeting.jpg
END:VEVENT
BEGIN:VEVENT
DTSTART;TZID=America/Detroit:20321106T100000
DTEND;TZID=America/Detroit:20321106T160000
DTSTAMP:20260424T044512
CREATED:20231227T154843Z
LAST-MODIFIED:20250107T223457Z
UID:10000951-1983348000-1983369600@fairfieldcountyfair.org
SUMMARY:Fairfield County Ag. Society Reorganization Meeting
DESCRIPTION:Membership Meeting followed by General Meeting
URL:https://fairfieldcountyfair.org/event/fairfield-county-ag-society-reorganization-meeting/2032-11-06/
LOCATION:Ricketts Hall
CATEGORIES:Board Meetings
ATTACH;FMTTYPE=image/jpeg:https://fairfieldcountyfair.org/wp-content/uploads/2022/11/FairfieldCountyFairBoardofDirectorsMeeting.jpg
END:VEVENT
BEGIN:VEVENT
DTSTART;TZID=America/Detroit:20331105T100000
DTEND;TZID=America/Detroit:20331105T160000
DTSTAMP:20260424T044512
CREATED:20231227T154843Z
LAST-MODIFIED:20250107T223457Z
UID:10000952-2014797600-2014819200@fairfieldcountyfair.org
SUMMARY:Fairfield County Ag. Society Reorganization Meeting
DESCRIPTION:Membership Meeting followed by General Meeting
URL:https://fairfieldcountyfair.org/event/fairfield-county-ag-society-reorganization-meeting/2033-11-05/
LOCATION:Ricketts Hall
CATEGORIES:Board Meetings
ATTACH;FMTTYPE=image/jpeg:https://fairfieldcountyfair.org/wp-content/uploads/2022/11/FairfieldCountyFairBoardofDirectorsMeeting.jpg
END:VEVENT
END:VCALENDAR