BEGIN:VCALENDAR
VERSION:2.0
PRODID:-//Fairfield County Fair - ECPv6.15.20//NONSGML v1.0//EN
CALSCALE:GREGORIAN
METHOD:PUBLISH
X-WR-CALNAME:Fairfield County Fair
X-ORIGINAL-URL:https://fairfieldcountyfair.org
X-WR-CALDESC:Events for Fairfield County Fair
REFRESH-INTERVAL;VALUE=DURATION:PT1H
X-Robots-Tag:noindex
X-PUBLISHED-TTL:PT1H
BEGIN:VTIMEZONE
TZID:America/Detroit
BEGIN:DAYLIGHT
TZOFFSETFROM:-0500
TZOFFSETTO:-0400
TZNAME:EDT
DTSTART:20240310T070000
END:DAYLIGHT
BEGIN:STANDARD
TZOFFSETFROM:-0400
TZOFFSETTO:-0500
TZNAME:EST
DTSTART:20241103T060000
END:STANDARD
BEGIN:DAYLIGHT
TZOFFSETFROM:-0500
TZOFFSETTO:-0400
TZNAME:EDT
DTSTART:20250309T070000
END:DAYLIGHT
BEGIN:STANDARD
TZOFFSETFROM:-0400
TZOFFSETTO:-0500
TZNAME:EST
DTSTART:20251102T060000
END:STANDARD
BEGIN:DAYLIGHT
TZOFFSETFROM:-0500
TZOFFSETTO:-0400
TZNAME:EDT
DTSTART:20260308T070000
END:DAYLIGHT
BEGIN:STANDARD
TZOFFSETFROM:-0400
TZOFFSETTO:-0500
TZNAME:EST
DTSTART:20261101T060000
END:STANDARD
END:VTIMEZONE
BEGIN:VEVENT
DTSTART;TZID=America/Detroit:20251005T080000
DTEND;TZID=America/Detroit:20251005T100000
DTSTAMP:20260424T125156
CREATED:20250907T203631Z
LAST-MODIFIED:20250907T203631Z
UID:10001108-1759651200-1759658400@fairfieldcountyfair.org
SUMMARY:4-H Endowment Breakfast
DESCRIPTION:The 4-H Endowment Breakfast is held from 8 am to 10 am.  Come have breakfast and make a donation to support of success of 4-H and how the program develops leaders for our community.
URL:https://fairfieldcountyfair.org/event/4-h-endowment-breakfast/
LOCATION:Ricketts Hall
CATEGORIES:Fair Week
ATTACH;FMTTYPE=image/jpeg:https://fairfieldcountyfair.org/wp-content/uploads/2023/06/4HClover.2020.jpg
END:VEVENT
BEGIN:VEVENT
DTSTART;TZID=America/Detroit:20251004T190000
DTEND;TZID=America/Detroit:20251004T210000
DTSTAMP:20260424T125156
CREATED:20250917T195629Z
LAST-MODIFIED:20250926T022551Z
UID:10001110-1759604400-1759611600@fairfieldcountyfair.org
SUMMARY:Junior Fair Panorama and Queen Contest
DESCRIPTION:The Panorama is a high energy kick-off of fair week for our Junior Fair participants.  During the evening\, the 2025 Fair Queen and Court will be announced\, the Outstanding 4-Her’s and Friends of the Junior Fair will be recognized\, State and National FFA leaders will share their stories\, and updates will be provided by the queens from various livestock species.
URL:https://fairfieldcountyfair.org/event/15588/
LOCATION:Feeder Creek Vet Show Arena\, 157 E Fair Ave\, Lancaster\, OH\, 43130\, United States
CATEGORIES:Family Fun,Jr. Fair
ATTACH;FMTTYPE=image/png:https://fairfieldcountyfair.org/wp-content/uploads/2025/09/2024-Fair-Queen.png
END:VEVENT
BEGIN:VEVENT
DTSTART;TZID=America/Detroit:20250925T080000
DTEND;TZID=America/Detroit:20250925T160000
DTSTAMP:20260424T125156
CREATED:20250803T194119Z
LAST-MODIFIED:20250803T194301Z
UID:10001061-1758787200-1758816000@fairfieldcountyfair.org
SUMMARY:Last day for 2025 Open Class Entries
DESCRIPTION:We look forward to having you participate in the 175th Fairfield County Fair; will this be your year to win first prize?  Don’t miss the deadline to apply. Get your Entry Form into the office by 4 pm today!
URL:https://fairfieldcountyfair.org/event/last-day-for-open-class-entries-for-2025/
CATEGORIES:175th Anniversary Event
ATTACH;FMTTYPE=image/png:https://fairfieldcountyfair.org/wp-content/uploads/2025/04/a175LargerLetter.Bennett.pdf.png
END:VEVENT
BEGIN:VEVENT
DTSTART;TZID=America/Detroit:20250920T080000
DTEND;TZID=America/Detroit:20250920T120000
DTSTAMP:20260424T125156
CREATED:20250804T140353Z
LAST-MODIFIED:20250804T140354Z
UID:10001003-1758355200-1758369600@fairfieldcountyfair.org
SUMMARY:FARMERS MARKET
DESCRIPTION:FARMERS MARKET \nSATURDAY \n8:00am to 12:00pm \nACCEPTING VENDORS \nContact person:  Stacey Fisher \nPhone #740-653-3041 \nEmail:fcfair@fairfieldcountyfair.org \nIN THE PARKING LOT\, INSIDE the #50 Building if it’s raining
URL:https://fairfieldcountyfair.org/event/farmers-market-2-2/2025-09-20/
LOCATION:Parking Lot\, 157 E Fair Ave\, Lancaster\, OH\, 43130\, United States
CATEGORIES:Single Event
ATTACH;FMTTYPE=image/jpeg:https://fairfieldcountyfair.org/wp-content/uploads/2025/05/Beige-Green-Market-Stall-Illustration-Farmer-Market-Flyer-scaled.jpg
END:VEVENT
BEGIN:VEVENT
DTSTART;TZID=America/Detroit:20250916T190000
DTEND;TZID=America/Detroit:20250916T213000
DTSTAMP:20260424T125156
CREATED:20250107T221654Z
LAST-MODIFIED:20250107T224747Z
UID:10000970-1758049200-1758058200@fairfieldcountyfair.org
SUMMARY:FCAS Board Meeting
DESCRIPTION:Please join us for our Fairfield County Ag Society meeting.
URL:https://fairfieldcountyfair.org/event/fcas-board-meeting/2025-09-16/
LOCATION:Ricketts Hall
CATEGORIES:Board Meetings
ATTACH;FMTTYPE=image/jpeg:https://fairfieldcountyfair.org/wp-content/uploads/2022/11/FairfieldCountyFairBoardofDirectorsMeeting.jpg
END:VEVENT
BEGIN:VEVENT
DTSTART;TZID=America/Detroit:20250913T080000
DTEND;TZID=America/Detroit:20250913T120000
DTSTAMP:20260424T125156
CREATED:20250804T140353Z
LAST-MODIFIED:20250804T140354Z
UID:10001002-1757750400-1757764800@fairfieldcountyfair.org
SUMMARY:FARMERS MARKET
DESCRIPTION:FARMERS MARKET \nSATURDAY \n8:00am to 12:00pm \nACCEPTING VENDORS \nContact person:  Stacey Fisher \nPhone #740-653-3041 \nEmail:fcfair@fairfieldcountyfair.org \nIN THE PARKING LOT\, INSIDE the #50 Building if it’s raining
URL:https://fairfieldcountyfair.org/event/farmers-market-2-2/2025-09-13/
LOCATION:Parking Lot\, 157 E Fair Ave\, Lancaster\, OH\, 43130\, United States
CATEGORIES:Single Event
ATTACH;FMTTYPE=image/jpeg:https://fairfieldcountyfair.org/wp-content/uploads/2025/05/Beige-Green-Market-Stall-Illustration-Farmer-Market-Flyer-scaled.jpg
END:VEVENT
BEGIN:VEVENT
DTSTART;TZID=America/Detroit:20250906T080000
DTEND;TZID=America/Detroit:20250906T120000
DTSTAMP:20260424T125156
CREATED:20250804T140353Z
LAST-MODIFIED:20250804T140354Z
UID:10001001-1757145600-1757160000@fairfieldcountyfair.org
SUMMARY:FARMERS MARKET
DESCRIPTION:FARMERS MARKET \nSATURDAY \n8:00am to 12:00pm \nACCEPTING VENDORS \nContact person:  Stacey Fisher \nPhone #740-653-3041 \nEmail:fcfair@fairfieldcountyfair.org \nIN THE PARKING LOT\, INSIDE the #50 Building if it’s raining
URL:https://fairfieldcountyfair.org/event/farmers-market-2-2/2025-09-06/
LOCATION:Parking Lot\, 157 E Fair Ave\, Lancaster\, OH\, 43130\, United States
CATEGORIES:Single Event
ATTACH;FMTTYPE=image/jpeg:https://fairfieldcountyfair.org/wp-content/uploads/2025/05/Beige-Green-Market-Stall-Illustration-Farmer-Market-Flyer-scaled.jpg
END:VEVENT
BEGIN:VEVENT
DTSTART;TZID=America/Detroit:20250830T080000
DTEND;TZID=America/Detroit:20250830T120000
DTSTAMP:20260424T125156
CREATED:20250804T140353Z
LAST-MODIFIED:20250804T140354Z
UID:10001000-1756540800-1756555200@fairfieldcountyfair.org
SUMMARY:FARMERS MARKET
DESCRIPTION:FARMERS MARKET \nSATURDAY \n8:00am to 12:00pm \nACCEPTING VENDORS \nContact person:  Stacey Fisher \nPhone #740-653-3041 \nEmail:fcfair@fairfieldcountyfair.org \nIN THE PARKING LOT\, INSIDE the #50 Building if it’s raining
URL:https://fairfieldcountyfair.org/event/farmers-market-2-2/2025-08-30/
LOCATION:Parking Lot\, 157 E Fair Ave\, Lancaster\, OH\, 43130\, United States
CATEGORIES:Single Event
ATTACH;FMTTYPE=image/jpeg:https://fairfieldcountyfair.org/wp-content/uploads/2025/05/Beige-Green-Market-Stall-Illustration-Farmer-Market-Flyer-scaled.jpg
END:VEVENT
BEGIN:VEVENT
DTSTART;TZID=America/Detroit:20250823T170000
DTEND;TZID=America/Detroit:20250823T230000
DTSTAMP:20260424T125156
CREATED:20250807T134455Z
LAST-MODIFIED:20250807T172818Z
UID:10001092-1755968400-1755990000@fairfieldcountyfair.org
SUMMARY:Mt Pleasant Shootout Truck & Tractor Pull--A Southeastern Ohio Pulling Series Event
DESCRIPTION:The Mt Pleasant Truck and Tractor pull tradition has joined with SEOPS\, the newest Truck and Tractor Pulling series located in the heart of Southeastern Ohio\, for this great event. Don’t miss another exciting evening with over $12\,000 in purse money!\nTime: 5:00 P.M.\nTickets Prices:\n\n\nAdults – $8.00 in advance / $10.00 day of show\n\n\nChildren (6 to 12 yrs old) – $3.00 in advance / $5.00 day of show\n\n\nunder 6 free\n\n\nLocations for Advance Tickets:  Vinton County Bank locations/  Ag Pro / Foltz Equipment / North End Press / Falcon’s Nest / Plaza Barber Shop\nClasses:\n\n6200 Mod Stock Gas Trucks*\n6200 Cheater Stock Gas Trucks*\n6200 Pro Stock Gas Trucks*\n8200 Workstock Diesel Trucks*\n8000 2.6 SB Diesel Trucks*\n8000 Open Diesel & Gas Trucks\n9000 Lite Limited Pro Stock Tractors\n12500 Hot Farm Tractors\nSemi/Heavy Duty Trucks\n\n\n*SEOPS Class Rules at Southeasternohiopullingseries.com\nDrivers Meeting — 4:30 pm–$30 entry fee\nNon SEOPS questions to Dean at 740-215-9962
URL:https://fairfieldcountyfair.org/event/mt-pleasant-shootout-truck-tractor-pull-a-southeastern-ohio-pulling-series-event/
CATEGORIES:Family Fun
ATTACH;FMTTYPE=image/jpeg:https://fairfieldcountyfair.org/wp-content/uploads/2025/08/2024-truck-tractor-pull-2-scaled.jpg
END:VEVENT
BEGIN:VEVENT
DTSTART;TZID=America/Detroit:20250823T080000
DTEND;TZID=America/Detroit:20250823T120000
DTSTAMP:20260424T125156
CREATED:20250804T140353Z
LAST-MODIFIED:20250804T140354Z
UID:10000999-1755936000-1755950400@fairfieldcountyfair.org
SUMMARY:FARMERS MARKET
DESCRIPTION:FARMERS MARKET \nSATURDAY \n8:00am to 12:00pm \nACCEPTING VENDORS \nContact person:  Stacey Fisher \nPhone #740-653-3041 \nEmail:fcfair@fairfieldcountyfair.org \nIN THE PARKING LOT\, INSIDE the #50 Building if it’s raining
URL:https://fairfieldcountyfair.org/event/farmers-market-2-2/2025-08-23/
LOCATION:Parking Lot\, 157 E Fair Ave\, Lancaster\, OH\, 43130\, United States
CATEGORIES:Single Event
ATTACH;FMTTYPE=image/jpeg:https://fairfieldcountyfair.org/wp-content/uploads/2025/05/Beige-Green-Market-Stall-Illustration-Farmer-Market-Flyer-scaled.jpg
END:VEVENT
BEGIN:VEVENT
DTSTART;TZID=America/Detroit:20250819T190000
DTEND;TZID=America/Detroit:20250819T213000
DTSTAMP:20260424T125156
CREATED:20250107T221654Z
LAST-MODIFIED:20250107T224747Z
UID:10000969-1755630000-1755639000@fairfieldcountyfair.org
SUMMARY:FCAS Board Meeting
DESCRIPTION:Please join us for our Fairfield County Ag Society meeting.
URL:https://fairfieldcountyfair.org/event/fcas-board-meeting/2025-08-19/
LOCATION:Ricketts Hall
CATEGORIES:Board Meetings
ATTACH;FMTTYPE=image/jpeg:https://fairfieldcountyfair.org/wp-content/uploads/2022/11/FairfieldCountyFairBoardofDirectorsMeeting.jpg
END:VEVENT
BEGIN:VEVENT
DTSTART;TZID=America/Detroit:20250818T190000
DTEND;TZID=America/Detroit:20250818T200000
DTSTAMP:20260424T125156
CREATED:20250516T193050Z
LAST-MODIFIED:20250725T143109Z
UID:10001057-1755543600-1755547200@fairfieldcountyfair.org
SUMMARY:Before Fair Combine Derby Driver's Meeting
DESCRIPTION:Drivers Meeting for Anyone wanting to participate in the 2025 Combine Derby at the Fairfield County Fair \nWe will be discussing: \n\n2025 Rule Changes\nStaging area’s for service trucks\n\nLocation \n\nRicketts Hall\n\nStart Time \n\n7pm
URL:https://fairfieldcountyfair.org/event/flower-planting-at-the-fairgrounds/
LOCATION:Ricketts Hall
ATTACH;FMTTYPE=image/jpeg:https://fairfieldcountyfair.org/wp-content/uploads/2022/12/EmbeddedImage.jpg
END:VEVENT
BEGIN:VEVENT
DTSTART;TZID=America/Detroit:20250817T090000
DTEND;TZID=America/Detroit:20250817T160000
DTSTAMP:20260424T125156
CREATED:20250809T173204Z
LAST-MODIFIED:20250809T173204Z
UID:10001099-1755421200-1755446400@fairfieldcountyfair.org
SUMMARY:Fairfield County Antique Tractor Club's 30th Annual Show
DESCRIPTION:30th Annual Tractor and Truck Show\nFriday and Saturday from 8am to 5pm\nSunday from 9am to 4pm\nFeatured tractors are: International\nAdmission and parking: Free (donations accepted)\nLot of activities for all ages demonstrations\, toy vendors\, food\, petting zoo\nSchedule of Events: available at:  Fairfield County Antique Tractor Club Facebook page.\nContact Person – Doug Shaw – (740) 407-2347Mike Bowers- (740)243-7096Geb Bader – (740) 304-4170 (RV Parking)
URL:https://fairfieldcountyfair.org/event/15415-3/
CATEGORIES:Family Fun
ATTACH;FMTTYPE=image/png:https://fairfieldcountyfair.org/wp-content/uploads/2025/08/International-Tractor-antique-tractor-show.png
END:VEVENT
BEGIN:VEVENT
DTSTART;TZID=America/Detroit:20250816T080000
DTEND;TZID=America/Detroit:20250816T170000
DTSTAMP:20260424T125156
CREATED:20250807T194524Z
LAST-MODIFIED:20250809T165526Z
UID:10001102-1755331200-1755363600@fairfieldcountyfair.org
SUMMARY:Fairfield County Antique Tractor Club's 30th Annual Tractor Show
DESCRIPTION:30th Annual Tractor and Truck Show\nFriday and Saturday from 8am to 5pm\nSunday from 9am to 4pm\nFeatured tractors are: International\nAdmission and parking: Free (donations accepted)\nLot of activities for all ages demonstrations\, toy vendors\, food\, petting zoo\nSchedule of Events: available at:  Fairfield County Antique Tractor Club Facebook page.\nContact Person – Doug Shaw – (740) 407-2347\nMike Bowers- (740)243-7096\nGeb Bader – (740) 304-4170 (RV Parking)
URL:https://fairfieldcountyfair.org/event/fairfield-county-antique-tractor-clubs-30th-annual-tractor-show/
ATTACH;FMTTYPE=image/png:https://fairfieldcountyfair.org/wp-content/uploads/2025/08/International-Tractor-antique-tractor-show.png
END:VEVENT
BEGIN:VEVENT
DTSTART;TZID=America/Detroit:20250816T080000
DTEND;TZID=America/Detroit:20250816T120000
DTSTAMP:20260424T125156
CREATED:20250804T140353Z
LAST-MODIFIED:20250804T140354Z
UID:10000998-1755331200-1755345600@fairfieldcountyfair.org
SUMMARY:FARMERS MARKET
DESCRIPTION:FARMERS MARKET \nSATURDAY \n8:00am to 12:00pm \nACCEPTING VENDORS \nContact person:  Stacey Fisher \nPhone #740-653-3041 \nEmail:fcfair@fairfieldcountyfair.org \nIN THE PARKING LOT\, INSIDE the #50 Building if it’s raining
URL:https://fairfieldcountyfair.org/event/farmers-market-2-2/2025-08-16/
LOCATION:Parking Lot\, 157 E Fair Ave\, Lancaster\, OH\, 43130\, United States
CATEGORIES:Single Event
ATTACH;FMTTYPE=image/jpeg:https://fairfieldcountyfair.org/wp-content/uploads/2025/05/Beige-Green-Market-Stall-Illustration-Farmer-Market-Flyer-scaled.jpg
END:VEVENT
BEGIN:VEVENT
DTSTART;TZID=America/Detroit:20250815T080000
DTEND;TZID=America/Detroit:20250815T170000
DTSTAMP:20260424T125156
CREATED:20250809T171922Z
LAST-MODIFIED:20250809T172145Z
UID:10001101-1755244800-1755277200@fairfieldcountyfair.org
SUMMARY:Fairfield County Antique Tractor Club's 30th Annual Show
DESCRIPTION:30th Annual Tractor Show\nFriday and Saturday from 8am to 5pm\nSunday from 9am to 4pm\nFeatured tractors are: International\nAdmission and parking: Free (donations accepted)\nLot of activities for all ages demonstrations\, toy vendors\, food\, petting zoo\nSchedule of Events: available at:  Fairfield County Antique Tractor Club Facebook page.\nContact Person – Doug Shaw – (740) 407-2347Mike Bowers- (740)243-7096Geb Bader – (740) 304-4170 (RV Parking)
URL:https://fairfieldcountyfair.org/event/15415-2/
CATEGORIES:Family Fun
ATTACH;FMTTYPE=image/png:https://fairfieldcountyfair.org/wp-content/uploads/2025/08/International-Tractor-antique-tractor-show.png
END:VEVENT
BEGIN:VEVENT
DTSTART;TZID=America/Detroit:20250815T075949
DTEND;TZID=America/Detroit:20250822T200422
DTSTAMP:20260424T125156
CREATED:20250807T143344Z
LAST-MODIFIED:20250807T185805Z
UID:10001100-1755244789-1755893062@fairfieldcountyfair.org
SUMMARY:
DESCRIPTION:30th Annual Tractor and Truck Show\nFriday and Saturday from 8am to 5pm\nSunday from 9am to 4pm\nFeatured tractors are: International\nAdmission and parking: Free (donations accepted)\nLot of activities for all ages demonstrations\, toy vendors\, food\, petting zoo\nSchedule of Events: available at:  Fairfield County Antique Tractor Club Facebook page.\nContact Person – Doug Shaw – (740) 407-2347Mike Bowers- (740)243-7096Geb Bader – (740) 304-4170 (RV Parking)
URL:https://fairfieldcountyfair.org/event/15415/
CATEGORIES:Family Fun
ATTACH;FMTTYPE=image/png:https://fairfieldcountyfair.org/wp-content/uploads/2025/08/International-Tractor-antique-tractor-show.png
END:VEVENT
BEGIN:VEVENT
DTSTART;TZID=America/Detroit:20250809T080000
DTEND;TZID=America/Detroit:20250809T120000
DTSTAMP:20260424T125156
CREATED:20250804T140353Z
LAST-MODIFIED:20250804T140354Z
UID:10000997-1754726400-1754740800@fairfieldcountyfair.org
SUMMARY:FARMERS MARKET
DESCRIPTION:FARMERS MARKET \nSATURDAY \n8:00am to 12:00pm \nACCEPTING VENDORS \nContact person:  Stacey Fisher \nPhone #740-653-3041 \nEmail:fcfair@fairfieldcountyfair.org \nIN THE PARKING LOT\, INSIDE the #50 Building if it’s raining
URL:https://fairfieldcountyfair.org/event/farmers-market-2-2/2025-08-09/
LOCATION:Parking Lot\, 157 E Fair Ave\, Lancaster\, OH\, 43130\, United States
CATEGORIES:Single Event
ATTACH;FMTTYPE=image/jpeg:https://fairfieldcountyfair.org/wp-content/uploads/2025/05/Beige-Green-Market-Stall-Illustration-Farmer-Market-Flyer-scaled.jpg
END:VEVENT
BEGIN:VEVENT
DTSTART;TZID=America/Detroit:20250802T080000
DTEND;TZID=America/Detroit:20250802T120000
DTSTAMP:20260424T125156
CREATED:20250516T191722Z
LAST-MODIFIED:20250516T191722Z
UID:10000996-1754121600-1754136000@fairfieldcountyfair.org
SUMMARY:FARMERS MARKET
DESCRIPTION:FARMERS MARKET \nSATURDAY \n8:00am to 12:00pm \nACCEPTING VENDORS \nContact person:  Stacey Fisher \nPhone #740-653-3041 \nEmail:fcfair@fairfieldcountyfair.org \nIN THE PARKING LOT\, INSIDE the #50 Building if it’s raining
URL:https://fairfieldcountyfair.org/event/farmers-market-2/2025-08-02/
LOCATION:Parking Lot\, 157 E Fair Ave\, Lancaster\, OH\, 43130\, United States
CATEGORIES:Single Event
ATTACH;FMTTYPE=image/jpeg:https://fairfieldcountyfair.org/wp-content/uploads/2025/05/Beige-Green-Market-Stall-Illustration-Farmer-Market-Flyer-scaled.jpg
END:VEVENT
BEGIN:VEVENT
DTSTART;TZID=America/Detroit:20250719T080000
DTEND;TZID=America/Detroit:20250719T120000
DTSTAMP:20260424T125156
CREATED:20250516T191722Z
LAST-MODIFIED:20250516T191722Z
UID:10000995-1752912000-1752926400@fairfieldcountyfair.org
SUMMARY:FARMERS MARKET
DESCRIPTION:FARMERS MARKET \nSATURDAY \n8:00am to 12:00pm \nACCEPTING VENDORS \nContact person:  Stacey Fisher \nPhone #740-653-3041 \nEmail:fcfair@fairfieldcountyfair.org \nIN THE PARKING LOT\, INSIDE the #50 Building if it’s raining
URL:https://fairfieldcountyfair.org/event/farmers-market-2/2025-07-19/
LOCATION:Parking Lot\, 157 E Fair Ave\, Lancaster\, OH\, 43130\, United States
CATEGORIES:Single Event
ATTACH;FMTTYPE=image/jpeg:https://fairfieldcountyfair.org/wp-content/uploads/2025/05/Beige-Green-Market-Stall-Illustration-Farmer-Market-Flyer-scaled.jpg
END:VEVENT
BEGIN:VEVENT
DTSTART;TZID=America/Detroit:20250715T190000
DTEND;TZID=America/Detroit:20250715T213000
DTSTAMP:20260424T125156
CREATED:20250107T221654Z
LAST-MODIFIED:20250107T224747Z
UID:10000968-1752606000-1752615000@fairfieldcountyfair.org
SUMMARY:FCAS Board Meeting
DESCRIPTION:Please join us for our Fairfield County Ag Society meeting.
URL:https://fairfieldcountyfair.org/event/fcas-board-meeting/2025-07-15/
LOCATION:Ricketts Hall
CATEGORIES:Board Meetings
ATTACH;FMTTYPE=image/jpeg:https://fairfieldcountyfair.org/wp-content/uploads/2022/11/FairfieldCountyFairBoardofDirectorsMeeting.jpg
END:VEVENT
BEGIN:VEVENT
DTSTART;TZID=America/Detroit:20250712T080000
DTEND;TZID=America/Detroit:20250712T120000
DTSTAMP:20260424T125156
CREATED:20250516T191722Z
LAST-MODIFIED:20250516T191722Z
UID:10000994-1752307200-1752321600@fairfieldcountyfair.org
SUMMARY:FARMERS MARKET
DESCRIPTION:FARMERS MARKET \nSATURDAY \n8:00am to 12:00pm \nACCEPTING VENDORS \nContact person:  Stacey Fisher \nPhone #740-653-3041 \nEmail:fcfair@fairfieldcountyfair.org \nIN THE PARKING LOT\, INSIDE the #50 Building if it’s raining
URL:https://fairfieldcountyfair.org/event/farmers-market-2/2025-07-12/
LOCATION:Parking Lot\, 157 E Fair Ave\, Lancaster\, OH\, 43130\, United States
CATEGORIES:Single Event
ATTACH;FMTTYPE=image/jpeg:https://fairfieldcountyfair.org/wp-content/uploads/2025/05/Beige-Green-Market-Stall-Illustration-Farmer-Market-Flyer-scaled.jpg
END:VEVENT
BEGIN:VEVENT
DTSTART;TZID=America/Detroit:20250628T080000
DTEND;TZID=America/Detroit:20250628T120000
DTSTAMP:20260424T125156
CREATED:20250516T191722Z
LAST-MODIFIED:20250516T191722Z
UID:10000993-1751097600-1751112000@fairfieldcountyfair.org
SUMMARY:FARMERS MARKET
DESCRIPTION:FARMERS MARKET \nSATURDAY \n8:00am to 12:00pm \nACCEPTING VENDORS \nContact person:  Stacey Fisher \nPhone #740-653-3041 \nEmail:fcfair@fairfieldcountyfair.org \nIN THE PARKING LOT\, INSIDE the #50 Building if it’s raining
URL:https://fairfieldcountyfair.org/event/farmers-market-2/2025-06-28/
LOCATION:Parking Lot\, 157 E Fair Ave\, Lancaster\, OH\, 43130\, United States
CATEGORIES:Single Event
ATTACH;FMTTYPE=image/jpeg:https://fairfieldcountyfair.org/wp-content/uploads/2025/05/Beige-Green-Market-Stall-Illustration-Farmer-Market-Flyer-scaled.jpg
END:VEVENT
BEGIN:VEVENT
DTSTART;TZID=America/Detroit:20250621T080000
DTEND;TZID=America/Detroit:20250621T120000
DTSTAMP:20260424T125156
CREATED:20250516T191722Z
LAST-MODIFIED:20250516T191722Z
UID:10000992-1750492800-1750507200@fairfieldcountyfair.org
SUMMARY:FARMERS MARKET
DESCRIPTION:FARMERS MARKET \nSATURDAY \n8:00am to 12:00pm \nACCEPTING VENDORS \nContact person:  Stacey Fisher \nPhone #740-653-3041 \nEmail:fcfair@fairfieldcountyfair.org \nIN THE PARKING LOT\, INSIDE the #50 Building if it’s raining
URL:https://fairfieldcountyfair.org/event/farmers-market-2/2025-06-21/
LOCATION:Parking Lot\, 157 E Fair Ave\, Lancaster\, OH\, 43130\, United States
CATEGORIES:Single Event
ATTACH;FMTTYPE=image/jpeg:https://fairfieldcountyfair.org/wp-content/uploads/2025/05/Beige-Green-Market-Stall-Illustration-Farmer-Market-Flyer-scaled.jpg
END:VEVENT
BEGIN:VEVENT
DTSTART;TZID=America/Detroit:20250617T190000
DTEND;TZID=America/Detroit:20250617T213000
DTSTAMP:20260424T125156
CREATED:20250107T221654Z
LAST-MODIFIED:20250107T224747Z
UID:10000967-1750186800-1750195800@fairfieldcountyfair.org
SUMMARY:FCAS Board Meeting
DESCRIPTION:Please join us for our Fairfield County Ag Society meeting.
URL:https://fairfieldcountyfair.org/event/fcas-board-meeting/2025-06-17/
LOCATION:Ricketts Hall
CATEGORIES:Board Meetings
ATTACH;FMTTYPE=image/jpeg:https://fairfieldcountyfair.org/wp-content/uploads/2022/11/FairfieldCountyFairBoardofDirectorsMeeting.jpg
END:VEVENT
BEGIN:VEVENT
DTSTART;TZID=America/Detroit:20250614T080000
DTEND;TZID=America/Detroit:20250614T120000
DTSTAMP:20260424T125156
CREATED:20250516T191722Z
LAST-MODIFIED:20250516T191722Z
UID:10000991-1749888000-1749902400@fairfieldcountyfair.org
SUMMARY:FARMERS MARKET
DESCRIPTION:FARMERS MARKET \nSATURDAY \n8:00am to 12:00pm \nACCEPTING VENDORS \nContact person:  Stacey Fisher \nPhone #740-653-3041 \nEmail:fcfair@fairfieldcountyfair.org \nIN THE PARKING LOT\, INSIDE the #50 Building if it’s raining
URL:https://fairfieldcountyfair.org/event/farmers-market-2/2025-06-14/
LOCATION:Parking Lot\, 157 E Fair Ave\, Lancaster\, OH\, 43130\, United States
CATEGORIES:Single Event
ATTACH;FMTTYPE=image/jpeg:https://fairfieldcountyfair.org/wp-content/uploads/2025/05/Beige-Green-Market-Stall-Illustration-Farmer-Market-Flyer-scaled.jpg
END:VEVENT
BEGIN:VEVENT
DTSTART;TZID=America/Detroit:20250601T140000
DTEND;TZID=America/Detroit:20250601T160000
DTSTAMP:20260424T125156
CREATED:20250519T154148Z
LAST-MODIFIED:20250520T133734Z
UID:10001060-1748786400-1748793600@fairfieldcountyfair.org
SUMMARY:175th ANNIVERSARY HISTORICAL WALK
DESCRIPTION:Come and Celebrate the History of the Fairfield County Fairgrounds. Explore our historical buildings from across the county and do a barn quilt tour. \nWhen: Sunday June 1\, 2025 \n2:00 p.m. -4:00 p.m. \nWhere: Ten buildings on the Fairgrounds \nAdmission: \n\n$5.00 or\n3 Canned for items for local food pantry\n\n  \nGet the “FIRST LOOK” at the 175th Celebration Ornament created at The Glass Museum\, Lancaster \n200 Ornaments will be available for purchase day of event–$25/ornament \nEvent is being held in partnership with Fairfield Heritage Association and the Fairfield 211 Hunger Coalition. Maywood Mission will be on the Fairgrounds to collect your food donations.
URL:https://fairfieldcountyfair.org/event/historical-walk/
CATEGORIES:175th Anniversary Event
ATTACH;FMTTYPE=image/png:https://fairfieldcountyfair.org/wp-content/uploads/2025/04/a175LargerLetter.Bennett.pdf.png
END:VEVENT
BEGIN:VEVENT
DTSTART;TZID=America/Detroit:20250531T090000
DTEND;TZID=America/Detroit:20250531T150000
DTSTAMP:20260424T125156
CREATED:20250516T194213Z
LAST-MODIFIED:20250516T194213Z
UID:10001059-1748682000-1748703600@fairfieldcountyfair.org
SUMMARY:MASTER GARDENERS PLANT SALE
DESCRIPTION:MASTER GARDNERS PLANT SALE \n#50 Show Arena by main entrance \nEvent time \n\nStarts at 9:00am\nEnds at 3:00pm
URL:https://fairfieldcountyfair.org/event/master-gardeners-plant-sale/
END:VEVENT
BEGIN:VEVENT
DTSTART;TZID=America/Detroit:20250531T080000
DTEND;TZID=America/Detroit:20250531T120000
DTSTAMP:20260424T125156
CREATED:20250516T191722Z
LAST-MODIFIED:20250516T191722Z
UID:10000990-1748678400-1748692800@fairfieldcountyfair.org
SUMMARY:FARMERS MARKET
DESCRIPTION:FARMERS MARKET \nSATURDAY \n8:00am to 12:00pm \nACCEPTING VENDORS \nContact person:  Stacey Fisher \nPhone #740-653-3041 \nEmail:fcfair@fairfieldcountyfair.org \nIN THE PARKING LOT\, INSIDE the #50 Building if it’s raining
URL:https://fairfieldcountyfair.org/event/farmers-market-2/2025-05-31/
LOCATION:Parking Lot\, 157 E Fair Ave\, Lancaster\, OH\, 43130\, United States
CATEGORIES:Single Event
ATTACH;FMTTYPE=image/jpeg:https://fairfieldcountyfair.org/wp-content/uploads/2025/05/Beige-Green-Market-Stall-Illustration-Farmer-Market-Flyer-scaled.jpg
END:VEVENT
BEGIN:VEVENT
DTSTART;TZID=America/Detroit:20250530T090000
DTEND;TZID=America/Detroit:20250530T110000
DTSTAMP:20260424T125156
CREATED:20250516T193934Z
LAST-MODIFIED:20250516T193938Z
UID:10001058-1748595600-1748602800@fairfieldcountyfair.org
SUMMARY:MOCK BUS ACCIDENT TRAINING EXERCISE
DESCRIPTION:BERNE UNION LOCAL SCHOOLS IS HOSTING A MOCK BUS ACCIDENT TRAINING EXCERCISE \nStart Time \n\n5/30/2025 at 9:00am\n\nPARTICIPANTS IN EVENT \n\nBERNE UNION LOCAL SCHOOLS\nMIDWEST TOWING\nAIR VAC\nBERNE TWP FIRE DEPARTMENT\nPLEASANT TWP FIRE DEPARTMENT\n\n  \n\n 
URL:https://fairfieldcountyfair.org/event/mock-bus-accident-training-exercise/
END:VEVENT
END:VCALENDAR