BEGIN:VCALENDAR
VERSION:2.0
PRODID:-//Fairfield County Fair - ECPv6.15.20//NONSGML v1.0//EN
CALSCALE:GREGORIAN
METHOD:PUBLISH
X-WR-CALNAME:Fairfield County Fair
X-ORIGINAL-URL:https://fairfieldcountyfair.org
X-WR-CALDESC:Events for Fairfield County Fair
REFRESH-INTERVAL;VALUE=DURATION:PT1H
X-Robots-Tag:noindex
X-PUBLISHED-TTL:PT1H
BEGIN:VTIMEZONE
TZID:America/Detroit
BEGIN:DAYLIGHT
TZOFFSETFROM:-0500
TZOFFSETTO:-0400
TZNAME:EDT
DTSTART:20240310T070000
END:DAYLIGHT
BEGIN:STANDARD
TZOFFSETFROM:-0400
TZOFFSETTO:-0500
TZNAME:EST
DTSTART:20241103T060000
END:STANDARD
BEGIN:DAYLIGHT
TZOFFSETFROM:-0500
TZOFFSETTO:-0400
TZNAME:EDT
DTSTART:20250309T070000
END:DAYLIGHT
BEGIN:STANDARD
TZOFFSETFROM:-0400
TZOFFSETTO:-0500
TZNAME:EST
DTSTART:20251102T060000
END:STANDARD
BEGIN:DAYLIGHT
TZOFFSETFROM:-0500
TZOFFSETTO:-0400
TZNAME:EDT
DTSTART:20260308T070000
END:DAYLIGHT
BEGIN:STANDARD
TZOFFSETFROM:-0400
TZOFFSETTO:-0500
TZNAME:EST
DTSTART:20261101T060000
END:STANDARD
END:VTIMEZONE
BEGIN:VEVENT
DTSTART;TZID=America/Detroit:20250516T140000
DTEND;TZID=America/Detroit:20250516T200000
DTSTAMP:20260424T061216
CREATED:20250505T183534Z
LAST-MODIFIED:20250505T184846Z
UID:10000975-1747404000-1747425600@fairfieldcountyfair.org
SUMMARY:97th Annual ODGA Buckeye Classic
DESCRIPTION:The 97th Annual ODGA Buckeye Classic will be on May 16 & 17\, 2025.  The last day to submit online entries is 5/17/25. \nShow Chair: Tammy Gottfried\, 419-457-2831 or odga1927@gmail.com \nArrival \n\n5/16/25 from 2 to 8 pm; Bucks MUST  be checked in by 5:30 pm\n5/17/25 from 6 am to 8 am: Does MUST  be checked in by 8:00am\n\nCheck-in  \n\nGOATS ARE TO ARRIVE ONLY DURING THE POSTED TIMES.\nUpon arrival\, all goats are to be checked by show/ health personnel.\nAnyone arriving outside of the posted arrival times will be asked to leave and will not be able to enter the Buckeye Classic show the following year.\nPens may be purchased or show from your trailer.\nArrival times apply for trailer stalling also.\nAnimals are released when they have completed showing.\n\nHealth Checks \n\nA current Certificate of Veterinary Inspection within 30 days of the show is required for ALL OUT OF STATE ANIMALS.\nAnimals arriving will be inspected by a veterinarian or show committee member. Any animal exhibiting visible signs of infectious diseases will not be permitted to be unloaded or to show. The decision of the veterinarian will be final.\nGOATS ARE TO ARRIVE ONLY DURING THE TIMES NOTED AND ARE NOT TO BE UNLOADED UNTIL THE HEALTH CHECK HAS BEEN COMPLETED. EXHIBITORS WILL BE PROVIDED A CHECK-IN CARD AND IT SHOULD BE PRESENTED TO THE BARN STEWARD FOR PENNING AND AT THE REGISTRATION TABLE FOR CHECK-IN.\nAnyone requiring veterinary services will be responsible for any expenses incurred for their animals\nAll animals must be from herds that are registered in the National Scrapie Database. They must be properly tattooed or tagged with proper identification. For more information on the National Scrapie Database program call the U.S. Department of Agriculture at (614) 469-5602.\n\nOther Information \n\nDOES: The Combined Senior/Junior and Junior Doe shows are separately sanctioned by ADGA for the following breeds: Alpine\, LaMancha\, Nigerian Dwarf\, Nubian\, Saanen\, Toggenburg\, Recorded Grade\, and AOP.\nBUCKS: The Combined Senior/Junior Buck shows are sanctioned by ADGA for the following breeds: AOP\, Nigerian Dwarf\, and Alpine.\n\nPricing \n\nRaffle Ticket – $20\nPens – $3\nShavings – per bag – $8\nStraw – per bale – $9\nCamping $30 PER NIGHT – $30\nSee individual show pricing and additional information at: 97th Annual ODGA Buckeye Classic\nEntry and Pen Fees are non-refundable\n\nFiles & Links \n\nShow Flyer\nShow Rules\nSponsorship Flyer\nInstructions for Exhibitors\nODGA BC Exhibitors Welcome Flyer 5.3.25\n\n\n  \n 
URL:https://fairfieldcountyfair.org/event/97th-annual-odga-buckeye-classic/
LOCATION:Build 48: Swine Barn\, 157 E Fair Avenue\, Lancaster\, OH\, 43130\, United States
CATEGORIES:Livestock competition
ATTACH;FMTTYPE=image/png:https://fairfieldcountyfair.org/wp-content/uploads/2025/05/Screenshot-2025-05-05-143935.png
ORGANIZER;CN="ODGA/Ohio Dairy Goat Association":MAILTO:odga1927@gmail.com
END:VEVENT
END:VCALENDAR