BEGIN:VCALENDAR
VERSION:2.0
PRODID:-//Fairfield County Fair - ECPv6.15.20//NONSGML v1.0//EN
CALSCALE:GREGORIAN
METHOD:PUBLISH
X-ORIGINAL-URL:https://fairfieldcountyfair.org
X-WR-CALDESC:Events for Fairfield County Fair
REFRESH-INTERVAL;VALUE=DURATION:PT1H
X-Robots-Tag:noindex
X-PUBLISHED-TTL:PT1H
BEGIN:VTIMEZONE
TZID:America/Detroit
BEGIN:DAYLIGHT
TZOFFSETFROM:-0500
TZOFFSETTO:-0400
TZNAME:EDT
DTSTART:20220313T070000
END:DAYLIGHT
BEGIN:STANDARD
TZOFFSETFROM:-0400
TZOFFSETTO:-0500
TZNAME:EST
DTSTART:20221106T060000
END:STANDARD
BEGIN:DAYLIGHT
TZOFFSETFROM:-0500
TZOFFSETTO:-0400
TZNAME:EDT
DTSTART:20230312T070000
END:DAYLIGHT
BEGIN:STANDARD
TZOFFSETFROM:-0400
TZOFFSETTO:-0500
TZNAME:EST
DTSTART:20231105T060000
END:STANDARD
BEGIN:DAYLIGHT
TZOFFSETFROM:-0500
TZOFFSETTO:-0400
TZNAME:EDT
DTSTART:20240310T070000
END:DAYLIGHT
BEGIN:STANDARD
TZOFFSETFROM:-0400
TZOFFSETTO:-0500
TZNAME:EST
DTSTART:20241103T060000
END:STANDARD
BEGIN:DAYLIGHT
TZOFFSETFROM:-0500
TZOFFSETTO:-0400
TZNAME:EDT
DTSTART:20250309T070000
END:DAYLIGHT
BEGIN:STANDARD
TZOFFSETFROM:-0400
TZOFFSETTO:-0500
TZNAME:EST
DTSTART:20251102T060000
END:STANDARD
END:VTIMEZONE
BEGIN:VEVENT
DTSTART;TZID=America/Detroit:20241010T203000
DTEND;TZID=America/Detroit:20241010T223000
DTSTAMP:20260423T212608
CREATED:20230427T190139Z
LAST-MODIFIED:20240307T144705Z
UID:10000080-1728592200-1728599400@fairfieldcountyfair.org
SUMMARY:Human Tractor Pull
DESCRIPTION:Date:  October 10\, 2024 \nTime:  During Combine Demo Derby at approximately 8:30 \nLocation:  Grandstand
URL:https://fairfieldcountyfair.org/event/human-tractor-pull/
LOCATION:Grandstand
CATEGORIES:Fair Week,Grandstand Entertainment
ATTACH;FMTTYPE=image/jpeg:https://fairfieldcountyfair.org/wp-content/uploads/2023/04/humantractorpullfairfieldohio.jpg
END:VEVENT
BEGIN:VEVENT
DTSTART;TZID=America/Detroit:20241010T193000
DTEND;TZID=America/Detroit:20241010T223000
DTSTAMP:20260423T212608
CREATED:20221208T163648Z
LAST-MODIFIED:20250818T114844Z
UID:10000031-1728588600-1728599400@fairfieldcountyfair.org
SUMMARY:Combine Derby
DESCRIPTION:Price: Free \nTime: 7:30 p.m. \nLocation: Grandstand
URL:https://fairfieldcountyfair.org/event/combine-derby/
LOCATION:Grandstand
CATEGORIES:Contests,Fair Week,Grandstand Entertainment
ATTACH;FMTTYPE=image/jpeg:https://fairfieldcountyfair.org/wp-content/uploads/2022/12/combinederby-01.jpg
END:VEVENT
BEGIN:VEVENT
DTSTART;TZID=America/Detroit:20241010T133000
DTEND;TZID=America/Detroit:20241010T160000
DTSTAMP:20260423T212608
CREATED:20230531T154354Z
LAST-MODIFIED:20240307T152521Z
UID:10000106-1728567000-1728576000@fairfieldcountyfair.org
SUMMARY:Harness Racing
DESCRIPTION:Date and Times \n\nWednesday\, October 9 at 1:00 p.m.\nThursday\, October 10 at 1:30 p.m.\nRain Date: Friday\, October 11 at 1:00 p.m.\n\nLocation: Grandstands \nPrice: Free to Watch \nBetting windows open: 30 minutes before the first race.
URL:https://fairfieldcountyfair.org/event/harness-racing/
LOCATION:Grandstand
CATEGORIES:Contests,Fair Week,Grandstand Entertainment
ATTACH;FMTTYPE=image/jpeg:https://fairfieldcountyfair.org/wp-content/uploads/2022/12/horsepulling.jpg
END:VEVENT
BEGIN:VEVENT
DTSTART;TZID=America/Detroit:20241010T091500
DTEND;TZID=America/Detroit:20241010T120000
DTSTAMP:20260423T212608
CREATED:20230109T010036Z
LAST-MODIFIED:20241009T231911Z
UID:10000046-1728551700-1728561600@fairfieldcountyfair.org
SUMMARY:High School Band Parade
DESCRIPTION:One of the most popular events at the Fairfield County Fair steps off on Thursday\, October 10\, 2024\, in front of the Grandstands beginning at 9:15 am–the High School Marching Band Parade!!  Featuring local High School Bands demonstrating their high steppin’ marching styles and lively music programs always delight fair goers of all ages. Come early!! The grandstands are always full and the place to be for the Fairfield County Fair High School Band Parade!! \nDate:  October 10\, 2024 \nTime:  9:15 am \nLocation:  Grandstand \nPrice:  Free
URL:https://fairfieldcountyfair.org/event/high-school-band-parade/
LOCATION:Grandstand
CATEGORIES:Fair Week,Grandstand Entertainment
ATTACH;FMTTYPE=image/jpeg:https://fairfieldcountyfair.org/wp-content/uploads/2023/01/fairfieldcountyfairhighschool.jpg
END:VEVENT
BEGIN:VEVENT
DTSTART;TZID=America/Detroit:20241010T060000
DTEND;TZID=America/Detroit:20241010T060000
DTSTAMP:20260423T212608
CREATED:20221011T092733Z
LAST-MODIFIED:20250818T120100Z
UID:10001103-1728540000-1728540000@fairfieldcountyfair.org
SUMMARY:Southeastern Ohio Pulling Series Truck & Tractor Pull
DESCRIPTION: \nAmazing power and skill!  Watch drivers compete for the longest distance in their class. Up to eight different classes of trucks and tractors are scheduled for our Wednesday evening event.\nDate:  October 9\, 2024\nTime:  7 pm\nLocation: Grandstand\n Price: Free\n \nThe following classes are scheduled to be run; updates will be made as needed.  \nClass #1 – 6200 Cheater Stock 4X4 Truck (Gas)\nClass #2 – 6500 Pro Street Gas\nClass #3 – 8500 Stock Appearance Diesel\nClass #4 – 8000 Open Diesel & Gas Truck\nClass #5 – 12\,500 Hot Farm Tractor\nClass #6 – Street Legal Semi & Heavy Duty Truck\nClass #7 – Hot Semi\n \n \n \nHere is a link to rules:\nTruck & Tractor Pull – Class Rules \n 
URL:https://fairfieldcountyfair.org/event/truck-tractor-pull/
LOCATION:Grandstand
CATEGORIES:Contests,Fair Week,Grandstand Entertainment
ATTACH;FMTTYPE=image/jpeg:https://fairfieldcountyfair.org/wp-content/uploads/2022/10/TractorPull-1.jpg
END:VEVENT
BEGIN:VEVENT
DTSTART;TZID=America/Detroit:20241009T130000
DTEND;TZID=America/Detroit:20241009T153000
DTSTAMP:20260423T212608
CREATED:20231011T112602Z
LAST-MODIFIED:20240307T152351Z
UID:10000147-1728478800-1728487800@fairfieldcountyfair.org
SUMMARY:Harness Racing
DESCRIPTION:Date and Times\n\n\nWednesday\, October 9 at 1:00 p.m.\n\n\nThursday\, October 10 at 1:30 p.m.\n\n\n**Rain Date: Friday\, October 11 at 1:00 p.m.\n\n\nLocation: Grandstands\nPrice: Free to Watch\nBetting windows open: 30 minutes before the first race.
URL:https://fairfieldcountyfair.org/event/harness-races-2-2-2/
LOCATION:Grandstand
CATEGORIES:Contests,Fair Week,Grandstand Entertainment
ATTACH;FMTTYPE=image/jpeg:https://fairfieldcountyfair.org/wp-content/uploads/2022/12/horseraces.jpg
END:VEVENT
BEGIN:VEVENT
DTSTART;TZID=America/Detroit:20241008T190000
DTEND;TZID=America/Detroit:20241008T210000
DTSTAMP:20260423T212608
CREATED:20221208T175944Z
LAST-MODIFIED:20250806T154854Z
UID:10000037-1728414000-1728421200@fairfieldcountyfair.org
SUMMARY:A-Bar Rodeo Bulls and Barrel Racing
DESCRIPTION:Time: 7:00 p.m. \nLocation:  Grandstand \nTickets: Available online \n 
URL:https://fairfieldcountyfair.org/event/a-bar-rodeo-bulls-and-barrel-racing/
LOCATION:Grandstand
CATEGORIES:Contests,Fair Week,Grandstand Entertainment
ATTACH;FMTTYPE=image/jpeg:https://fairfieldcountyfair.org/wp-content/uploads/2023/03/ABar.jpg
END:VEVENT
BEGIN:VEVENT
DTSTART;TZID=America/Detroit:20241008T110000
DTEND;TZID=America/Detroit:20241008T140000
DTSTAMP:20260423T212608
CREATED:20221208T162454Z
LAST-MODIFIED:20250806T221629Z
UID:10000030-1728385200-1728396000@fairfieldcountyfair.org
SUMMARY:Horse Pull
DESCRIPTION:The pull was started by Bill Barnhart in 1973.  The Klamfoth family partnered with the Fairfield County Fair Board and Staff to continue the event after Bill’s death.  Thanks to the Barnhart and Klamfoth Families for their leadership and dedication!\n\nPrice: Free to watch\nShow Time: 11:00 a.m.\nLocation: Grandstand\nWeigh- In Time – 8:00a.m. – 10:00a.m.\nLight Weight Class:  under 3600 pounds\nHeavy Weight Class: over 3600 pounds\nPull Distance:  27 1/2 feet\n-Free Entry & Gate Fee –\n*Horses subject to test*\n*We reserve the right to cancel\, make changes\, or postpone the event at any time*
URL:https://fairfieldcountyfair.org/event/horse-pull/
LOCATION:Grandstand
CATEGORIES:Contests,Fair Week,Grandstand Entertainment
ATTACH;FMTTYPE=image/jpeg:https://fairfieldcountyfair.org/wp-content/uploads/2022/12/pullhorsehorses.jpg
END:VEVENT
BEGIN:VEVENT
DTSTART;TZID=America/Detroit:20241008T083000
DTEND;TZID=America/Detroit:20241008T100000
DTSTAMP:20260423T212608
CREATED:20250806T214813Z
LAST-MODIFIED:20250806T214813Z
UID:10001085-1728376200-1728381600@fairfieldcountyfair.org
SUMMARY:Draft Pony Pull
DESCRIPTION:Price: Free to Watch \nTime: 9:00 a.m. \nLocation: Grandstand \n 
URL:https://fairfieldcountyfair.org/event/draft-pony-pull-2/
LOCATION:Grandstand
CATEGORIES:Contests,Fair Week,Grandstand Entertainment
ATTACH;FMTTYPE=image/jpeg:https://fairfieldcountyfair.org/wp-content/uploads/2022/12/draftponypull.jpg
END:VEVENT
BEGIN:VEVENT
DTSTART;TZID=America/Detroit:20241008T083000
DTEND;TZID=America/Detroit:20241008T100000
DTSTAMP:20260423T212608
CREATED:20221208T105336Z
LAST-MODIFIED:20240307T142349Z
UID:10000029-1728376200-1728381600@fairfieldcountyfair.org
SUMMARY:Draft Pony Pull
DESCRIPTION:Price: Free to Watch \nDate: Tuesday\, October 8\, 2024 \nTime: 9:00 a.m. \nLocation: Grandstand \n 
URL:https://fairfieldcountyfair.org/event/draft-pony-pull/
LOCATION:Grandstand
CATEGORIES:Contests,Fair Week,Grandstand Entertainment
ATTACH;FMTTYPE=image/jpeg:https://fairfieldcountyfair.org/wp-content/uploads/2022/12/draftponypull.jpg
END:VEVENT
BEGIN:VEVENT
DTSTART;TZID=America/Detroit:20241006T140000
DTEND;TZID=America/Detroit:20241006T160000
DTSTAMP:20260423T212608
CREATED:20230109T003419Z
LAST-MODIFIED:20250803T201650Z
UID:10000852-1728223200-1728230400@fairfieldcountyfair.org
SUMMARY:Mule Races
DESCRIPTION:Come watch the fun as mules come thundering across 1/4 mile toward the finish line.  \nDate:  October 6\, 2024\nTime:  2:00 pm\nLocation:  Grandstand\nPrice: Free
URL:https://fairfieldcountyfair.org/event/mule-races/
LOCATION:Grandstand
CATEGORIES:Contests,Fair Week,Grandstand Entertainment
ATTACH;FMTTYPE=image/jpeg:https://fairfieldcountyfair.org/wp-content/uploads/2023/01/fairfieldcountyfairmuleraces.jpg
END:VEVENT
BEGIN:VEVENT
DTSTART;TZID=America/Detroit:20241006T140000
DTEND;TZID=America/Detroit:20241006T143000
DTSTAMP:20260423T212608
CREATED:20230823T022930Z
LAST-MODIFIED:20250803T201027Z
UID:10000519-1728223200-1728225000@fairfieldcountyfair.org
SUMMARY:Donkey Dash
DESCRIPTION:Come watch the fun as youth 16 and under demonstrate their agility and skill at racing donkeys\, miniature horses\, and ponies that are less than 42″ tall! \nYouth who want to participate should find the Entry Form under the Event and Contest area of the website (https://fairfieldcountyfair.org/fairfield-county-fair-week/#contest) or contact Sondra McCabe at the Fair Administration building at740-653-3041 or smccabe@fairfieldcountyfair.org.  You will need to provide the following information: \n\n Name\,\nAge\,\nMailing address\,\nContact phone\, and\nYour email\nMark your animal\n\nDEADLINE TO ENTER SEPTEMBER 23\, 2024 at 4:00 p.m. \n  \n			\n				\n				\n				\n				\n				\n				\n				\n					\n\n                \n                        \n                            Annual Donkey Dash\n                        \n                        Name\n                            \n                            \n                                                    \n                                                    First\n                                                \n                            \n                            \n                                                    \n                                                    Last\n                                                \n                            \n                        AgeAddress    \n                    \n                         \n                                        \n                                        Street Address\n                                    \n                                        \n                                        Address Line 2\n                                    \n                                    \n                                    City\n                                 \n                                        \n                                        State / Province / Region\n                                      \n                                    \n                                    ZIP / Postal Code\n                                \n                                        AfghanistanAlbaniaAlgeriaAmerican SamoaAndorraAngolaAnguillaAntarcticaAntigua and BarbudaArgentinaArmeniaArubaAustraliaAustriaAzerbaijanBahamasBahrainBangladeshBarbadosBelarusBelgiumBelizeBeninBermudaBhutanBoliviaBonaire\, Sint Eustatius and SabaBosnia and HerzegovinaBotswanaBouvet IslandBrazilBritish Indian Ocean TerritoryBrunei DarussalamBulgariaBurkina FasoBurundiCabo VerdeCambodiaCameroonCanadaCayman IslandsCentral African RepublicChadChileChinaChristmas IslandCocos IslandsColombiaComorosCongoCongo\, Democratic Republic of theCook IslandsCosta RicaCroatiaCubaCuraçaoCyprusCzechiaCôte d'IvoireDenmarkDjiboutiDominicaDominican RepublicEcuadorEgyptEl SalvadorEquatorial GuineaEritreaEstoniaEswatiniEthiopiaFalkland IslandsFaroe IslandsFijiFinlandFranceFrench GuianaFrench PolynesiaFrench Southern TerritoriesGabonGambiaGeorgiaGermanyGhanaGibraltarGreeceGreenlandGrenadaGuadeloupeGuamGuatemalaGuernseyGuineaGuinea-BissauGuyanaHaitiHeard Island and McDonald IslandsHoly SeeHondurasHong KongHungaryIcelandIndiaIndonesiaIranIraqIrelandIsle of ManIsraelItalyJamaicaJapanJerseyJordanKazakhstanKenyaKiribatiKorea\, Democratic People's Republic ofKorea\, Republic ofKuwaitKyrgyzstanLao People's Democratic RepublicLatviaLebanonLesothoLiberiaLibyaLiechtensteinLithuaniaLuxembourgMacaoMadagascarMalawiMalaysiaMaldivesMaliMaltaMarshall IslandsMartiniqueMauritaniaMauritiusMayotteMexicoMicronesiaMoldovaMonacoMongoliaMontenegroMontserratMoroccoMozambiqueMyanmarNamibiaNauruNepalNetherlandsNew CaledoniaNew ZealandNicaraguaNigerNigeriaNiueNorfolk IslandNorth MacedoniaNorthern Mariana IslandsNorwayOmanPakistanPalauPalestine\, State ofPanamaPapua New GuineaParaguayPeruPhilippinesPitcairnPolandPortugalPuerto RicoQatarRomaniaRussian FederationRwandaRéunionSaint BarthélemySaint Helena\, Ascension and Tristan da CunhaSaint Kitts and NevisSaint LuciaSaint MartinSaint Pierre and MiquelonSaint Vincent and the GrenadinesSamoaSan MarinoSao Tome and PrincipeSaudi ArabiaSenegalSerbiaSeychellesSierra LeoneSingaporeSint MaartenSlovakiaSloveniaSolomon IslandsSomaliaSouth AfricaSouth Georgia and the South Sandwich IslandsSouth SudanSpainSri LankaSudanSurinameSvalbard and Jan MayenSwedenSwitzerlandSyria Arab RepublicTaiwanTajikistanTanzania\, the United Republic ofThailandTimor-LesteTogoTokelauTongaTrinidad and TobagoTunisiaTurkmenistanTurks and Caicos IslandsTuvaluTürkiyeUS Minor Outlying IslandsUgandaUkraineUnited Arab EmiratesUnited KingdomUnited StatesUruguayUzbekistanVanuatuVenezuelaViet NamVirgin Islands\, BritishVirgin Islands\, U.S.Wallis and FutunaWestern SaharaYemenZambiaZimbabweÅland Islands\n                                        Country\n                                    \n                    \n                PhoneAre you bringing a donkey\, mini horse or pony?\n								\n								Donkey\n							\n								\n								Miniature Horse\n							\n								\n								Pony\n							Email\n                            \n                        Signature\n          \n            \n            \n            \n            \n            \n            \n            \n            \n            \n            \n            \n            \n            \n        \n                        Δ
URL:https://fairfieldcountyfair.org/event/first-annual-donkey-dash/
LOCATION:Grandstand
CATEGORIES:Contests,Fair Week,Grandstand Entertainment
ATTACH;FMTTYPE=image/jpeg:https://fairfieldcountyfair.org/wp-content/uploads/2023/08/Mule-laughing.jpg
END:VEVENT
BEGIN:VEVENT
DTSTART;TZID=America/Detroit:20240824T170000
DTEND;TZID=America/Detroit:20240824T220000
DTSTAMP:20260423T212609
CREATED:20240725T130120Z
LAST-MODIFIED:20240808T130448Z
UID:10000902-1724518800-1724536800@fairfieldcountyfair.org
SUMMARY:Mt. Pleasant Shootout -Truck & Tractor Pull
DESCRIPTION:Date- August 24\, 2024\nTime: 5:00 P.M.\nOver $12\,000 in Purse Money!\nClasses:\n\nCheater Stock 4X4 Truck\n6200 Modified Stock Truck\n6500 Pro Street Gas\n8500 Stock Appearance Diesel Truck\n8000 Open Diesel & Gas Truck\n9000 Lite Limited Pro Tractor\n12\,500 Hot Farm Tractor\nStreet Legal Semi & Heavy Duty Truck\nHot Semi\n\nTickets Prices:\n\nAdults – $8.00 in advance / $10.00 day of show\nChildren (6 to 12 yrs old) – $3.00 in advance / $5.00 day of show\nunder 6 free\n\nLocations for Advance Tickets:\nBremen Bank /  Ag Pro / Foltz Equipment / North End Press / Falcon’s Nest / Plaza Barber Shop / Fairgrounds Office \nFor rules and additional information\, please visit https://sites.google.com/view/mt-pleasant-shootout/home\n \n  \n 
URL:https://fairfieldcountyfair.org/event/mt-pleasant-shootout-truck-tractor-pull-2/
LOCATION:Grandstand
CATEGORIES:Family Fun,Single Event
ATTACH;FMTTYPE=image/jpeg:https://fairfieldcountyfair.org/wp-content/uploads/2023/08/Mt-Pleasant-Shoot-Out-Logo.jpg
END:VEVENT
BEGIN:VEVENT
DTSTART;TZID=America/Detroit:20231111T083000
DTEND;TZID=America/Detroit:20231111T103000
DTSTAMP:20260423T212609
CREATED:20231108T150850Z
LAST-MODIFIED:20231108T150850Z
UID:10000712-1699691400-1699698600@fairfieldcountyfair.org
SUMMARY:Fairfield Co. United Way 5-K Run
DESCRIPTION:5K and Fun Walk\nFairfield County Fairgrounds\nThis year’s race will be on Saturday\, November 11\, 2023. So mark your calendars and register now for early bird prices!\n\n\n\n\n\n\n\nSource:: https://runsignup.com/uwfairfield5k
URL:https://fairfieldcountyfair.org/event/fairfield-co-united-way-5-k-run/
LOCATION:Grandstand
ATTACH;FMTTYPE=image/jpeg:https://fairfieldcountyfair.org/wp-content/uploads/2023/11/United-Way.jpg
END:VEVENT
BEGIN:VEVENT
DTSTART;TZID=America/Detroit:20231014T193000
DTEND;TZID=America/Detroit:20231014T223000
DTSTAMP:20260423T212609
CREATED:20221208T165513Z
LAST-MODIFIED:20230913T122903Z
UID:10000857-1697311800-1697322600@fairfieldcountyfair.org
SUMMARY:Power Wheel Class Derby
DESCRIPTION:Date of Event: \nFriday\, October 14\, 2023 \nSaturday\, October 15\, 2023 \nTime of Event: 7:10 p.m. \nLocation: Grandstand Show \nAges: 4 to 8 years old \nHere is a link to rules and signup:  \nhttps://smashitderby.com/county-fair-rules/
URL:https://fairfieldcountyfair.org/event/power-wheel-class-derby/
LOCATION:Grandstand
CATEGORIES:Contests,Fair Week,Grandstand Entertainment
ATTACH;FMTTYPE=image/jpeg:https://fairfieldcountyfair.org/wp-content/uploads/2022/12/PowerWheelFairfieldCountyFair.jpg
END:VEVENT
BEGIN:VEVENT
DTSTART;TZID=America/Detroit:20230909T120000
DTEND;TZID=America/Detroit:20230909T170000
DTSTAMP:20260423T212609
CREATED:20230907T162109Z
LAST-MODIFIED:20230907T162109Z
UID:10000524-1694260800-1694278800@fairfieldcountyfair.org
SUMMARY:Hocking Twp. Firefighters Association Car Show
DESCRIPTION:Hocking Township Firefighters Association Car Show\nDate: Saturday\, September 9\nTime: 12 noon to 5:00 p.m.\n$5.00 parking for non show cars.\n80+ trophies\, food trucks\, vendors\, 50/50\nHelp support local firefighters!
URL:https://fairfieldcountyfair.org/event/hocking-twp-firefighters-association-car-show/
LOCATION:Grandstand
ATTACH;FMTTYPE=image/jpeg:https://fairfieldcountyfair.org/wp-content/uploads/2023/09/hocking-twp-fire.jpg
END:VEVENT
BEGIN:VEVENT
DTSTART;TZID=America/Detroit:20230826T170000
DTEND;TZID=America/Detroit:20230826T223000
DTSTAMP:20260423T212609
CREATED:20230803T151715Z
LAST-MODIFIED:20230803T152503Z
UID:10000518-1693069200-1693089000@fairfieldcountyfair.org
SUMMARY:Mt. Pleasant Shootout Truck & Tractor Pull
DESCRIPTION:Mt. Pleasant Shoot Out Truck & Tractor Pull\nDate: August 26\, 2023 \nTime: Starts at 5:00 P.M. \nTicket: \n\nAdvance Tickets – $8.00 for adult\, children 6 to 12 $3.00\, children under 6 free.\nDay of the pull – $10.00 for adult\, children $5.00 and under 6 free.\n\n  \nContact: Fair Office 740-653-3041 / Dean Throckmorton 740-215-9962 \n Rules: Dean Throckmorton 740-215-9962 \nPayout Flyer – Mt. Pleasant Shootout Truck & Tractor Pull (see link below): \nhttps://drive.google.com/file/d/19OD9Npgm6UyepgnnCZolWEEA4yyd0HKp/view?usp=sharing \n2023 Rules – Mt Pleasant Shootout Truck & Tractor Pull (see link below): \nhttps://drive.google.com/file/d/14rrmE35JGZSHJVDECWEpcW-Vv6UIahkp/view?usp=sharing \n 
URL:https://fairfieldcountyfair.org/event/mt-pleasant-shootout-truck-tractor-pull/
LOCATION:Grandstand
CATEGORIES:Family Fun,Single Event
ATTACH;FMTTYPE=image/jpeg:https://fairfieldcountyfair.org/wp-content/uploads/2023/08/Mt-Pleasant-Shoot-Out-Logo.jpg
END:VEVENT
END:VCALENDAR