BEGIN:VCALENDAR
VERSION:2.0
PRODID:-//Fairfield County Fair - ECPv6.15.20//NONSGML v1.0//EN
CALSCALE:GREGORIAN
METHOD:PUBLISH
X-WR-CALNAME:Fairfield County Fair
X-ORIGINAL-URL:https://fairfieldcountyfair.org
X-WR-CALDESC:Events for Fairfield County Fair
REFRESH-INTERVAL;VALUE=DURATION:PT1H
X-Robots-Tag:noindex
X-PUBLISHED-TTL:PT1H
BEGIN:VTIMEZONE
TZID:America/Detroit
BEGIN:DAYLIGHT
TZOFFSETFROM:-0500
TZOFFSETTO:-0400
TZNAME:EDT
DTSTART:20220313T070000
END:DAYLIGHT
BEGIN:STANDARD
TZOFFSETFROM:-0400
TZOFFSETTO:-0500
TZNAME:EST
DTSTART:20221106T060000
END:STANDARD
BEGIN:DAYLIGHT
TZOFFSETFROM:-0500
TZOFFSETTO:-0400
TZNAME:EDT
DTSTART:20230312T070000
END:DAYLIGHT
BEGIN:STANDARD
TZOFFSETFROM:-0400
TZOFFSETTO:-0500
TZNAME:EST
DTSTART:20231105T060000
END:STANDARD
BEGIN:DAYLIGHT
TZOFFSETFROM:-0500
TZOFFSETTO:-0400
TZNAME:EDT
DTSTART:20240310T070000
END:DAYLIGHT
BEGIN:STANDARD
TZOFFSETFROM:-0400
TZOFFSETTO:-0500
TZNAME:EST
DTSTART:20241103T060000
END:STANDARD
BEGIN:DAYLIGHT
TZOFFSETFROM:-0500
TZOFFSETTO:-0400
TZNAME:EDT
DTSTART:20250309T070000
END:DAYLIGHT
BEGIN:STANDARD
TZOFFSETFROM:-0400
TZOFFSETTO:-0500
TZNAME:EST
DTSTART:20251102T060000
END:STANDARD
END:VTIMEZONE
BEGIN:VEVENT
DTSTART;TZID=America/Detroit:20240824T170000
DTEND;TZID=America/Detroit:20240824T220000
DTSTAMP:20260423T223946
CREATED:20240725T130120Z
LAST-MODIFIED:20240808T130448Z
UID:10000902-1724518800-1724536800@fairfieldcountyfair.org
SUMMARY:Mt. Pleasant Shootout -Truck & Tractor Pull
DESCRIPTION:Date- August 24\, 2024\nTime: 5:00 P.M.\nOver $12\,000 in Purse Money!\nClasses:\n\nCheater Stock 4X4 Truck\n6200 Modified Stock Truck\n6500 Pro Street Gas\n8500 Stock Appearance Diesel Truck\n8000 Open Diesel & Gas Truck\n9000 Lite Limited Pro Tractor\n12\,500 Hot Farm Tractor\nStreet Legal Semi & Heavy Duty Truck\nHot Semi\n\nTickets Prices:\n\nAdults – $8.00 in advance / $10.00 day of show\nChildren (6 to 12 yrs old) – $3.00 in advance / $5.00 day of show\nunder 6 free\n\nLocations for Advance Tickets:\nBremen Bank /  Ag Pro / Foltz Equipment / North End Press / Falcon’s Nest / Plaza Barber Shop / Fairgrounds Office \nFor rules and additional information\, please visit https://sites.google.com/view/mt-pleasant-shootout/home\n \n  \n 
URL:https://fairfieldcountyfair.org/event/mt-pleasant-shootout-truck-tractor-pull-2/
LOCATION:Grandstand
CATEGORIES:Family Fun,Single Event
ATTACH;FMTTYPE=image/jpeg:https://fairfieldcountyfair.org/wp-content/uploads/2023/08/Mt-Pleasant-Shoot-Out-Logo.jpg
END:VEVENT
BEGIN:VEVENT
DTSTART;TZID=America/Detroit:20231111T083000
DTEND;TZID=America/Detroit:20231111T103000
DTSTAMP:20260423T223946
CREATED:20231108T150850Z
LAST-MODIFIED:20231108T150850Z
UID:10000712-1699691400-1699698600@fairfieldcountyfair.org
SUMMARY:Fairfield Co. United Way 5-K Run
DESCRIPTION:5K and Fun Walk\nFairfield County Fairgrounds\nThis year’s race will be on Saturday\, November 11\, 2023. So mark your calendars and register now for early bird prices!\n\n\n\n\n\n\n\nSource:: https://runsignup.com/uwfairfield5k
URL:https://fairfieldcountyfair.org/event/fairfield-co-united-way-5-k-run/
LOCATION:Grandstand
ATTACH;FMTTYPE=image/jpeg:https://fairfieldcountyfair.org/wp-content/uploads/2023/11/United-Way.jpg
END:VEVENT
BEGIN:VEVENT
DTSTART;TZID=America/Detroit:20231014T193000
DTEND;TZID=America/Detroit:20231014T223000
DTSTAMP:20260423T223946
CREATED:20221208T165513Z
LAST-MODIFIED:20230913T122903Z
UID:10000857-1697311800-1697322600@fairfieldcountyfair.org
SUMMARY:Power Wheel Class Derby
DESCRIPTION:Date of Event: \nFriday\, October 14\, 2023 \nSaturday\, October 15\, 2023 \nTime of Event: 7:10 p.m. \nLocation: Grandstand Show \nAges: 4 to 8 years old \nHere is a link to rules and signup:  \nhttps://smashitderby.com/county-fair-rules/
URL:https://fairfieldcountyfair.org/event/power-wheel-class-derby/
LOCATION:Grandstand
CATEGORIES:Contests,Fair Week,Grandstand Entertainment
ATTACH;FMTTYPE=image/jpeg:https://fairfieldcountyfair.org/wp-content/uploads/2022/12/PowerWheelFairfieldCountyFair.jpg
END:VEVENT
BEGIN:VEVENT
DTSTART;TZID=America/Detroit:20230909T120000
DTEND;TZID=America/Detroit:20230909T170000
DTSTAMP:20260423T223946
CREATED:20230907T162109Z
LAST-MODIFIED:20230907T162109Z
UID:10000524-1694260800-1694278800@fairfieldcountyfair.org
SUMMARY:Hocking Twp. Firefighters Association Car Show
DESCRIPTION:Hocking Township Firefighters Association Car Show\nDate: Saturday\, September 9\nTime: 12 noon to 5:00 p.m.\n$5.00 parking for non show cars.\n80+ trophies\, food trucks\, vendors\, 50/50\nHelp support local firefighters!
URL:https://fairfieldcountyfair.org/event/hocking-twp-firefighters-association-car-show/
LOCATION:Grandstand
ATTACH;FMTTYPE=image/jpeg:https://fairfieldcountyfair.org/wp-content/uploads/2023/09/hocking-twp-fire.jpg
END:VEVENT
BEGIN:VEVENT
DTSTART;TZID=America/Detroit:20230826T170000
DTEND;TZID=America/Detroit:20230826T223000
DTSTAMP:20260423T223946
CREATED:20230803T151715Z
LAST-MODIFIED:20230803T152503Z
UID:10000518-1693069200-1693089000@fairfieldcountyfair.org
SUMMARY:Mt. Pleasant Shootout Truck & Tractor Pull
DESCRIPTION:Mt. Pleasant Shoot Out Truck & Tractor Pull\nDate: August 26\, 2023 \nTime: Starts at 5:00 P.M. \nTicket: \n\nAdvance Tickets – $8.00 for adult\, children 6 to 12 $3.00\, children under 6 free.\nDay of the pull – $10.00 for adult\, children $5.00 and under 6 free.\n\n  \nContact: Fair Office 740-653-3041 / Dean Throckmorton 740-215-9962 \n Rules: Dean Throckmorton 740-215-9962 \nPayout Flyer – Mt. Pleasant Shootout Truck & Tractor Pull (see link below): \nhttps://drive.google.com/file/d/19OD9Npgm6UyepgnnCZolWEEA4yyd0HKp/view?usp=sharing \n2023 Rules – Mt Pleasant Shootout Truck & Tractor Pull (see link below): \nhttps://drive.google.com/file/d/14rrmE35JGZSHJVDECWEpcW-Vv6UIahkp/view?usp=sharing \n 
URL:https://fairfieldcountyfair.org/event/mt-pleasant-shootout-truck-tractor-pull/
LOCATION:Grandstand
CATEGORIES:Family Fun,Single Event
ATTACH;FMTTYPE=image/jpeg:https://fairfieldcountyfair.org/wp-content/uploads/2023/08/Mt-Pleasant-Shoot-Out-Logo.jpg
END:VEVENT
END:VCALENDAR